Workbook

Sheet Skupni podatki
A4: IME UPRAVIČENCA | B4: TEST
A8: Strateška področja | B8: Stroški 2027 | C8: Stroški 2028 | D8: Stroški 2029 | E8: SKUPAJ 2027 - 2029
A9: splošni stroški organizacije | B9: ='finančni načrt'!C26 -> 11000 | C9: ='finančni načrt'!D26 -> 10200 | D9: ='finančni načrt'!E26 -> 6500 | E9: =SUM(B9:D9) -> 27700
A10: Strateško področje 1 | B10: ='finančni načrt'!C51 -> 8500 | C10: ='finančni načrt'!D51 -> 6500 | D10: ='finančni načrt'!E51 -> 6000 | E10: =SUM(B10:D10) -> 21000
A11: Strateško področje 2 | B11: ='finančni načrt'!C76 -> 18500 | C11: ='finančni načrt'!D76 -> 17500 | D11: ='finančni načrt'!E76 -> 9500 | E11: =SUM(B11:D11) -> 45500
A12: Strateško področje 3 | B12: ='finančni načrt'!C101 -> 17200 | C12: ='finančni načrt'!D101 -> 17400 | D12: ='finančni načrt'!E101 -> 10700 | E12: =SUM(B12:D12) -> 45300
A13: Strateško področje 4 | B13: ='finančni načrt'!C126 -> 14000 | C13: ='finančni načrt'!D126 -> 13200 | D13: ='finančni načrt'!E126 -> 8000 | E13: =SUM(B13:D13) -> 35200
A14: Strateško področje 5 | B14: ='finančni načrt'!C151 -> 17500 | C14: ='finančni načrt'!D151 -> 16700 | D14: ='finančni načrt'!E151 -> 9500 | E14: =SUM(B14:D14) -> 43700
A15: SKUPAJ | B15: =SUM(B9:B14) -> 86700 | C15: =SUM(C9:C14) -> 81500 | D15: =SUM(D9:D14) -> 50200 | E15: =SUM(E9:E14) -> 218400
A19: PREDVIDENI PRIHODKI | B19: Prihodki 2027 | C19: prihodki 2028 | D19: prihodki 2029 | E19: SKUPAJ 2027 - 2029
A20: za splošno delovanje organizacije | B20: ='finančni načrt'!C37 -> 0 | C20: ='finančni načrt'!D37 -> 0 | D20: ='finančni načrt'!E37 -> 0 | E20: =SUM(B20:D20) -> 0
A21: Strateško področje 1 | B21: ='finančni načrt'!C62 -> 0 | C21: ='finančni načrt'!D62 -> 0 | D21: ='finančni načrt'!E62 -> 0 | E21: =SUM(B21:D21) -> 0
A22: Strateško področje 2 | B22: ='finančni načrt'!C87 -> 0 | C22: ='finančni načrt'!D87 -> 0 | D22: ='finančni načrt'!E87 -> 0 | E22: =SUM(B22:D22) -> 0
A23: Strateško področje 3 | B23: ='finančni načrt'!C112 -> 0 | C23: ='finančni načrt'!D112 -> 0 | D23: ='finančni načrt'!E112 -> 0 | E23: =SUM(B23:D23) -> 0
A24: Strateško področje 4 | B24: ='finančni načrt'!C137 -> 0 | C24: ='finančni načrt'!D137 -> 0 | D24: ='finančni načrt'!E137 -> 0 | E24: =SUM(B24:D24) -> 0
A25: Strateško področje 5 | B25: ='finančni načrt'!C162 -> 0 | C25: ='finančni načrt'!D162 -> 0 | D25: ='finančni načrt'!E162 -> 0 | E25: =SUM(B25:D25) -> 0
A26: SKUPAJ | B26: =SUM(B20:B25) -> 0 | C26: =SUM(C20:C25) -> 0 | D26: =SUM(D20:D25) -> 0 | E26: =SUM(E20:E25) -> 0
A30: Sklad CSF Slovenija upravlja | C30: v sodelovanju s | D30: in
A33: * organizacije, katerih podpora bo trajala 48 mesecev morate ustrezno prilagoditi tabelo. Če potrebujete pomoč, nam pišite.

Sheet finančni načrt
A2: NAVODILA
A3: Vpisujte le v polja, označena z modro barvo. Ostala polja se izpolnijo samodejno oziroma podatke vpiše skrbnik pogodbe.
A4: Vsi zneski morajo biti v EUR. Pri preračunu iz tuje valute upoštevajte menjalni tečaj na dan plačila pri Banki Slovenije.
A5: Številke zaokrožite na 100. Gre za ilustrativni proračun, ne dejanskega.
A6: Vsi primeri pri opisih stroškov so navedeni le kot primer, da bi vam olajšali izpolnjevanje. Prav tako so vsi viri, razen Program CSF Slovenija, le ilustrativne narave.
A7: Pred izpolnjevanjem vzorčne podatke v modrih poljih finančnega obrazca počistite ter vpišite svoje podatke.
A9: IME UPRAVIČENCA | B9: ='Skupni podatki'!B4 -> TEST
A13: STROŠKI ZA DELOVANJE ORGANIZACIJE (splošni stroški)
A14: PREDVIDENI STROŠKI
A15: VRSTA STROŠKA | B15: OPIS STROŠKA | C15: PREDVIDEN ZNESEK za leto 2027 | D15: PREDVIDEN ZNESEK za leto 2028 | E15: PREDVIDEN ZNESEK za leto 2029
A16: stroški osebja | B16: stroški vodje pisarne, direktorja (v deležu, ko ne dela na programih), stroški administratorjev, računovodij ipd. | C16: 2000 | D16: 2000 | E16: 1500
A17: potni stroški | B17: vezani na delovanje organizacije (npr. za teambuliding, prevoz finančne dokumnetacije v računovostvo …) | C17: 2000 | D17: 2000 | E17: 1500
A18: stroški zunanjih izvajalcev | B18: npr. za zunanje računovodstvo, revizijo ipd. | C18: 3500 | D18: 3500 | E18: 2500
A19: stroški nakupa/najema opreme in obnove prostorov | B19: za opremo osnovne pisarne … | C19: 500 | D19: 700 | E19: 500
A20: posredni stroški | B20: najemnina, elektrika, telefoni, internet … | C20: 3000 | D20: 2000 | E20: 500
A22: DRUGI STROŠKI
A26: Skupaj stroški za delovanje organizacije | C26: =SUM(C16:C25) -> 11000 | D26: =SUM(D16:D25) -> 10200 | E26: =SUM(E16:E25) -> 6500
A27: PREDVIDENI PRIHODKI
A28: VIR | B28: OPIS | C28: PREDVIDEN ZNESEK za leto 2027 | D28: PREDVIDEN ZNESEK za leto 2028 | E28: PREDVIDEN ZNESEK za leto 2029
A29: Program CSF Slovenija | B29: predplačila sklada Civil Society Fund Slovenija
A30: ministrstva
A31: EU viri
A32: občinski viri
A33: donacije fizičnih oseb
A34: sponzorstva in donacije pravnih oseb
A35: članarine
A36: fundacije …
A37: Skupaj predvideni prihodki | C37: =SUM(C27:C36) -> 0 | D37: =SUM(D27:D36) -> 0 | E37: =SUM(E27:E36) -> 0
A39: STRATEŠKO PODROČJE 1: npr. mladinski center
A40: PREDVIDENI STROŠKI
A41: VRSTA STROŠKA | B41: OPIS STROŠKA | C41: PREDVIDEN ZNESEK za leto 2027 | D41: PREDVIDEN ZNESEK za leto 2028 | E41: PREDVIDEN ZNESEK za leto 2029
A42: stroški osebja | B42: npr. v letu 2027 5 zaposlenih, ki dela na programu 20 % časa, 2 pa v obsegu 10 % delovnega časa - v letu 2030 pa 5 zaposlenih s 30 % časa in 2 zaposlena s 15 % delovnega časa | C42: 4000 | D42: 3500 | E42: 3000
A43: potni stroški | B43: udeležba na mednarodnih srečanjih/usposabljanjih | C43: 1000 | D43: 1000 | E43: 1000
A44: stroški zunanjih izvajalcev | B44: strokovnjaki za usposabljanja, promocijske aktivnosti | C44: 1500 | D44: 1000 | E44: 500
A45: stroški nakupa/najema opreme in obnove prostorov | B45: oprema prostora (mize, stoli), tehnična oprema MC (TV, projektor) | C45: 1000 | D45: 0 | E45: 500
A46: stroški razvoja programa/področja | B46: usposabljanja zaposlenih za samostojno izvedbo delavnic, usposabljanja zaposlenih za pridobivanje sredstev na področju mladine, mreženje in povezovanje z organizacijami v tujini | C46: 1000 | D46: 1000 | E46: 1000
A47: DRUGI STROŠKI
A51: Skupaj predvideni stroški strateškega področja 1 | C51: =SUM(C42:C50) -> 8500 | D51: =SUM(D42:D50) -> 6500 | E51: =SUM(E42:E50) -> 6000
A52: PREDVIDENI PRIHODKI
A53: VIR | B53: OPIS | C53: PREDVIDEN ZNESEK za leto 2027 | D53: PREDVIDEN ZNESEK za leto 2028 | E53: PREDVIDEN ZNESEK za leto 2029
...
