Workbook

Sheet Skupni podatki
A4: IME UPRAVIČENCA | B4: TEST
A8: Strateška področja | B8: Stroški 2027 | C8: Stroški 2028 | D8: Stroški 2029 | E8: SKUPAJ 2027 - 2029
A9: splošni stroški organizacije | B9: ='finančni načrt'!C26 -> 11000 | C9: ='finančni načrt'!D26 -> 10200 | D9: ='finančni načrt'!E26 -> 6500 | E9: =SUM(B9:D9) -> 27700
A10: Strateško področje 1 | B10: ='finančni načrt'!C51 -> 8500 | C10: ='finančni načrt'!D51 -> 6500 | D10: ='finančni načrt'!E51 -> 6000 | E10: =SUM(B10:D10) -> 21000
A11: Strateško področje 2 | B11: ='finančni načrt'!C76 -> 18500 | C11: ='finančni načrt'!D76 -> 17500 | D11: ='finančni načrt'!E76 -> 9500 | E11: =SUM(B11:D11) -> 45500
A12: Strateško področje 3 | B12: ='finančni načrt'!C101 -> 17200 | C12: ='finančni načrt'!D101 -> 17400 | D12: ='finančni načrt'!E101 -> 10700 | E12: =SUM(B12:D12) -> 45300
A13: Strateško področje 4 | B13: ='finančni načrt'!C126 -> 14000 | C13: ='finančni načrt'!D126 -> 13200 | D13: ='finančni načrt'!E126 -> 8000 | E13: =SUM(B13:D13) -> 35200
A14: Strateško področje 5 | B14: ='finančni načrt'!C151 -> 17500 | C14: ='finančni načrt'!D151 -> 16700 | D14: ='finančni načrt'!E151 -> 9500 | E14: =SUM(B14:D14) -> 43700
A15: SKUPAJ | B15: =SUM(B9:B14) -> 86700 | C15: =SUM(C9:C14) -> 81500 | D15: =SUM(D9:D14) -> 50200 | E15: =SUM(E9:E14) -> 218400
A19: PREDVIDENI PRIHODKI | B19: Prihodki 2027 | C19: prihodki 2028 | D19: prihodki 2029 | E19: SKUPAJ 2027 - 2029
A20: za splošno delovanje organizacije | B20: ='finančni načrt'!C37 -> 0 | C20: ='finančni načrt'!D37 -> 0 | D20: ='finančni načrt'!E37 -> 0 | E20: =SUM(B20:D20) -> 0
A21: Strateško področje 1 | B21: ='finančni načrt'!C62 -> 0 | C21: ='finančni načrt'!D62 -> 0 | D21: ='finančni načrt'!E62 -> 0 | E21: =SUM(B21:D21) -> 0
A22: Strateško področje 2 | B22: ='finančni načrt'!C87 -> 0 | C22: ='finančni načrt'!D87 -> 0 | D22: ='finančni načrt'!E87 -> 0 | E22: =SUM(B22:D22) -> 0
A23: Strateško področje 3 | B23: ='finančni načrt'!C112 -> 0 | C23: ='finančni načrt'!D112 -> 0 | D23: ='finančni načrt'!E112 -> 0 | E23: =SUM(B23:D23) -> 0
A24: Strateško področje 4 | B24: ='finančni načrt'!C137 -> 0 | C24: ='finančni načrt'!D137 -> 0 | D24: ='finančni načrt'!E137 -> 0 | E24: =SUM(B24:D24) -> 0
A25: Strateško področje 5 | B25: ='finančni načrt'!C162 -> 0 | C25: ='finančni načrt'!D162 -> 0 | D25: ='finančni načrt'!E162 -> 0 | E25: =SUM(B25:D25) -> 0
A26: SKUPAJ | B26: =SUM(B20:B25) -> 0 | C26: =SUM(C20:C25) -> 0 | D26: =SUM(D20:D25) -> 0 | E26: =SUM(E20:E25) -> 0
A30: Sklad CSF Slovenija upravlja | C30: v sodelovanju s | D30: in
A33: * organizacije, katerih podpora bo trajala 48 mesecev morate ustrezno prilagoditi tabelo. Če potrebujete pomoč, nam pišite.

Sheet finančni načrt
A2: NAVODILA
A3: Vpisujte le v polja, označena z modro barvo. Ostala polja se izpolnijo samodejno oziroma podatke vpiše skrbnik pogodbe.
A4: Vsi zneski morajo biti v EUR. Pri preračunu iz tuje valute upoštevajte menjalni tečaj na dan plačila pri Banki Slovenije.
A5: Številke zaokrožite na 100. Gre za ilustrativni proračun, ne dejanskega.
A6: Vsi primeri pri opisih stroškov so navedeni le kot primer, da bi vam olajšali izpolnjevanje. Prav tako so vsi viri, razen Program CSF Slovenija, le ilustrativne narave.
A7: Pred izpolnjevanjem vzorčne podatke v modrih poljih finančnega obrazca počistite ter vpišite svoje podatke.
A9: IME UPRAVIČENCA | B9: ='Skupni podatki'!B4 -> TEST
A13: STROŠKI ZA DELOVANJE ORGANIZACIJE (splošni stroški)
A14: PREDVIDENI STROŠKI
A15: VRSTA STROŠKA | B15: OPIS STROŠKA | C15: PREDVIDEN ZNESEK za leto 2027 | D15: PREDVIDEN ZNESEK za leto 2028 | E15: PREDVIDEN ZNESEK za leto 2029
A16: stroški osebja | B16: stroški vodje pisarne, direktorja (v deležu, ko ne dela na programih), stroški administratorjev, računovodij ipd. | C16: 2000 | D16: 2000 | E16: 1500
A17: potni stroški | B17: vezani na delovanje organizacije (npr. za teambuliding, prevoz finančne dokumnetacije v računovostvo …) | C17: 2000 | D17: 2000 | E17: 1500
A18: stroški zunanjih izvajalcev | B18: npr. za zunanje računovodstvo, revizijo ipd. | C18: 3500 | D18: 3500 | E18: 2500
A19: stroški nakupa/najema opreme in obnove prostorov | B19: za opremo osnovne pisarne … | C19: 500 | D19: 700 | E19: 500
A20: posredni stroški | B20: najemnina, elektrika, telefoni, internet … | C20: 3000 | D20: 2000 | E20: 500
A22: DRUGI STROŠKI
A26: Skupaj stroški za delovanje organizacije | C26: =SUM(C16:C25) -> 11000 | D26: =SUM(D16:D25) -> 10200 | E26: =SUM(E16:E25) -> 6500
A27: PREDVIDENI PRIHODKI
A28: VIR | B28: OPIS | C28: PREDVIDEN ZNESEK za leto 2027 | D28: PREDVIDEN ZNESEK za leto 2028 | E28: PREDVIDEN ZNESEK za leto 2029
A29: Program CSF Slovenija | B29: predplačila sklada Civil Society Fund Slovenija
A30: ministrstva
A31: EU viri
A32: občinski viri
A33: donacije fizičnih oseb
A34: sponzorstva in donacije pravnih oseb
A35: članarine
A36: fundacije …
A37: Skupaj predvideni prihodki | C37: =SUM(C27:C36) -> 0 | D37: =SUM(D27:D36) -> 0 | E37: =SUM(E27:E36) -> 0
A39: STRATEŠKO PODROČJE 1: npr. mladinski center
A40: PREDVIDENI STROŠKI
A41: VRSTA STROŠKA | B41: OPIS STROŠKA | C41: PREDVIDEN ZNESEK za leto 2027 | D41: PREDVIDEN ZNESEK za leto 2028 | E41: PREDVIDEN ZNESEK za leto 2029
A42: stroški osebja | B42: npr. v letu 2027 5 zaposlenih, ki dela na programu 20 % časa, 2 pa v obsegu 10 % delovnega časa - v letu 2030 pa 5 zaposlenih s 30 % časa in 2 zaposlena s 15 % delovnega časa | C42: 4000 | D42: 3500 | E42: 3000
A43: potni stroški | B43: udeležba na mednarodnih srečanjih/usposabljanjih | C43: 1000 | D43: 1000 | E43: 1000
A44: stroški zunanjih izvajalcev | B44: strokovnjaki za usposabljanja, promocijske aktivnosti | C44: 1500 | D44: 1000 | E44: 500
A45: stroški nakupa/najema opreme in obnove prostorov | B45: oprema prostora (mize, stoli), tehnična oprema MC (TV, projektor) | C45: 1000 | D45: 0 | E45: 500
A46: stroški razvoja programa/področja | B46: usposabljanja zaposlenih za samostojno izvedbo delavnic, usposabljanja zaposlenih za pridobivanje sredstev na področju mladine, mreženje in povezovanje z organizacijami v tujini | C46: 1000 | D46: 1000 | E46: 1000
A47: DRUGI STROŠKI
A51: Skupaj predvideni stroški strateškega področja 1 | C51: =SUM(C42:C50) -> 8500 | D51: =SUM(D42:D50) -> 6500 | E51: =SUM(E42:E50) -> 6000
A52: PREDVIDENI PRIHODKI
A53: VIR | B53: OPIS | C53: PREDVIDEN ZNESEK za leto 2027 | D53: PREDVIDEN ZNESEK za leto 2028 | E53: PREDVIDEN ZNESEK za leto 2029
A54: Program CSF Slovenija | B54: predplačila sklada Civil Society Fund Slovenija
A55: ministrstva
A56: EU viri
A57: občinski viri
A58: donacije fizičnih oseb
A59: sponzorstva in donacije pravnih oseb
A60: članarine
A61: fundacije …
A62: Skupaj predvideni prihodki | C62: =SUM(C52:C61) -> 0 | D62: =SUM(D52:D61) -> 0 | E62: =SUM(E52:E61) -> 0
A64: STRATEŠKO PODROČJE 2: npr. zagovorništvo
A65: PREDVIDENI STROŠKI
A66: VRSTA STROŠKA | B66: OPIS STROŠKA | C66: PREDVIDEN ZNESEK za leto 2027 | D66: PREDVIDEN ZNESEK za leto 2028 | E66: PREDVIDEN ZNESEK za leto 2029
A67: stroški osebja | B67: npr. v letu 2027 5 zaposlenih, ki dela na programu 20 % časa, 2 pa v obsegu 10 % delovnega časa - v letu 2030 pa 5 zaposlenih s 30 % časa in 2 zaposlena s 15 % delovnega časa | C67: 10000 | D67: 10000 | E67: 5000
A68: potni stroški | B68: udeležba na mednarodnih srečanjih/usposabljanjih | C68: 2000 | D68: 2000 | E68: 1500
A69: stroški zunanjih izvajalcev | B69: strokovnjaki za usposabljanja, promocijske aktivnosti | C69: 3500 | D69: 3500 | E69: 2500
A70: stroški nakupa/najema opreme in obnove prostorov | B70: oprema prostora (mize, stoli), tehnična oprema MC (TV, projektor) | C70: 0 | D70: 0 | E70: 0
A71: stroški razvoja programa/področja | B71: usposabljanja zaposlenih za samostojno izvedbo delavnic, usposabljanja zaposlenih za pridobivanje sredstev na področju mladine, mreženje in povezovanje z organizacijami v tujini | C71: 3000 | D71: 2000 | E71: 500
A72: DRUGI STROŠKI
A76: Skupaj predvideni stroški strateškega področja 2 | C76: =SUM(C67:C75) -> 18500 | D76: =SUM(D67:D75) -> 17500 | E76: =SUM(E67:E75) -> 9500
A77: PREDVIDENI PRIHODKI
A78: VIR | B78: OPIS | C78: PREDVIDEN ZNESEK za leto 2027 | D78: PREDVIDEN ZNESEK za leto 2028 | E78: PREDVIDEN ZNESEK za leto 2029
A79: Program CSF Slovenija | B79: predplačila sklada Civil Society Fund Slovenija
A80: ministrstva
A81: EU viri
A82: občinski viri
A83: donacije fizičnih oseb
A84: sponzorstva in donacije pravnih oseb
A85: članarine
A86: fundacije …
A87: Skupaj predvideni prihodki | C87: =SUM(C77:C86) -> 0 | D87: =SUM(D77:D86) -> 0 | E87: =SUM(E77:E86) -> 0
A89: STRATEŠKO PODROČJE 3: npr. razvoj socialnega podjetništva
A90: PREDVIDENI STROŠKI
A91: VRSTA STROŠKA | B91: OPIS STROŠKA | C91: PREDVIDEN ZNESEK za leto 2027 | D91: PREDVIDEN ZNESEK za leto 2028 | E91: PREDVIDEN ZNESEK za leto 2029
A92: stroški osebja | B92: npr. v letu 2027 5 zaposlenih, ki dela na programu 20 % časa, 2 pa v obsegu 10 % delovnega časa - v letu 2030 pa 5 zaposlenih s 30 % časa in 2 zaposlena s 15 % delovnega časa | C92: 10000 | D92: 10000 | E92: 5000
A93: potni stroški | B93: udeležba na mednarodnih srečanjih/usposabljanjih | C93: 2000 | D93: 2000 | E93: 1500
A94: stroški zunanjih izvajalcev | B94: strokovnjaki za usposabljanja, promocijske aktivnosti | C94: 3500 | D94: 3500 | E94: 2500
A95: stroški nakupa/najema opreme in obnove prostorov | B95: oprema prostora (mize, stoli), tehnična oprema MC (TV, projektor) | C95: 500 | D95: 700 | E95: 500
A96: stroški razvoja programa/področja | B96: usposabljanja zaposlenih za samostojno izvedbo delavnic, usposabljanja zaposlenih za pridobivanje sredstev na področju mladine, mreženje in povezovanje z organizacijami v tujini | C96: 1200 | D96: 1200 | E96: 1200
A97: DRUGI STROŠKI
A101: Skupaj predvideni stroški strateškega področja 3 | C101: =SUM(C92:C100) -> 17200 | D101: =SUM(D92:D100) -> 17400 | E101: =SUM(E92:E100) -> 10700
A102: PREDVIDENI PRIHODKI
A103: VIR | B103: OPIS | C103: PREDVIDEN ZNESEK za leto 2027 | D103: PREDVIDEN ZNESEK za leto 2028 | E103: PREDVIDEN ZNESEK za leto 2029
A104: Program CSF Slovenija | B104: predplačila sklada Civil Society Fund Slovenija
A105: ministrstva
A106: EU viri
A107: občinski viri
A108: donacije fizičnih oseb
A109: sponzorstva in donacije pravnih oseb
A110: članarine
A111: fundacije …
A112: Skupaj predvideni prihodki | C112: =SUM(C102:C111) -> 0 | D112: =SUM(D102:D111) -> 0 | E112: =SUM(E102:E111) -> 0
A114: STRATEŠKO PODROČJE 4: npr. vzpostavitev centra za izobraževanje
A115: PREDVIDENI STROŠKI
A116: VRSTA STROŠKA | B116: OPIS STROŠKA | C116: PREDVIDEN ZNESEK za leto 2027 | D116: PREDVIDEN ZNESEK za leto 2028 | E116: PREDVIDEN ZNESEK za leto 2029
A117: stroški osebja | B117: npr. v letu 2027 5 zaposlenih, ki dela na programu 20 % časa, 2 pa v obsegu 10 % delovnega časa - v letu 2030 pa 5 zaposlenih s 30 % časa in 2 zaposlena s 15 % delovnega časa | C117: 5000 | D117: 5000 | E117: 3000
A118: potni stroški | B118: udeležba na mednarodnih srečanjih/usposabljanjih | C118: 2000 | D118: 2000 | E118: 1500
A119: stroški zunanjih izvajalcev | B119: strokovnjaki za usposabljanja, promocijske aktivnosti | C119: 3500 | D119: 3500 | E119: 2500
A120: stroški nakupa/najema opreme in obnove prostorov | B120: oprema prostora (mize, stoli), tehnična oprema MC (TV, projektor) | C120: 500 | D120: 700 | E120: 500
A121: stroški razvoja programa/področja | B121: usposabljanja zaposlenih za samostojno izvedbo delavnic, usposabljanja zaposlenih za pridobivanje sredstev na področju mladine, mreženje in povezovanje z organizacijami v tujini | C121: 3000 | D121: 2000 | E121: 500
A122: DRUGI STROŠKI
...
