Workbook

Sheet kalkulačka_roz_zjed.
B1: KALKULAČKA - Malé granty
B3: Rozpočtové oprávnené výdavky | C3: Plánované výdavky projektu / rozpočet | D3: Kalkulácia rozpočtu typu A paušál 100 % oprávnených priamych mzdových nákladov môže byť použitých na pokrytie všetkých ostatných oprávnených výdavkov. | G3: Kalkulácia rozpočtu typu B nepriame výdavky paušál t.j. 7 % z oprávnených priamych nákladov | J3: Kalkulácia rozpočtu typu C nepriame výdavky paušál t.j. 15 % z oprávnených osobných výdavkov
B4: Priame výdavky | E4: Dokladovanie | G4: Priame výdavky | H4: Dokladovanie | J4: Priame výdavky | K4: Dokladovanie
B5: Osobné výdavky | C5: 12500 | D5: Osobné výdavky | E5: - pri použití reálnej mzdy (výplatné pásky, úhrada miezd) - pri použití vypočítanej jednotkovej ceny (hodinovej sadzby) výkazmi práce. | F5: 12500 | G5: Osobné výdavky | H5: - pri použití reálnej mzdy (výplatné pásky, úhrada miezd) - pri použití vypočítanej jednotkovej ceny (hodinovej sadzby) výkazmi práce. | I5: 5000 | J5: Osobné výdavky | K5: - pri použití reálnej mzdy (výplatné pásky, úhrada miezd) - pri použití vypočítanej jednotkovej ceny (hodinovej sadzby) výkazmi práce. | L5: 5000
B6: Ostatné priame (Cestovné výdavky, Spotrebný materiál, Výdavky na vybavenie, Služby (subdodávky), Iné) | C6: =C5*1 -> 12500 | D6: Ostatné výdavky - paušál | E6: nie | F6: =F5*1 -> 12500 | G6: Ostatné priame (Cestovné výdavky, Spotrebný materiál, Výdavky na vybavenie, Služby (subdodávky), Iné) | H6: áno | I6: 18000 | J6: Ostatné priame (Cestovné výdavky, Spotrebný materiál, Výdavky na vybavenie, Služby (subdodávky), Iné) | K6: áno | L6: 18000
B7: Nepriame výdavky | C7: NA | G7: Nepriame výdavky | H7: nie | I7: =(I5+I6)*0.07 -> 1610 | J7: Nepriame výdavky | K7: nie | L7: =L5*0.15 -> 750
B8: Spolu | C8: =SUM(C5:C7) -> 25000 | D8: Spolu | F8: =SUM(F5:F7) -> 25000 | G8: Spolu | I8: =SUM(I5:I7) -> 24610 | J8: Spolu | L8: =SUM(L5:L7) -> 23750

Sheet Vysvetlenie_k_súboru avyplneniu
A2: Kroky | B2: Vysvetlenie k jednotlivým hárkom súboru a k vyplneniu rozpočtu malého grantu
B3: Podfarbené bunky prosíme nevypĺňať - ich hodnoty sú generované automaticky. Súbor je spracovaný v 5-tich hárkoch, ktoré sú automaticky previazané, preto je dôležité, aby ste zvolil správnu postupnosť krokov pri vypĺňaní.
A4: Krok 1: Hárok: typy_grantov | B4: Tento hárok predstavuje ucelený prehľad typov, dlžke, ch projetov a možnosti zjedndušeného vykazovania. Nie je určený na vypĺňanie.
A5: riadky v hárku | B5: Inštrukcie k vyplneniu jednotlivých riadkov
A6: 5. - 7. | B6: Vyplňte riadky 5.-7.,
A7: 9. | B7: Obdobie realizácie "od" uveďte vo formáte: 01/MM/RRRR ( napr: 01.10.2021) Obdobie realizácie "do" uveďte vo formáte: 31/MM/RRRR ( napr: 31.12.2022)
A8: 10. | B8: Riadok 10 sa vyplní automaticky.
A9: 11-13. | B9: V prípade, že máte partnerov, vyplňte riadky 11-13., ak partnerov nemáte, ostane v riadku č. 11 nula.
A10: 32. | B10: Vyplňte bunku "Výška spolufinancovanie (min. 10%)", uveďte % hodnotu spolufinancovania v celých číslach. Výška požadovaného grantu sa Vám automaticky vypočíta pri zaokrúhlení na celé eurá.
A11: Rozpočet_Žiadateľ
B12: Inštrukcie k vyplneniu jednotlivých riadkov / stĺpcov
A13: Krok 2: Hárok: kalkulačka_na_typ_grantu | B13: Tento hárok slúži k tomu, aby ste sa pomocou kalkulačky mohli rozhodnúť pre optimálny typ ropočtu projektu.
A14: riadky 5.-11. v stĺpci C | B14: Vyplňte iba riadky 5.-11. v stĺpci C. Ostatné bunky budú automaticky vypočítané a vyplnené.
A15: riadok 13. | B15: V r. 13. bude automaticky vypočítaná celková výška grantu a to pri každom type rozpočtu. Pozor na dodržanie výsky grantu (max. 25 000 €). Podľa výsledkov v kalkulačke sa rozhodnite pre svoj variant a vyplňte k nemu príslušný hárok.
A16: Krok 3: Hárok: Kalkulácia_hodinovej sadzby | B16: Do osobných výdavkov patria: - zamestnanci (Z) - fyzické osoby (FO) pracujúce na inom základe ako pracovná zmluva s prijímateľom grantu (PP) za splnenia určitých podmienok uvedených v hárku Tabuľku vyplňte na základe príkladu. Podľa toho, či ide o Z alebo FO, priložte relevantné doklady preukazujúce výpočet hodinovej sadzby. V tabuľke sú preddefinované 3 pracovné pozície, podľa potreby pridajte ďalšie.
B17: Inštrukcie k vyplneniu jednotlivých riadkov / stĺpcov
A18: Krok 4: Výber optimálneho typu rozpočtu a vyplnenie relevantného hárku k danému typu
A19: Hárok: malé_granty_typ_A | B19: V prípade, že sa rozhodnete pre rozpočet projektu typu A. V tomto prípade rozpočet má dve kategórie: - osobné výdavky - ostatné výdavky kalkulované paušálom vo výške 100 % oprávnených priamych osobných výdavkov
A20: stĺpec D | B20: vyberte, či ide o zamestnanca ( Z) alebo fyzickú osobu (FO)
A21: stĺpec E | B21: V stĺpci E sa rozhodnite, či mzda/odmena bude vyplatená na základe: - zjednodušeného vykazovania stanovenej hodinovou sadzbou ( pozri krok 3) - reálne vyplatenou mzdou/odmenou. Pri zjednodušenom vykazovaní ( hodinovou sadzbou ) sa výdavky preukazujú len výkazom práce, pri reálnej mzde/odmene daňovými dokladmi.
A22: stĺpec F | B22: stanovte jednotku: hodiny alebo mesiac
A23: stĺpec G | B23: uveďte počet jednotiek
A24: stĺpec H | B24: uvádza jednotkovú cenu: - pre Z = cena práce - pre FO = fakturovanú odmenu
A25: stĺpec I | B25: automatický výpočet podľa počtu jednotiek a jednotkovej ceny
A26: riadok 14. | B26: ostatné výdavky projektu sú určené paušálom a vypočítané ako 100% osobných výdavkov.
A27: riadok 16. | B27: celkový rozpočet projektu = osobné výdavky + ostatné výdavky.
B28: Inštrukcie k vyplneniu jednotlivých riadkov / stĺpcov
A29: Hárok: malé_granty_typ_B | B29: V prípade, že sa rozhodnete pre grant typu B, vyplňte tento hárok. V tomto prípade rozpočet obsahuje všetky oprávnené kategórie priamych výdavkov podľa pravidiel: - osobné výdavky (vyplňte podľa inštrukcií pre typ A) - ďalšie oprávnené výdavky ( cestovné, spotrebný materiál, výdavky na vybavenie, služby ....) vyplnte položkovo s uvedením počtu, jednotkovej ceny a súvisu s aktivitami projektu. Pri položkách spotrebný materiál, výdavky na vybavenie, služby určite, či ide o rekonštrukciu/renováciu/obnovu nehnuteľností alebo nie. V tabuľke je automatický výpočet paušálnych výdavkov na nepriame výdavky (réžiu) vo výške 7% z oprávnených priamych výdavkov.
A30: Hárok: malé_granty_typ_C | B30: V prípade, že sa rozhodnete pre grant typu C, vyplňte tento hárok. V tomto prípade rozpočet obsahuje všetky oprávnené kategórie priamych výdavkov podľa pravidiel: - osobné výdavky (vyplňte podľa inštrukcií pre typ A) - ďalšie oprávnené výdavky ( cestovné, spotrebný materiál, výdavky na vybavenie, služby ....) vyplnte položkovo s uvedením počtu, jednotkovej ceny a súvisu s aktivitami projektu. Pri položkách spotrebný materiál, výdavky na vybavenie, služby určite, či ide o rekonštrukciu/renováciu/obnovu nehnuteľností alebo nie. V tabuľke je automatický výpočet paušálnych výdavkov na nepriame výdavky (réžiu) vo výške 15% z oprávnených priamych osobných výdavkov.

Sheet typy_grantov
A1: Civil Society Fund Slovakia
A2: FALSE | B2: FALSE | C2: FALSE | D2: FALSE | E2: FALSE
A3: Limity na výšku grantu pre jednotlivé typy projektov: | B3: Oprávnená výška GRANTU v prípade projektu bez partnera z donorskej krajiny | D3: Oprávnená výška GRANTU v prípade projektu s partnerom z donorskej krajiny
B4: min. | C4: max | D4: min. | E4: max.
A5: malý grant | B5: 0 | C5: 25000 | D5: bez možnosti zapojenia Partnera do projektu
A6: projektový grant | B6: 50000 | C6: 70000 | D6: 50000 | E6: 80000
A7: organizačný grant | B7: 100000 | C7: 120000 | D7: bez možnosti zapojenia Partnera do projektu
A8: FALSE | B8: FALSE | C8: FALSE | D8: FALSE | E8: FALSE
A9: Oprávnená dĺžka implementácie projektu | D9: FALSE | E9: FALSE
A10: typ projektu | B10: min. | C10: max. | D10: FALSE | E10: FALSE
A11: malý grant | B11: 0 mesiacov | C11: 12 mesiacov | D11: FALSE | E11: FALSE
A12: projektový grant | B12: 18 mesiacov | C12: 24 mesiacov | D12: FALSE | E12: FALSE
A13: organizačný grant | B13: 30 mesiacov | C13: 36 mesiacov | D13: FALSE | E13: FALSE
A15: Zjednodušené vykazovanie - možnosti
A16: typ projektu | B16: Paušál X % oprávnených priamych osobných výdavkov na pokrytie všetkých ostatných oprávnených nákladov. | C16: Paušál na nepriame výdavky = 7 % z oprávnených priamych výdavkov | D16: Paušál na nepriame výdavky = 15 % z oprávnených osobných výdavkov | E16: Lump sum
A17: malý grant | B17: paušál 100 % | C17: áno | D17: áno | E17: nie
A18: projektový grant | B18: paušál 40 % | C18: áno | D18: áno | E18: nie
A19: organizačný grant | B19: nie | C19: áno - v rámci lump sum | E19: áno

Sheet kalkulačka_na typ_rozpočtu
B1: KALKULAČKA - Malé granty
B3: Rozpočtové oprávnené výdavky | C3: Plánované výdavky projektu / rozpočet | D3: Kalkulácia rozpočtu typu A paušál 100 % oprávnených priamych mzdových nákladov môže byť použitých na pokrytie všetkých ostatných oprávnených výdavkov. | G3: Kalkulácia rozpočtu typu B nepriame výdavky paušál t.j. 7 % z oprávnených priamych výdavkov | J3: Kalkulácia rozpočtu typu C nepriame výdavky paušál t.j. 15 % z oprávnených osobných výdavkov
B4: Priame výdavky | E4: Dokladovanie | G4: Priame výdavky | H4: Dokladovanie | I4: =SUM(I5:I11) -> 21000 | J4: Priame výdavky | K4: Dokladovanie
B5: Osobné výdavky | C5: 12000 | D5: Osobné výdavky | E5: - pri použití reálnej mzdy (výplatné pásky, úhrada miezd) - pri použití vypočítanej jednotkovej ceny (hodinovej sadzby) výkazmi práce. | F5: =C5 -> 12000 | G5: Osobné výdavky | H5: - pri použití reálnej mzdy (výplatné pásky, úhrada miezd) - pri použití vypočítanej jednotkovej ceny (hodinovej sadzby) výkazmi práce. | I5: =C5 -> 12000 | J5: Osobné výdavky | K5: - pri použití reálnej mzdy (výplatné pásky, úhrada miezd) - pri použití vypočítanej jednotkovej ceny (hodinovej sadzby) výkazmi práce. | L5: =C5 -> 12000
B6: Cestovné výdavky | C6: 0 | D6: Ostatné výdavky - paušál | E6: nie | F6: =F5*1 -> 12000 | G6: Cestovné výdavky | H6: áno | I6: =C6 -> 0 | J6: Cestovné výdavky | K6: áno | L6: =C6 -> 0
B7: Spotrebný materiál | C7: 0 | G7: Spotrebný materiál | H7: áno | I7: =C7 -> 0 | J7: Spotrebný materiál | K7: áno | L7: =C7 -> 0
B8: Výdavky na vybavenie | C8: 2000 | G8: Výdavky na vybavenie | H8: áno | I8: =C8 -> 2000 | J8: Výdavky na vybavenie | K8: áno | L8: =C8 -> 2000
B9: Služby (subdodávky) | C9: 7000 | G9: Služby (subdodávky) | H9: áno | I9: =C9 -> 7000 | J9: Služby (subdodávky) | K9: áno | L9: =C9 -> 7000
B10: Iné priame výdavky | C10: 0 | G10: Iné priame výdavky | H10: áno | I10: =C10 -> 0 | J10: Iné priame výdavky | K10: áno | L10: =C10 -> 0
G11: korekcia priamych výdavkov | J11: korekcia priamych výdavkov
B12: Nepriame výdavky | C12: NA | G12: Nepriame výdavky - paušál | H12: nie | I12: =I4*0.07 -> 1470 | J12: Nepriame výdavky - paušál | K12: nie | L12: =L5*0.15 -> 1800
B13: Spolu | C13: =SUM(C5:C12) -> 21000 | D13: Spolu | F13: =SUM(F5:F12) -> 24000 | G13: Spolu | I13: =I4+I12 -> 22470 | J13: Spolu | L13: =SUM(L5:L12) -> 22800

Sheet Sumár_Summary
B1: Rozpočet Typ B: / Budget Type B:
B3: Názov projektu /Project Title:
B4: Názov Žiadateľa / Name of Applicant::
B5: Názov Projektového Partnera 1 / Name of Project Partner 1:
B6: Názov Projektového Partnera 2 / Name of Project Partner 2:
B7: Doba implementácie projektu / Project implementation period | C7: od/ from | E7: do/ to
B9: Rozpočtové kategórie/ Budget Categories: | C9: Spolu/ Total | D9: Žiadateľ/ Applicant | E9: Projektový Partner 1/ Project Partner 1 | F9: Projektový Partner 2/ Project Partner 2
B10: Priame výdavky Direct costs | C10: =SUM(D10:F10) -> 2 | D10: =SUM(D11:D16) -> 2 | E10: =SUM(E11:E16) -> 0 | F10: =SUM(F11:F16) -> 0
B11: Osobné výdavky Personnel costs | C11: =SUM(D11:F11) -> 2 | D11: =Žiadateľ_Applicant_!I10 -> 2 | E11: ='Proj.Partner 1'!I10 -> 0 | F11: ='Proj.Partner 2'!I10 -> 0
B12: Cestovné výdavky a náhrady Travel and subsistence | C12: =SUM(D12:F12) -> 0 | D12: =Žiadateľ_Applicant_!I17 -> 0 | E12: ='Proj.Partner 1'!I17 -> 0 | F12: ='Proj.Partner 2'!I17 -> 0
B13: Spotrebný materiál a dodávky Consumables and supplies | C13: =SUM(D13:F13) -> 0 | D13: =Žiadateľ_Applicant_!I24 -> 0 | E13: ='Proj.Partner 1'!I24 -> 0 | F13: ='Proj.Partner 2'!I24 -> 0
B14: Výdavky na vybavenie Equipment costs | C14: =SUM(D14:F14) -> 0 | D14: =Žiadateľ_Applicant_!I31 -> 0 | E14: ='Proj.Partner 1'!I31 -> 0 | F14: ='Proj.Partner 2'!I31 -> 0
B15: Služby a subdodávky Cost of services/subcontracting | C15: =SUM(D15:F15) -> 0 | D15: =Žiadateľ_Applicant_!I38 -> 0 | E15: ='Proj.Partner 1'!I38 -> 0 | F15: ='Proj.Partner 2'!I38 -> 0
B16: Ostatné priame výdavky Other direct costs | C16: =SUM(D16:F16) -> 0 | D16: =Žiadateľ_Applicant_!I45 -> 0 | E16: ='Proj.Partner 1'!I45 -> 0 | F16: ='Proj.Partner 2'!I45 -> 0
B17: Nepriame výdavky (paušálna sadzba - 7% z priamych výdavkov) Indirect costs (flat rate - 7 % of eligible direct costs ) | C17: =SUM(D17:F17) -> 0.14 | D17: =Žiadateľ_Applicant_!I47 -> 0.14 | E17: ='Proj.Partner 1'!I47 -> 0 | F17: ='Proj.Partner 2'!I47 -> 0
B18: Spolu rozpočet projektu/ Total project budget | C18: =C10+C17 -> 2.14 | D18: =D10+D17 -> 2.14 | E18: =E10+E17 -> 0 | F18: =F10+F17 -> 0
B21: Prepared by:
B22: Date:

Sheet Žiadateľ_Applicant_
B1: Rozpočet Žiadateľa / Budget Applicant | E1: =Sumár_Summary!C4 -> 0
B3: Priame výdavky / Direct costs | I3: =I10+I17+I24+I31+I38+I45 -> 2
B5: Osobné výdavky Personnel costs | C5: Pozícia v projekte / Popis činnosti/ Position in project / Job description | D5: Zamestnanec / Employee Fyzická osoba/Natural Person | E5: Kalkulácia osobného výdavku/ Personnel calculation method | F5: Jednotka/ Unit | G5: Počet Jednotiek/ Number of units | H5: Jednotková cena/ Unit cost | I5: Spolu výdavky/ Total costs | J5: Odôvodnenie v rozsahu podľa nižšie uvedenej poznámky/ Justification in the scope according to the note below: | M5: Zamestnanec/Employee | P5: 1.hodinová sadzba (SCO) */ 1.unit cost (SCO )*
A6: o | G6: a | H6: b | I6: a x b | M6: Fyzická osoba/Natural Person | P6: 2. skutočné výdavky**/ 2.real cost **
B7: Pracovník 1 Personnel 1 | D7: Zamestnanec/Employee | E7: 2. skutočné výdavky**/ 2.real cost ** | F7: =IF(E7="1.hodinová sadzba (SCO) */ 1.unit cost (SCO )*", "hodina/hour", "hodina alebo mesiac/hour or month") -> hodina alebo mesiac/hour or month | G7: 1 | H7: 2 | I7: =G7*H7 -> 2 | J7: Uveďte podrobný opis aktivity a pracovného vyťaženia v rozsahu X hodín/mesiac, €/hodinu a odôvodnite nevyhnutnosť tejto aktivity pre realizáciu projektu – súlad s plánovanými aktivitami./ Provide a detailed description of the activity and workload in the scope of X hours/month, €/hour, and justify the need for the activity in the project implementation – alignment with the planned activities.
B8: Pracovník 2 Personnel 2 | D8: Natural Person | E8: 1.hodinová sadzba (SCO) */ 1.unit cost (SCO )* | F8: =IF(E8="1.hodinová sadzba (SCO) */ 1.unit cost (SCO )*", "hodina/hour", "hodina alebo mesiac/hour or month") -> hodina/hour | I8: =G8*H8 -> 0 | J8: Uveďte podrobný opis aktivity a pracovného vyťaženia v rozsahu X hodín/mesiac, €/hodinu a odôvodnite nevyhnutnosť tejto aktivity pre realizáciu projektu – súlad s plánovanými aktivitami./ Provide a detailed description of the activity and workload in the scope of X hours/month, €/hour, and justify the need for the activity in the project implementation – alignment with the planned activities.
B9: Pracovník 3 Personnel 3 | D9: Employee | E9: 1.hodinová sadzba (SCO) */ 1.unit cost (SCO )* | F9: =IF(E9="1.hodinová sadzba (SCO) */ 1.unit cost (SCO )*", "hodina/hour", "hodina alebo mesiac/hour or month") -> hodina/hour | I9: =G9*H9 -> 0 | J9: Uveďte podrobný opis aktivity a pracovného vyťaženia v rozsahu X hodín/mesiac, €/hodinu a odôvodnite nevyhnutnosť tejto aktivity pre realizáciu projektu – súlad s plánovanými aktivitami./ Provide a detailed description of the activity and workload in the scope of X hours/month, €/hour, and justify the need for the activity in the project implementation – alignment with the planned activities.
I10: =SUM(I7:I9) -> 2
B12: Cestovné výdavky a náhrady Travel and subsistence | C12: Popis/Description | F12: Jednotka/ Unit | G12: Number of units | H12: Unit cost | I12: Total costs | J12: Zdôvodnenie – súlad s projektovými aktivitami/ Justification – alignment with project activities
G13: a | H13: b | I13: a x b
B14: Položka 1 / Item 1 | I14: =G14*H14 -> 0
B15: Položka 2 / Item 2 | I15: =G15*H15 -> 0
B16: Položka 3 / Item 3 | I16: =G16*H16 -> 0
I17: =SUM(I14:I16) -> 0
B19: Spotrebný materiál a dodávky Consumables and supplies | C19: Popis/Description | F19: Jednotka/ Unit | G19: Number of units | H19: Unit cost | I19: Total costs | J19: Zdôvodnenie – súlad s projektovými aktivitami/ Justification – alignment with project activities
G20: a | H20: b | I20: a x b
B21: Položka 1 / Item 1 | I21: =G21*H21 -> 0
B22: Položka 2 / Item 2 | I22: =G22*H22 -> 0
B23: Položka 3 / Item 3 | I23: =G23*H23 -> 0
I24: =SUM(I21:I23) -> 0
B26: Výdavky na vybavenie Equipment costs | C26: Popis/Description | F26: Jednotka/ Unit | G26: Number of units | H26: Unit cost | I26: Total costs | J26: Zdôvodnenie – súlad s projektovými aktivitami/ Justification – alignment with project activities
G27: a | H27: b | I27: a x b
B28: Položka 1 / Item 1 | I28: =G28*H28 -> 0
B29: Položka 2 / Item 2 | I29: =G29*H29 -> 0
B30: Položka 3 / Item 3 | I30: =G30*H30 -> 0
I31: =SUM(I28:I30) -> 0
B33: Služby a subdodávky Cost of services (subcontracting) | C33: Popis/Description | F33: Jednotka/ Unit | G33: Number of units | H33: Unit cost | I33: Total costs | J33: Zdôvodnenie – súlad s projektovými aktivitami/ Justification – alignment with project activities
G34: a | H34: b | I34: a x b
B35: Položka 1 / Item 1 | I35: =G35*H35 -> 0
B36: Položka 2 / Item 2 | I36: =G36*H36 -> 0
B37: Položka 3 / Item 3 | I37: =G37*H37 -> 0
I38: =SUM(I35:I37) -> 0
B40: Ostatné priame výdavky Other direct costs | C40: Popis/Description | F40: Jednotka/ Unit | G40: Number of units | H40: Unit cost | I40: Total costs | J40: Zdôvodnenie – súlad s projektovými aktivitami/ Justification – alignment with project activities
G41: a | H41: b | I41: a x b
B42: Položka 1 / Item 1 | I42: =G42*H42 -> 0
B43: Položka 2 / Item 2 | I43: =G43*H43 -> 0
B44: Položka 3 / Item 3 | I44: =G44*H44 -> 0
I45: =SUM(I42:I44) -> 0
B47: Nepriame výdavky (paušálna sadzba - 7% z priamych výdavkov) Indirect costs (flat rate - 7 % of eligible direct costs ) | I47: =ROUND(I3*0.07,2) -> 0.14
B49: Spolu rozpočet Žiadateľ/ Total project budget Applicant | I49: =I47+I3 -> 2.14
...

Sheet Proj.Partner 1
B1: Rozpočet Projektový Partner 1 / Budget -Project Partner 1 | E1: =Sumár_Summary!C5 -> 0
B3: Priame výdavky / Direct costs | I3: =I10+I17+I24+I31+I38+I45 -> 0
B5: Osobné výdavky Personnel costs | C5: Pozícia v projekte / Popis činnosti/ Position in project / Job description | D5: Zamestnanec / Employee Fyzická osoba/Natural Person | E5: Kalkulácia osobného výdavku/ Personnel calculation method | F5: Jednotka/ Unit | G5: Počet Jednotiek/ Number of units | H5: Jednotková cena/ Unit cost | I5: Spolu výdavky/ Total costs | J5: Odôvodnenie v rozsahu podľa nižšie uvedenej poznámky/ Justification in the scope according to the note below: | M5: Zamestnanec/Employee | P5: 1.hodinová sadzba (SCO) */ 1.unit cost (SCO )*
A6: o | G6: a | H6: b | I6: a x b | M6: Fyzická osoba/Natural Person | P6: 2. skutočné výdavky**/ 2.real cost **
B7: Pracovník 1 Personnel 1 | D7: Zamestnanec/Employee | E7: 2. skutočné výdavky**/ 2.real cost ** | F7: =IF(E7="1.hodinová sadzba (SCO) */ 1.unit cost (SCO )*", "hodina/hour", "hodina alebo mesiac/hour or month") -> hodina alebo mesiac/hour or month | I7: =G7*H7 -> 0 | J7: Uveďte podrobný opis aktivity a pracovného vyťaženia v rozsahu X hodín/mesiac, €/hodinu a odôvodnite nevyhnutnosť tejto aktivity pre realizáciu projektu – súlad s plánovanými aktivitami./ Provide a detailed description of the activity and workload in the scope of X hours/month, €/hour, and justify the need for the activity in the project implementation – alignment with the planned activities.
B8: Pracovník 2 Personnel 2 | D8: Natural Person | E8: 1.hodinová sadzba (SCO) */ 1.unit cost (SCO )* | F8: =IF(E8="1.hodinová sadzba (SCO) */ 1.unit cost (SCO )*", "hodina/hour", "hodina alebo mesiac/hour or month") -> hodina/hour | I8: =G8*H8 -> 0 | J8: Uveďte podrobný opis aktivity a pracovného vyťaženia v rozsahu X hodín/mesiac, €/hodinu a odôvodnite nevyhnutnosť tejto aktivity pre realizáciu projektu – súlad s plánovanými aktivitami./ Provide a detailed description of the activity and workload in the scope of X hours/month, €/hour, and justify the need for the activity in the project implementation – alignment with the planned activities.
B9: Pracovník 3 Personnel 3 | D9: Employee | E9: 1.hodinová sadzba (SCO) */ 1.unit cost (SCO )* | F9: =IF(E9="1.hodinová sadzba (SCO) */ 1.unit cost (SCO )*", "hodina/hour", "hodina alebo mesiac/hour or month") -> hodina/hour | I9: =G9*H9 -> 0 | J9: Uveďte podrobný opis aktivity a pracovného vyťaženia v rozsahu X hodín/mesiac, €/hodinu a odôvodnite nevyhnutnosť tejto aktivity pre realizáciu projektu – súlad s plánovanými aktivitami./ Provide a detailed description of the activity and workload in the scope of X hours/month, €/hour, and justify the need for the activity in the project implementation – alignment with the planned activities.
I10: =SUM(I7:I9) -> 0
B12: Cestovné výdavky a náhrady Travel and subsistence | C12: Popis/Description | F12: Jednotka/ Unit | G12: Number of units | H12: Unit cost | I12: Total costs | J12: Zdôvodnenie – súlad s projektovými aktivitami/ Justification – alignment with project activities
G13: a | H13: b | I13: a x b
B14: Položka 1 / Item 1 | I14: =G14*H14 -> 0
B15: Položka 2 / Item 2 | I15: =G15*H15 -> 0
B16: Položka 3 / Item 3 | I16: =G16*H16 -> 0
I17: =SUM(I14:I16) -> 0
B19: Spotrebný materiál a dodávky Consumables and supplies | C19: Popis/Description | F19: Jednotka/ Unit | G19: Number of units | H19: Unit cost | I19: Total costs | J19: Zdôvodnenie – súlad s projektovými aktivitami/ Justification – alignment with project activities
G20: a | H20: b | I20: a x b
B21: Položka 1 / Item 1 | I21: =G21*H21 -> 0
B22: Položka 2 / Item 2 | I22: =G22*H22 -> 0
B23: Položka 3 / Item 3 | I23: =G23*H23 -> 0
I24: =SUM(I21:I23) -> 0
B26: Výdavky na vybavenie Equipment costs | C26: Popis/Description | F26: Jednotka/ Unit | G26: Number of units | H26: Unit cost | I26: Total costs | J26: Zdôvodnenie – súlad s projektovými aktivitami/ Justification – alignment with project activities
G27: a | H27: b | I27: a x b
B28: Položka 1 / Item 1 | I28: =G28*H28 -> 0
B29: Položka 2 / Item 2 | I29: =G29*H29 -> 0
B30: Položka 3 / Item 3 | I30: =G30*H30 -> 0
I31: =SUM(I28:I30) -> 0
B33: Služby a subdodávky Cost of services (subcontracting) | C33: Popis/Description | F33: Jednotka/ Unit | G33: Number of units | H33: Unit cost | I33: Total costs | J33: Zdôvodnenie – súlad s projektovými aktivitami/ Justification – alignment with project activities
G34: a | H34: b | I34: a x b
B35: Položka 1 / Item 1 | I35: =G35*H35 -> 0
B36: Položka 2 / Item 2 | I36: =G36*H36 -> 0
B37: Položka 3 / Item 3 | I37: =G37*H37 -> 0
I38: =SUM(I35:I37) -> 0
B40: Ostatné priame výdavky Other direct costs | C40: Popis/Description | F40: Jednotka/ Unit | G40: Number of units | H40: Unit cost | I40: Total costs | J40: Zdôvodnenie – súlad s projektovými aktivitami/ Justification – alignment with project activities
G41: a | H41: b | I41: a x b
B42: Položka 1 / Item 1 | I42: =G42*H42 -> 0
B43: Položka 2 / Item 2 | I43: =G43*H43 -> 0
B44: Položka 3 / Item 3 | I44: =G44*H44 -> 0
I45: =SUM(I42:I44) -> 0
B47: Nepriame výdavky (paušálna sadzba - 7% z priamych výdavkov) Indirect costs (flat rate - 7 % of eligible direct costs ) | I47: =ROUND(I3*0.07,2) -> 0
B49: Spolu rozpočet Projektový Partner 1/ Total project budget Project Partner 1 | I49: =I47+I3 -> 0
...

Sheet Proj.Partner 2
B1: Rozpočet Projektový Partner 2 / Budget -Project Partner 2 | E1: =Sumár_Summary!C6 -> 0
B3: Priame výdavky / Direct costs | I3: =I10+I17+I24+I31+I38+I45 -> 0
B5: Osobné výdavky Personnel costs | C5: Pozícia v projekte / Popis činnosti/ Position in project / Job description | D5: Zamestnanec / Employee Fyzická osoba/Natural Person | E5: Kalkulácia osobného výdavku/ Personnel calculation method | F5: Jednotka/ Unit | G5: Počet Jednotiek/ Number of units | H5: Jednotková cena/ Unit cost | I5: Spolu výdavky/ Total costs | J5: Odôvodnenie v rozsahu podľa nižšie uvedenej poznámky/ Justification in the scope according to the note below: | M5: Zamestnanec/Employee | P5: 1.hodinová sadzba (SCO) */ 1.unit cost (SCO )*
G6: a | H6: b | I6: a x b | M6: Fyzická osoba/Natural Person | P6: 2. skutočné výdavky**/ 2.real cost **
B7: Pracovník 1 Personnel 1 | D7: Zamestnanec/Employee | E7: 2. skutočné výdavky**/ 2.real cost ** | F7: =IF(E7="1.hodinová sadzba (SCO) */ 1.unit cost (SCO )*", "hodina/hour", "hodina alebo mesiac/hour or month") -> hodina alebo mesiac/hour or month | I7: =G7*H7 -> 0 | J7: Uveďte podrobný opis aktivity a pracovného vyťaženia v rozsahu X hodín/mesiac, €/hodinu a odôvodnite nevyhnutnosť tejto aktivity pre realizáciu projektu – súlad s plánovanými aktivitami./ Provide a detailed description of the activity and workload in the scope of X hours/month, €/hour, and justify the need for the activity in the project implementation – alignment with the planned activities.
B8: Pracovník 2 Personnel 2 | D8: Natural Person | E8: 1.hodinová sadzba (SCO) */ 1.unit cost (SCO )* | F8: =IF(E8="1.hodinová sadzba (SCO) */ 1.unit cost (SCO )*", "hodina/hour", "hodina alebo mesiac/hour or month") -> hodina/hour | I8: =G8*H8 -> 0 | J8: Uveďte podrobný opis aktivity a pracovného vyťaženia v rozsahu X hodín/mesiac, €/hodinu a odôvodnite nevyhnutnosť tejto aktivity pre realizáciu projektu – súlad s plánovanými aktivitami./ Provide a detailed description of the activity and workload in the scope of X hours/month, €/hour, and justify the need for the activity in the project implementation – alignment with the planned activities.
B9: Pracovník 3 Personnel 3 | D9: Employee | E9: 1.hodinová sadzba (SCO) */ 1.unit cost (SCO )* | F9: =IF(E9="1.hodinová sadzba (SCO) */ 1.unit cost (SCO )*", "hodina/hour", "hodina alebo mesiac/hour or month") -> hodina/hour | I9: =G9*H9 -> 0 | J9: Uveďte podrobný opis aktivity a pracovného vyťaženia v rozsahu X hodín/mesiac, €/hodinu a odôvodnite nevyhnutnosť tejto aktivity pre realizáciu projektu – súlad s plánovanými aktivitami./ Provide a detailed description of the activity and workload in the scope of X hours/month, €/hour, and justify the need for the activity in the project implementation – alignment with the planned activities.
I10: =SUM(I7:I9) -> 0
B12: Cestovné výdavky a náhrady Travel and subsistence | C12: Popis/Description | F12: Jednotka/ Unit | G12: Number of units | H12: Unit cost | I12: Total costs | J12: Zdôvodnenie – súlad s projektovými aktivitami/ Justification – alignment with project activities
G13: a | H13: b | I13: a x b
B14: Položka 1 / Item 1 | I14: =G14*H14 -> 0
B15: Položka 2 / Item 2 | I15: =G15*H15 -> 0
B16: Položka 3 / Item 3 | I16: =G16*H16 -> 0
I17: =SUM(I14:I16) -> 0
B19: Spotrebný materiál a dodávky Consumables and supplies | C19: Popis/Description | F19: Jednotka/ Unit | G19: Number of units | H19: Unit cost | I19: Total costs | J19: Zdôvodnenie – súlad s projektovými aktivitami/ Justification – alignment with project activities
G20: a | H20: b | I20: a x b
B21: Položka 1 / Item 1 | I21: =G21*H21 -> 0
B22: Položka 2 / Item 2 | I22: =G22*H22 -> 0
B23: Položka 3 / Item 3 | I23: =G23*H23 -> 0
I24: =SUM(I21:I23) -> 0
B26: Výdavky na vybavenie Equipment costs | C26: Popis/Description | F26: Jednotka/ Unit | G26: Number of units | H26: Unit cost | I26: Total costs | J26: Zdôvodnenie – súlad s projektovými aktivitami/ Justification – alignment with project activities
G27: a | H27: b | I27: a x b
B28: Položka 1 / Item 1 | I28: =G28*H28 -> 0
B29: Položka 2 / Item 2 | I29: =G29*H29 -> 0
B30: Položka 3 / Item 3 | I30: =G30*H30 -> 0
I31: =SUM(I28:I30) -> 0
B33: Služby a subdodávky Cost of services (subcontracting) | C33: Popis/Description | F33: Jednotka/ Unit | G33: Number of units | H33: Unit cost | I33: Total costs | J33: Zdôvodnenie – súlad s projektovými aktivitami/ Justification – alignment with project activities
G34: a | H34: b | I34: a x b
B35: Položka 1 / Item 1 | I35: =G35*H35 -> 0
B36: Položka 2 / Item 2 | I36: =G36*H36 -> 0
B37: Položka 3 / Item 3 | I37: =G37*H37 -> 0
I38: =SUM(I35:I37) -> 0
B40: Ostatné priame výdavky Other direct costs | C40: Popis/Description | F40: Jednotka/ Unit | G40: Number of units | H40: Unit cost | I40: Total costs | J40: Zdôvodnenie – súlad s projektovými aktivitami/ Justification – alignment with project activities
G41: a | H41: b | I41: a x b
B42: Položka 1 / Item 1 | I42: =G42*H42 -> 0
B43: Položka 2 / Item 2 | I43: =G43*H43 -> 0
B44: Položka 3 / Item 3 | I44: =G44*H44 -> 0
I45: =SUM(I42:I44) -> 0
B47: Nepriame výdavky (paušálna sadzba - 7% z priamych výdavkov) Indirect costs (flat rate - 7 % of eligible direct costs ) | I47: =ROUND(I3*0.07,2) -> 0
B50: Spolu rozpočet Projektový Partner 2/ Total project budget Project Partner 2 | I50: =I47+I3 -> 0
...

Sheet Kalkulácia_hodinovej sadzby
A1: Príloha č. 1 Príručky k oprávnenosti výdavkov v Programe EEA Civil Society Fund Slovakia
A3: Tabuľka na výpočet hodinovej sadzby – podklad na zjednodušené vykazovanie (SCOs)
A5: Osobné výdavky sú oprávnené pre:
A6: 1. Zamestnancov (Z) pracujúci na základe Pracovnej zmluvy, Dohody o vykonaní práce, Dohody o pracovnej činnosti a Dohody o brigádnickej činnosti
A7: 2. Fyzických osôb (FO) pracujúcich na základe inej ako pracovnej zmluvy
A9: Príklad výpočtu hodinovej sadzby na základe poslednej známej dokumentácie
A11: Pracovníci projektu | B11: Mzdový list / Celková odmena podľa Zmluvy | I11: Povinná sprievodná dokumentácia k rozpočtu priložte ku každému pracovníkovi v rozpočte - v eGrante | J11: Počet odpracovaných hodín na projekte - podľa pravidiel Programu CSF max 1720 hod/rok | K11: Hodinová sadzba celkovej ceny práce (Z) fakturovanej odmeny (FO) Uveďte DO ROZPOČTU v eGrante | L11: Dokladovanie v projektových správach
B12: Obdobie | C12: Zamestnanec (Z) /Fyzická osoba (FO) | D12: počet mesiacov za dané obdobie | E12: Uveďte: Cenu práce bez sociálneho fondu v prípade Z (podľa mzdového listu)/ Fakturovanú odmena za zodpovedajúce obdobiev prípade FO | F12: Uveďte "počet pracovných hodín" za dané obdobie podľa Fondu pracovného času v SR https://calendar.zoznam.sk/worktime-sksk.php Nižšie viď pomôcka | G12: Uveďte: 1. súčet hodín ( odpracované hodiny + hodiny dovolenky + hodiny sviatkov) za obdobie podľa mzdového listu (prípad Z) 2. súčet odpracovaných hodín podľa zmluvy s dohodnutou odmenou za obdobie (prípad FO) | H12: Kalkulácia úväzku
A13: Pracovník 1 | B13: 01/05/2024 -30/04/2025 | C13: Z | D13: 12 | E13: 25242.9 | F13: =SUM(B27:B38) -> 2088 | G13: 1992 | H13: =ROUND(G13/F13,2) -> 0.95 | I13: V prípade Z: mzdový list/listy za dané obdobie so zákonnými náležitosťami alebo V prípade FO: Zmluvu s dohodnutou odmenou za dané obdobie | J13: =ROUND((1720/12*D13)*H13,2) -> 1634 | K13: =E13/J13 -> 15.448531 | L13: Preukazuje sa výkazmi práce max. počet odpr. hodín podľa výkazov prác je max 1720 hod/rok
A14: Pracovník 2 | B14: 01/12/2024 - 31/07/2025 | C14: Z | D14: 8 | E14: 33013.62 | F14: =SUM(B34:B41) -> 1392 | G14: 1100 | H14: =ROUND(G14/F14,2) -> 0.79 | J14: =ROUND((1720/12*D14)*H14,2) -> 905.87 | K14: =E14/J14 -> 36.444103
A15: Pracovník 3 | B15: 01/02/2025 -31/05/2025 | C15: Z | D15: 4 | E15: 9321 | F15: =SUM(B36:B39) -> 680 | G15: 300 | H15: =ROUND(G15/F15,2) -> 0.44 | J15: =ROUND((1720/12*D15)*H15,2) -> 252.27 | K15: =E15/J15 -> 36.948508
A16: Pracovník 4 | B16: 01/02/2025 -31/05/2025 | C16: FO | D16: 4 | E16: =4*1500 -> 6000 | F16: NA | G16: =4*100 -> 400 | H16: NA | J16: NA | K16: =E16/G16 -> 15 | L16: Preukazuje sa výkazmi práce, prípadne faktúrou s rozpisom činností podľa hodín max. počet odpr. hodín podľa výkazov prác je max 1720 hod/rok
A17: Pracovník 5 | B17: 01/01/2025 -31/12/2025 | C17: FO | D17: 12 | E17: =12*1500 -> 18000 | F17: NA | G17: =12*100 -> 1200 | H17: NA | J17: NA | K17: =E17/G17 -> 15
A19: Poznámka: | B19: V prípade zjednodušeného vykazovanie osobných výdavov je možné si uplatniť len odmenu za odpracované hodiny, ale neuplatňuje sa: preplatenie dovolenky, ani sviatku a ani náhrada príjmu za pracovnú neschopnosť.
A21: Pomôcka k Fondu pracovného času
A22: mesiace | B22: počet pracovných hodín pri 8hod. pracovnom čase + sviatky
A23: 45292 | B23: 184
A24: 45323 | B24: 168
A25: 45352 | B25: 168
A26: 45383 | B26: 176
A27: 45413 | B27: 184
A28: 45444 | B28: 160
A29: 45474 | B29: 184
A30: 45505 | B30: 176
A31: 45536 | B31: 168
A32: 45566 | B32: 184
A33: 45597 | B33: 168
A34: 45627 | B34: 176 | C34: =SUM(B23:B34) -> 2096
A35: 45658 | B35: 184
A36: 45689 | B36: 160
A37: 45717 | B37: 168
A38: 45748 | B38: 176
A39: 45778 | B39: 176
A40: 45809 | B40: 168
A41: 45839 | B41: 184
A42: 45870 | B42: 168
A43: 45901 | B43: 176
A44: 45931 | B44: 184
A45: 45962 | B45: 160
A46: 45992 | B46: 184 | C46: =SUM(B35:B46) -> 2088
...

Sheet Hourly rate calculation
A1: Annex 1 to Cost Eligibility Guidance
A3: Calculation of hourly rate for simplified reporting of personnel costs
A5: The following personnel costs are eligible:
A6: 1. Employees (Z) working on the basis of an employment contract, agreement on the performance of work, agreement on work activity, and agreement on temporary work
A7: 2. Natural persons (FO) working on the basis of a contract other than an employment contract
A9: Sample calculation of hourly rate based on the last known documentation:
A11: Project Personnel | B11: Pay slip ( Z) / Total remuneration according to the Contract (PO) | I11: Mandatory supporting documentation for the budget. Attach to each person in the in eGrant section project budget | J11: Number of working hours on the project - according to CSF Programme rules max 1720 hours/year | K11: Hourly rate Total labor cost (Z) Invoiced remuneration (FO) Enter in the project budget section in the eGrant | L11: Note: Documentation to personnel costs in project reports
B12: Time Period | C12: Employee (Z) /Natural person (FO) | D12: Number of months for the given time period | E12: Enter: 1."The price of work without social fund" in the case of Z (according to the payslip)/ 2. "Invoiced remuneration for the corresponding period" in the case of FO | F12: Enter: "the number of working hours for the given period "according to the Working Time Fund in the Slovak Republic https://calendar.zoznam.sk/worktime-sksk.php See the help section below | G12: Enter: 1. the "total number of hours (hours worked + vacation hours + public holiday hours) for the period" according to the payslip (case Z) 2. the "total number of hours worked according to the contract with the agreed remuneration for the period" (case FO) | H12: Calculation of working capacity
A13: Personnel 1 | B13: 01/05/2024 -30/04/2025 | C13: Z | D13: 12 | E13: 25242.9 | F13: =SUM(B27:B38) -> 2088 | G13: 1992 | H13: =ROUND(G13/F13,2) -> 0.95 | I13: In the case of Z: payslip(s) for the given period with the statutory requirements or In the case of FO: Contract with agreed remuneration for the given period | J13: =ROUND((1720/12*D13)*H13,2) -> 1634 | K13: =E13/J13 -> 15.448531 | L13: Proven by timesheets The maximum number of hours worked according to timesheets is 1720 hours/year
A14: Personnel 2 | B14: 01/12/2024 - 31/07/2025 | C14: Z | D14: 8 | E14: 33013.62 | F14: =SUM(B34:B41) -> 1392 | G14: 1100 | H14: =ROUND(G14/F14,2) -> 0.79 | J14: =ROUND((1720/12*D14)*H14,2) -> 905.87 | K14: =E14/J14 -> 36.444103
A15: Personnel 3 | B15: 01/02/2025 -31/05/2025 | C15: Z | D15: 4 | E15: 9321 | F15: =SUM(B36:B39) -> 680 | G15: 300 | H15: =ROUND(G15/F15,2) -> 0.44 | J15: =ROUND((1720/12*D15)*H15,2) -> 252.27 | K15: =E15/J15 -> 36.948508
A16: Personnel 4 | B16: 01/02/2025 -31/05/2025 | C16: FO | D16: 4 | E16: =4*1500 -> 6000 | F16: NA | G16: =4*100 -> 400 | H16: NA | J16: NA | K16: =E16/G16 -> 15 | L16: Proven by timesheets or invoices with a breakdown of activities by hours The maximum number of hours worked according to timesheets is 1,720 hours/year
A17: Personnel 5 | B17: 01/01/2025 -31/12/2025 | C17: FO | D17: 12 | E17: =12*1500 -> 18000 | F17: NA | G17: =12*100 -> 1200 | H17: NA | J17: NA | K17: =E17/G17 -> 15
A19: Note: | B19: In the case of simplified reporting of personal expenses, only remuneration for hours worked can be claimed, but the following cannot be claimed: reimbursement for vacation or public holidays, or compensation for loss of income due to incapacity for work.
A21: Hint: Working Time Fund
A22: months | B22: number of working hours in an 8-hour working day + state holidays
A23: 45292 | B23: 184
A24: 45323 | B24: 168
A25: 45352 | B25: 168
A26: 45383 | B26: 176
A27: 45413 | B27: 184
A28: 45444 | B28: 160
A29: 45474 | B29: 184
A30: 45505 | B30: 176
A31: 45536 | B31: 168
A32: 45566 | B32: 184
A33: 45597 | B33: 168
A34: 45627 | B34: 176 | C34: =SUM(B23:B34) -> 2096
A35: 45658 | B35: 184
A36: 45689 | B36: 160
A37: 45717 | B37: 168
A38: 45748 | B38: 176
A39: 45778 | B39: 176
A40: 45809 | B40: 168
A41: 45839 | B41: 184
A42: 45870 | B42: 168
A43: 45901 | B43: 176
A44: 45931 | B44: 184
A45: 45962 | B45: 160
A46: 45992 | B46: 184 | C46: =SUM(B35:B46) -> 2088
...
