Workbook
Name baseEcoBenefits: #REF!
Name baseEcoBenefits: #REF!
Name baseEcoBenefits: #REF!
Name baseEcoCostsA: #REF!
Name baseEcoCostsA: #REF!
Name baseEcoCostsA: #REF!
Name baseEcoCostsB: #REF!
Name baseEcoCostsB: #REF!
Name baseEcoCostsB: #REF!
Name baseENPV: #REF!
Name baseENPV: #REF!
Name baseENPV: #REF!
Name baseFNPVK: #REF!
Name baseFNPVK: #REF!
Name baseFNPVK: #REF!
Name baseInvestment: #REF!
Name baseInvestment: #REF!
Name baseInvestment: #REF!
Name baseOandM: #REF!
Name baseOandM: #REF!
Name baseOandM: #REF!
Name baseResidual: #REF!
Name baseResidual: #REF!
Name baseResidual: #REF!
Name baseRevenues: #REF!
Name baseRevenues: #REF!
Name baseRevenues: #REF!
Name baseTaxShieldDepreciation: #REF!
Name baseTaxShieldDepreciation: #REF!
Name baseTaxShieldDepreciation: #REF!
Name Benefit_ratio: #REF!
Name Benefit_ratio: #REF!
Name Benefit_ratio: #REF!
Name billion: #REF!
Name billion: #REF!
Name billion: #REF!
Name Currency: #REF!
Name Currency: #REF!
Name Currency: #REF!
Name endMacro: #REF!
Name endMacro: #REF!
Name endMacro: #REF!
Name lowerEcoBenefits: #REF!
Name lowerEcoBenefits: #REF!
Name lowerEcoBenefits: #REF!
Name lowerEcoCostsA: #REF!
Name lowerEcoCostsA: #REF!
Name lowerEcoCostsA: #REF!
Name lowerEcoCostsB: #REF!
Name lowerEcoCostsB: #REF!
Name lowerEcoCostsB: #REF!
Name lowerENPV: #REF!
Name lowerENPV: #REF!
Name lowerENPV: #REF!
Name lowerFNPVK: #REF!
Name lowerFNPVK: #REF!
Name lowerFNPVK: #REF!
Name lowerInvestment: #REF!
Name lowerInvestment: #REF!
Name lowerInvestment: #REF!

Sheet Step I and Step II
C1: Tekst
C2: Komórki do wypełnienia przez Wnioskodawców
C3: Komórki do obliczeń pośrednich (nie należy modyfikować)
C4: Komórki zawierające wyniki (nie należy modyfikować)
B8: Krok I: Obliczenie maksymalnej wielkości dofinansowania ze środków publicznych | E8: Rok | F8: 2027 | G8: 2028 | H8: 2029 | I8: 2030 | J8: 2031 | K8: 2032 | L8: 2033 | M8: 2034 | N8: 2035 | O8: 2036
C12: Obliczenie Kosztów Kwalifikowalnych wg GBER | E12: NPV | F12: 0.053
C13: Koszty kwalifikowane wg GBER | D13: PLN | E13: =NPV($F$12,G13:M13)+F13 -> 0 | F13: =+F14+F15 -> 0 | G13: =+G14+G15 -> 0 | H13: =+H14+H15 -> 0 | I13: =+I14+I15 -> 0 | J13: =+J14+J15 -> 0 | K13: 0 | L13: 0 | M13: 0 | N13: 0 | O13: 0
C14: Koszty bez VAT | D14: PLN | F14: 0 | G14: 0 | I14: 0 | J14: 0 | K14: 0 | L14: 0 | M14: 0 | N14: 0 | O14: 0
C15: VAT(nieodzyskiwalny, kwalifikowalny wg GBER) | D15: PLN | F15: =+F14*0.23 -> 0 | G15: =+G14*0.23 -> 0 | H15: =+H14*0.23 -> 0 | I15: =+I14*0.23 -> 0 | J15: =+J14*0.23 -> 0 | K15: =+K14*0.23 -> 0 | L15: =+L14*0.23 -> 0 | M15: =+M14*0.23 -> 0 | ... O15: =+O14*0.23 -> 0
C16: VAT (odzyskiwalny, niekwlifikowalny wg GBER) | D16: PLN | F16: 0 | G16: 0 | H16: 0 | I16: 0 | J16: =+J15*0.23 -> 0 | K16: =+K15*0.23 -> 0 | L16: =+L15*0.23 -> 0 | M16: =+M15*0.23 -> 0 | N16: =+N15*0.23 -> 0 | O16: =+O15*0.23 -> 0
C19: Obliczenie Zysku Operacyjnego | E19: NPV
C20: Przychody | D20: PLN | E20: =NPV($F$12,G20:BJ20)+F20 -> 0 | F20: 0 | G20: 0 | H20: 0 | I20: 0 | J20: 0 | K20: 0 | L20: 0 | M20: 0 | N20: 0 | O20: 0
C21: Koszty Operacyjne | D21: PLN | E21: =NPV($F$12,G21:BJ21)+F21 -> 0 | F21: 0 | G21: 0 | H21: 0 | I21: 0 | J21: 0 | K21: 0 | L21: 0 | M21: 0 | N21: 0 | O21: 0
C22: Zysk Operacyjny | D22: PLN | E22: =NPV($F$12,G22:BJ22)+F22 -> 0 | F22: =+F20-F21 -> 0 | G22: =+G20-G21 -> 0 | H22: =+H20-H21 -> 0 | I22: =+I20-I21 -> 0 | J22: =+J20-J21 -> 0 | K22: =+K20-K21 -> 0 | L22: =+L20-L21 -> 0 | M22: =+M20-M21 -> 0 | ... O22: =+O20-O21 -> 0
C24: Koszty kwalifikowlne wg GBER (KK(GBER)) | D24: PLN | E24: =+E13 -> 0
C25: Zysk Operacyjny (ZO) | E25: =+IF(E22>0,E22,0) -> 0
C27: Czy Zysk Operacyjny < 0 | E27: =IF(E25<0, "TAK", "NIE") -> NIE
C29: Maksymalna wielkość pomocy inwestycyjnej (zdyskontowana) (MaxPI) | D29: PLN | E29: =+E24-E25 -> 0
C31: Maksymalna wartość pomocy inwestycyjnej nominalna (niezdyskontowana) (MaxPIn) | D31: PLN | E31: =+(SUM(F13:M13))*E29/E24 -> #DIV/0!
C35: Krok II. Obliczenie wielkości dofinansowania środkami MF EOG
E36: Rok | F36: 2027 | G36: 2028 | H36: 2029 | I36: 2030 | J36: 2031 | K36: 2032 | L36: 2033 | M36: 2034 | N36: 2035 | O36: 2036
C40: Koszty niekwalifikowalne w ramach Programu (które zostały uwzględnione jako koszty kwalifikowalne wg GBER) | D40: PLN | F40: =+F41+F42 -> 0 | G40: =+G41+G42 -> 0 | H40: =+H41+H42 -> 0 | I40: =+I41+I42 -> 0 | J40: =+J41+J42 -> 0 | K40: =+K41+K42 -> 0 | L40: =+L41+L42 -> 0 | M40: =+M41+M42 -> 0 | ... O40: =+O41+O42 -> 0
C41: =+C15 -> VAT(nieodzyskiwalny, kwalifikowalny wg GBER) | D41: PLN | F41: 0 | G41: 0 | H41: 0 | I41: 0 | J41: =+J15 -> 0 | K41: 0 | L41: =+L15 -> 0 | M41: =+M15 -> 0 | N41: =+N15 -> 0 | O41: =+O15 -> 0
C42: Pozostale koszty | D42: PLN | F42: 0 | G42: 0 | H42: 0 | I42: 0 | J42: 0 | K42: 0 | L42: 0 | M42: 0 | N42: 0 | O42: 0
C45: Podstawa do obliczenia kwoty pomocy z MF EOG | D45: PLN | E45: =+(SUM(F13:M13)-SUM(F40:M40))*E29/E24 -> #DIV/0!
C47: Poziom dofinansowania
C49: Grant MF EOG | D49: PLN | E49: =E45*E47 -> #DIV/0!
E52: 0.8 | F52: 0.85

Sheet Clawback
A1: Tekst
A2: Komórki do wypełnienia przez Wnioskodawców
A3: Komórki do obliczeń pośrednich (nie należy modyfikować)
A4: Komórki zawierające wyniki (nie należy modyfikować)
A6: Załącznik I
C8: =+'Step I and Step II'!F8 -> 2027 | D8: =+'Step I and Step II'!G8 -> 2028 | E8: =+'Step I and Step II'!H8 -> 2029 | F8: =+'Step I and Step II'!I8 -> 2030 | G8: =+'Step I and Step II'!J8 -> 2031 | H8: =+'Step I and Step II'!K8 -> 2032 | I8: =+'Step I and Step II'!L8 -> 2033 | J8: =+'Step I and Step II'!M8 -> 2034 | ... L8: =+'Step I and Step II'!O8 -> 2036
A9: [1] Zysk/strata netto związany z projektem dla roku obrachunkowego | B9: PLN | C9: 0 | D9: -25000 | E9: -20000 | F9: 20000 | G9: 20000 | H9: 20000 | I9: 20000 | J9: 20000 | K9: 20000 | L9: 20000
A10: Zysk netto | B10: PLN | C10: =+IF(C9>0,C9,0) -> 0 | D10: =+IF(D9>0,D9,0) -> 0 | E10: =+IF(E9>0,E9,0) -> 0 | F10: =+IF(F9>0,F9,0) -> 20000 | G10: =+IF(G9>0,G9,0) -> 20000 | H10: =+IF(H9>0,H9,0) -> 20000 | I10: =+IF(I9>0,I9,0) -> 20000 | J10: =+IF(J9>0,J9,0) -> 20000 | ... L10: =+IF(L9>0,L9,0) -> 20000
A11: Strata netto | B11: PLN | C11: =+IF(C9>0,0,-C9) -> 0 | D11: =+IF(D9>0,0,-D9) -> 25000 | E11: =+IF(E9>0,0,-E9) -> 20000 | F11: =+IF(F9>0,0,-F9) -> 0 | G11: =+IF(G9>0,0,-G9) -> 0 | H11: =+IF(H9>0,0,-H9) -> 0 | I11: =+IF(I9>0,0,-I9) -> 0 | J11: =+IF(J9>0,0,-J9) -> 0 | ... L11: =+IF(L9>0,0,-L9) -> 0
A14: [2] Maksymalny poziom zysku rozsądnego (w oparciu o rentowność sprzedaży) | B14: PLN | C14: =+C15*C25 -> 0 | D14: =+D15*D25 -> 0 | E14: =+E15*E25 -> 0 | F14: =+F15*F25 -> 0 | G14: =+G15*G25 -> 0 | H14: =+H15*H25 -> 0 | I14: =+I15*I25 -> 0 | J14: =+J15*J25 -> 0 | ... L14: =+L15*L25 -> 0
A15: (*) max. poziom sprzedaży (stopa swap + 100) | B15: % | C15: 0.0358 | D15: =+C15 -> 0.0358 | E15: =+D15 -> 0.0358 | F15: =+E15 -> 0.0358 | G15: =+F15 -> 0.0358 | H15: =+G15 -> 0.0358 | I15: =+H15 -> 0.0358 | J15: =+I15 -> 0.0358 | K15: =+J15 -> 0.0358 | L15: =+K15 -> 0.0358
A16: Różnica [1]-[2] | B16: PLN | C16: =+C9-C14 -> 0 | D16: =+D9-D14 -> -25000 | E16: =+E9-E14 -> -20000 | F16: =+F9-F14 -> 20000 | G16: =+G9-G14 -> 20000 | H16: =+H9-H14 -> 20000 | I16: =+I9-I14 -> 20000 | J16: =+J9-J14 -> 20000 | ... L16: =+L9-L14 -> 20000
A18: Skumulowana wartość na koniec okresu | B18: =SUM(C16:L16) -> 95000
A20: Wartość do zwrotu | B20: =IF(B18>0,B18,0) -> 95000
A25: Przychody | B25: PLN | C25: =+'Step I and Step II'!F20 -> 0 | D25: =+'Step I and Step II'!G20 -> 0 | E25: =+'Step I and Step II'!H20 -> 0 | F25: =+'Step I and Step II'!I20 -> 0 | G25: =+'Step I and Step II'!J20 -> 0 | H25: =+'Step I and Step II'!K20 -> 0 | I25: =+'Step I and Step II'!L20 -> 0 | J25: =+'Step I and Step II'!M20 -> 0 | ... L25: =+'Step I and Step II'!O20 -> 0
