Workbook

Sheet Οδηγίες
A1: Οδηγίες Συμπλήρωσης Προϋπολογισμού
A3: ΓΕΝΙΚΕΣ ΣΗΜΕΙΩΣΕΙΣ
A4: → Η περιγραφή των δράσεων θα πρέπει να συμπληρώνεται στα ζητούμενα κελιά όσο το δυνατόν πιο συμπυκνωμένη αλλά ευκρινής & κατανοητή.
A5: → Το αρχείο να συμπληρωθεί μόνο με τη χρήση του Microsoft Excel.
A7: Φύλλο "Στοιχεία Έργου"
A8: → Συμπληρώστε όλα τα απαραίτητα υποχρεωτικά κελιά. Ειδικότερα:
A9: → Συμπληρώστε την επωνυμία του Φορέα Υλοποίησης, την επωνυμία των Εταίρων (εάν υπάρχουν) και την προβλεπόμενη ημερομηνία έναρξης και λήξης του έργου.
A10: → Επιλέξτε από την αναπτυσσόμενη λίστα την ανοιχτή πρόσκληση για την οποία υποβάλετε αίτηση.
A11: → Τα στοιχεία στον πίνακα "Στοιχεία Οικονομικού Προϋπολογισμού" εμφανίζονται αυτόματα ανά Πακέτο Εργασίας αφού συμπληρωθεί το αρχείο του προϋπολογισμού.
A13: Φύλλο "ΠΕ & Δράσεις"
A14: → Μπορείτε να συμπληρώσετε δράσεις ανά Πακέτο Εργασίας ως εξής: έως 5 δράσεις στο Π.Ε.1, έως 10 δράσεις στο Π.Ε.2, έως 5 δράσεις στο Π.Ε.3 και έως 5 δράσεις στο Π.Ε.4.
A15: → Συμπληρώστε στη στήλη "Τίτλος Δράσης" τον τίτλο της δράσης που προτίθεστε να πραγματοποιήσετε (ο τίτλος θα πρέπει να ταυτίζεται με το αντίστοιχο πεδίο που έχετε συμπληρώσει στην ηλεκτρονική αίτηση).
... A47: https://ec.europa.eu/info/funding-tenders/opportunities/docs/2021-2027/common/guidance/additional-information-on-unit-costs-and-contributions_en.pdf

Sheet data
B1: =G2 -> Human Rights | C1: =H2 -> Media | G1: Θεματικές
B2: Πακέτο Εργασίας 2 (ΠΕ2) - Προώθηση των Ανθρωπίνων Δικαιωμάτων, της Κοινωνικής Δικαιοσύνης και της Καταπολέμησης των Διακρίσεων | C2: Πακέτο Εργασίας 2 (ΠΕ2) - Προώθηση της Πολυφωνίας των Μέσων Ενημέρωσης και Ενίσχυση της Ακεραιότητας της Πληροφόρησης | G2: Human Rights | H2: Media | I2: Προώθηση των Ανθρωπίνων Δικαιωμάτων, της Κοινωνικής Δικαιοσύνης και της Καταπολέμησης των Διακρίσεων
G3: Μεσαίο | H3: Μεσαίο | I3: Προώθηση της Πολυφωνίας των Μέσων Ενημέρωσης και Ενίσχυση της Ακεραιότητας της Πληροφόρησης
B4: Πακέτο εργασίας 1 | G4: Μεγάλο
B5: 1. Συντονισμός, διοικητική διαχείριση και εσωτερική επικοινωνία του έργου
B6: 2. Παρακολούθηση προόδου και υποβολή εκθέσεων | G6: Φορέας
B7: 3. Διαχείριση Κινδύνων | G7: Εταίρος
B8: 4. Αξιολόγηση του έργου | G8: Και οι δύο
G10: - Μήνες (εργασίας)
B11: Πακέτο εργασίας 2 | G11: - Κόστη μεταφοράς (ταξίδια)
B12: 1. Συλλογή δεδομένων και αναλύσεις | C12: 1. Ερευνητική Δημοσιογραφία και Τεκμηριωμένη Δημοσιογραφική Ενημέρωση | G12: - Ημέρες διαμονής (ταξίδια)
B13: 2. Συνηγορία (advocacy), θεσμική παρακολούθηση (watchdog) και παρακολούθηση πολιτικών | C13: 2. Συνηγορία, Παρακολούθηση και Προστασία της Ελευθερίας των Μέσων Ενημέρωσης | G13: - Ημέρες διατροφής (ταξίδια)
B14: 3. Διευκόλυνση της πρόσβασης σε υπηρεσίες υποστήριξης για την άσκηση και προστασία δικαιωμάτων | C14: 3. Ενίσχυση της Ακεραιότητας της Πληροφόρησης | G14: - Τεμάχια
B15: 4. Ευαισθητοποίηση και ενίσχυση της δημόσια συμμετοχής | C15: 4. Παιδεία στα Μέσα Ενημέρωσης και Κριτική Σκέψη | G15: - Υπηρεσία
B16: 5. Εκπαίδευση και κατάρτιση σε θέματα δικαιωμάτων | C16: 5. Ανάπτυξη και εφαρμογή στρατηγικών, πρωτοκόλλων και θεσμικών πλαισίων
B17: 6. Πρόσβαση στη δικαιοσύνη, νομική ενδυνάμωση και στρατηγική δικαστική εκπροσώπηση (strategic litigation) | C17: 6. Ενίσχυση της Συμμετοχής των Πολιτών και της Δημόσιας Εμπιστοσύνης | G17: Μήνας ολοκλήρωσης
B18: 7. Σχεδιασμός και εφαρμογή στρατηγικών, πρωτοκόλλων και θεσμικών πλαισίων | G18: M1
G19: M2
G20: M3
G21: M4
G22: M5
G23: M6
G24: M7
G25: M8
B26: Πακέτο εργασίας 3 | G26: M9
B27: 1. Εκδηλώσεις επικοινωνίας και εξωστρέφειας | G27: M10
B28: 2. Ψηφιακή επικοινωνία (διαδικτυακές εκστρατείες και εκστρατείες στα μέσα κοινωνικής δικτύωσης) | G28: M11
B29: 3. Παραγωγή επικοινωνιακού υλικού και προβολή σε κανάλια επικοινωνίας | G29: M12
G30: M13
G31: M14
B32: Πακέτο εργασίας 4 | G32: M15
B33: 1. Διακυβέρνηση και στρατηγική κατεύθυνση | G33: M16
B34: 2. Διοίκηση και εσωτερικά συστήματα | G34: M17
B35: 3. Χρηματοοικονομική διαχείριση και βιωσιμότητα | G35: M18
B36: 4. Ανθρώπινο δυναμικό και οργανωσιακή κουλτούρα | G36: M19
B37: 5. Διαχείριση προγραμμάτων και αντικτύπου | G37: M20
B38: 6. Συνεργασίες και εμπλοκή ενδιαφερόμενων μερών | G38: M21
B39: 7. Ισοτιμία, διαφορετικότητα, συμπερίληψη και ανθρώπινα δικαιώματα | G39: M22
B40: 8. Επικοινωνία, διαφάνεια και εξωστρέφεια | G40: M23
B41: 9. Τεχνολογία και διαχείριση δεδομένων | G41: M24
B42: 10. Συμμετοχή σε εκδηλώσεις δικτύωσης που διοργανώνονται από τον Διαχειριστή Επιχορήγησης | G42: M25
G43: M26
G44: M27
G45: M28
G46: M29
G47: M30
G48: M31
G49: M32
G50: M33
G51: M34
G52: M35
G53: M36
G57: CBC
G58: ΜΕΓΑΛΑ | H58: ΜΕ ΕΜΜΕΣΕΣ | I58: ΧΩΡΙΣ ΕΜΜΕΣΕΣ
G59: ΜΙΝ | H59: 100000
G60: ΜΑΧ | H60: 200000

Sheet Στοιχεία έργου
A7: ΣΤΟΙΧΕΙΑ ΕΡΓΟΥ
A9: Επωνυμία Φορέα Υλοποίησης
A11: Επωνυμία Εταίρου 1 (εάν υπάρχει)*
A13: Επωνυμία Εταίρου 2 (εάν υπάρχει)*
A15: Πρόσκληση (επιλογή από λίστα)
A17: Πρόσκληση (επιλογή από λίστα) | B17: {=_xlfn.IFS(B15=data!I2,"Human Rights",B15=data!I3,"Media",TRUE,"")}
A19: Κατηγορία έργου και όρια επιχορήγησης | D19: από | E19: =IF(B19=data!G3,50000,IF(B19=data!G4,100000.01,IF(B19="","",""))) | F19: έως | G19: =IF(B19="Μεσαίο",100000,IF(B19="Μεγάλο",200000,IF(B19="","","")))
A21: Περίοδος υλοποίησης | B21: από | D21: έως | F21: Διάρκεια σε μήνες | G21: =IFERROR(ROUND(IF((E21-C21)/(365/12)<=0,"",(E21-C21)/(365/12)),0),"") | I21: {=_xlfn.IFS(B17="Human Rights","* Μεσαίας κλίμακας έργα από 12 έως 24 μήνες και Μεγάλης κλίμακας έργα από 24 έως 36 μήνες.", B17="Media","* Μεσαίας κλίμακας έργα από 12 έως 24 μήνες",TRUE,"")}
A24: Στοιχεία Οικονομικού Προϋπολογισμού (σύνολα ανά Π.Ε.) | N24: =IF(OR(AND($B$17="Human Rights",$B$19="Μεσαίο"),AND($B$17="Media",$B$19="Μεσαίο")),AND(($E$21-$C$21)/(365/12)>=12,($E$21-$C$21)/(365/12)<=24),IF(AND($B$17="Human Rights",$B$19="Μεγάλο"),AND(($E$21-$C$21)/(365/12)>=24,($E$21-$C$21)/(365/12)<=36),TRUE)) -> TRUE
A26: =+'ΠΕ & Δράσεις'!A5 -> Πακέτο Εργασίας 1 (ΠΕ1) - Διαχείριση έργου - Project Management | E26: =+'Σύνολα προϋπολογισμών ανά Δράση'!K6 -> 0 | F26: ΜΗΝΥΜΑΤΑ ΕΛΕΓΧΟΥ | G26: =IF(OR($B$17="",$B$19=""),"",IF(AND($B$17="Media",$B$19<>"Μεσαίο"),"ΠΡΟΣΟΧΗ: Για την κατηγορία Media επιτρέπεται μόνο το Μεσαίο έργο.",IF($G$21="","",IF(OR(AND($B$17="Human Rights",$B$19="Μεσαίο"),AND($B$17="Media",$B$19="Μεσαίο")),IF($G$21<12,"ΠΡΟΣΟΧΗ: Η διάρκεια δεν μπορεί να είναι μικρότερη από 12 μήνες.",IF($G$21>24,"ΠΡΟΣΟΧΗ: Η διάρκεια δεν μπορεί να είναι μεγαλύτερη από 24 μήνες.","")),IF(AND($B$17="Human Rights",$B$19="Μεγάλο"),IF($G$21<24,"ΠΡΟΣΟΧΗ: Η διάρκεια δεν μπορεί να είναι μικρότερη από 24 μήνες.",IF($G$21>36,"ΠΡΟΣΟΧΗ: Η διάρκεια δεν μπορεί να είναι μεγαλύτερη από 36 μήνες.","")),""))))) | N26: =365/12 -> 30.416667
A27: =+'ΠΕ & Δράσεις'!A14 | E27: =+'Σύνολα προϋπολογισμών ανά Δράση'!K11 -> 0 | G27: =IF(E30=0,"",IF(E30>G19,"Υπέρβαση προϋπολογισμού",IF(E30<E19,"Ο προϋπολογισμός είναι μικρότερος από το ελάχιστο επιτρεπόμενο όριο","")))
A28: =+'ΠΕ & Δράσεις'!A28 -> Πακέτο Εργασίας 3 (ΠΕ3) - Πλάνο Επικοινωνίας και Διάχυσης | E28: =+'Σύνολα προϋπολογισμών ανά Δράση'!K21 -> 0 | G28: =IF(AND(B17="",ISNUMBER(E30))," Παρακαλούμε επιλέξτε πρόσκληση","") -> Παρακαλούμε επιλέξτε πρόσκληση
A29: =+'ΠΕ & Δράσεις'!A37 -> Πακέτο Εργασίας 4 (ΠΕ4) - Δράσεις Ανάπτυξης Ικανοτήτων | E29: =+'Σύνολα προϋπολογισμών ανά Δράση'!K26 -> 0 | G29: =IF(AND(B19="",ISNUMBER(E30))," Παρακαλούμε επιλέξτε κατηγορία έργου","") -> Παρακαλούμε επιλέξτε κατηγορία έργου
A30: Συνολικός Προϋπολογισμός / Total Budget | E30: =SUM(E26:E29) -> 0 | G30: =IF('Π.Ε.4 - W.P.4'!K10='Π.Ε.4 - W.P.4'!N2,"Υπάρχει υπέρβαση στο W.P.4. Παρακαλώ ανατρέξτε για διορθώσεις","") | N30: =ROUND(COUNTBLANK(G26:I33),0) -> 21
G31: ='Π.Ε.2 - W.P.2'!J8
A32: =IF(E30='Σύνολα προϋπολογισμών ανά Δράση'!K31,"","Υπάρχουν λάθη στο αρχείο") | G32: =IF(OR('Π.Ε.1 - W.P.1'!H10<>'Σύνολα προϋπολογισμών ανά Δράση'!K6,'Π.Ε.2 - W.P.2'!H11<>'Σύνολα προϋπολογισμών ανά Δράση'!K11,'Π.Ε.3 - W.P.3'!H10<>'Σύνολα προϋπολογισμών ανά Δράση'!K21,'Π.Ε.4 - W.P.4'!H10<>'Σύνολα προϋπολογισμών ανά Δράση'!K26),"Παρακαλούμε όπως επιλέξετε Νο. Δράσης στα πακέτα εργασίας","")
G33: =IF('Π.Ε.4 - W.P.4'!H10=0,"Παρακαλούμε να συμπεριληφθούν δαπάνες για τουλάχιστον μια (1) δράση Ανάπτυξης Ικανοτήτων","") -> Παρακαλούμε να συμπεριληφθούν δαπάνες για τουλάχιστον μια (1) δράση Ανάπτυξης Ικανοτήτων

Sheet ΠΕ & Δράσεις
A2: Πακέτα Εργασίας (ΠΕ)
C3: ='Στοιχεία έργου'!B17 | D3: {='Στοιχεία έργου'!B19:C19} -> 0 | E3: 0
A5: Πακέτο Εργασίας 1 (ΠΕ1) - Διαχείριση έργου - Project Management
A7: Πακέτο Εργασίας (Π.Ε.) | B7: No Δράσης | C7: Τύπος Δράσης | D7: Τίτλος Δράσης (συμπληρώστε τον τίτλο κάθε προτεινόμενης δράσης, ο οποίος θα πρέπει να συμφωνεί με τον τίτλο που έχει καταχωρηθεί στο αντίστοιχο πεδίο της αίτησης) | E7: Μήνας έναρξης δράσης | F7: Μήνας ολοκλήρωσης
A8: Π.Ε.1 | B8: Π.Ε.-1.1
B9: Π.Ε.-1.2
B10: Π.Ε.-1.3
B11: Π.Ε.-1.4
B12: Π.Ε.-1.5
A14: =IF(C3=data!G2,data!B2,IF(C3=data!H2,data!C2,""))
A16: Πακέτο Εργασίας (Π.Ε.) | B16: No Δράσης | C16: Τύπος Δράσης | D16: Τίτλος Δράσης (συμπληρώστε τον τίτλο κάθε προτεινόμενης δράσης, ο οποίος θα πρέπει να συμφωνεί με τον τίτλο που έχει καταχωρηθεί στο αντίστοιχο πεδίο της αίτησης) | E16: Μήνας έναρξης δράσης | F16: Μήνας ολοκλήρωσης
A17: Π.Ε.2 | B17: Π.Ε.-2.1
B18: Π.Ε.-2.2
B19: Π.Ε.-2.3
B20: Π.Ε.-2.4
B21: Π.Ε.-2.5
B22: Π.Ε.-2.6
B23: Π.Ε.-2.7
B24: Π.Ε.-2.8
B25: Π.Ε.-2.9
B26: Π.Ε.-2.10
A28: Πακέτο Εργασίας 3 (ΠΕ3) - Πλάνο Επικοινωνίας και Διάχυσης
A30: Πακέτο Εργασίας (Π.Ε.) | B30: No Δράσης | C30: Τύπος Δράσης | D30: Τίτλος Δράσης (συμπληρώστε τον τίτλο κάθε προτεινόμενης δράσης, ο οποίος θα πρέπει να συμφωνεί με τον τίτλο που έχει καταχωρηθεί στο αντίστοιχο πεδίο της αίτησης) | E30: Μήνας έναρξης δράσης | F30: Μήνας ολοκλήρωσης
A31: Π.Ε.3 | B31: Π.Ε.-3.1
B32: Π.Ε.-3.2
B33: Π.Ε.-3.3
B34: Π.Ε.-3.4
B35: Π.Ε.-3.5
A37: Πακέτο Εργασίας 4 (ΠΕ4) - Δράσεις Ανάπτυξης Ικανοτήτων
A39: Πακέτο Εργασίας (Π.Ε.) | B39: No Δράσης | C39: Τύπος Δράσης | D39: Τίτλος Δράσης (συμπληρώστε τον τίτλο κάθε προτεινόμενης δράσης, ο οποίος θα πρέπει να συμφωνεί με τον τίτλο που έχει καταχωρηθεί στο αντίστοιχο πεδίο της αίτησης) | E39: Μήνας έναρξης δράσης | F39: Μήνας ολοκλήρωσης
A40: Π.Ε.4 | B40: Π.Ε.-4.1
B41: Π.Ε.-4.2
B42: Π.Ε.-4.3
B43: Π.Ε.-4.4
B44: Π.Ε.-4.5

Sheet Π.Ε.1 - W.P.1
A1: ='ΠΕ & Δράσεις'!A5 -> Πακέτο Εργασίας 1 (ΠΕ1) - Διαχείριση έργου - Project Management | O1: A1 | P1: ='ΠΕ & Δράσεις'!B8 -> Π.Ε.-1.1
O2: A2 | P2: ='ΠΕ & Δράσεις'!B9 -> Π.Ε.-1.2
G3: Εκτιμώμενα έξοδα Πακέτου Εργασίας | O3: B1 | P3: ='ΠΕ & Δράσεις'!B10 -> Π.Ε.-1.3 | Q3: Εισιτήρια
F4: A | G4: A1 Δαπάνες προσωπικού μισθωτών υπαλλήλων | H4: =SUMIF('Π.Ε.1 - W.P.1'!D:D,O1,'Π.Ε.1 - W.P.1'!L:L) -> 0 | I4: =SUM(H4:H5) -> 0 | O4: B2 | P4: ='ΠΕ & Δράσεις'!B11 -> Π.Ε.-1.4 | Q4: Διαμονή
G5: A2 Δαπάνες Προσωπικού Ελευθέρων Επαγγελματιών | H5: =SUMIF('Π.Ε.1 - W.P.1'!D:D,O2,'Π.Ε.1 - W.P.1'!L:L) -> 0 | P5: ='ΠΕ & Δράσεις'!B12 -> Π.Ε.-1.5 | Q5: Διατροφή | R5: 2
F6: B | G6: B1 Δαπάνες Ταξιδίων του Προσωπικού και των Συμμετεχόντων/-ουσών του Έργου | H6: =SUMIF('Π.Ε.1 - W.P.1'!D:D,O3,'Π.Ε.1 - W.P.1'!L:L) -> 0 | I6: =SUM(H6:H7) -> 0 | Q6: Λοιπά κόστη ταξιδίου
G7: B2 Λοιπές Δαπάνες | H7: =SUMIF('Π.Ε.1 - W.P.1'!D:D,O4,'Π.Ε.1 - W.P.1'!L:L) -> 0
F8: Συνολικά επιλέξιμα κόστη (εκτός έμμεσων δαπανών) A1+A2+B1+B2 | H8: =SUM(I4:I7) -> 0 | S8: Φορέας
F9: D | G9: Έμμεσες δαπάνες (7%) | H9: =ROUND(H8*0.07,2) -> 0 | J9: =IF(H9=0, 0, ROUND(H9/H8,4)) -> 0 | S9: Εταίρος 1
F10: Συνολικά επιλέξιμα κόστη A+B+D | H10: =H8+H9 -> 0 | S10: Εταίρος 2
A14: - Εάν όλα ή κάποια κελιά στη στήλη B, C, D, E είναι κόκκινα: Κάποιο από τα κελιά στις στήλες B, C, D ή E δεν έχει συμπληρωθεί και δεν θα εμφανίζεται το σωστό συνολικό ποσό!
A15: - Εάν τα κελιά στην στήλη Κ είναι κόκκινα: Η τιμή είναι αρνητική. Τα ποσά πρέπει να είναι θετικά !
A17: Πακέτο Εργασίας | B17: Νο. Δράσης | C17: Φορέας / Εταίρος | D17: Κωδικός κατηγορίας δαπάνης | E17: Περιγραφή κατηγορίας δαπάνης | F17: Περιγραφή δαπάνης (ανατρέξτε στην Ενότητα 4: Οικονομικές Προϋποθέσεις Έργου της Ανοιχτής Πρόσκλησης) | G17: Τεκμηρίωση/ αιτιολόγηση δαπάνης έως 600 χαρακτήρες. (Θα πρέπει να τεκμηριώσετε επαρκώς ότι η δαπάνη είναι αναλογική και ρεαλιστική σε σχέση με την προτεινόμενη δράση. Εάν το κελί γίνει κόκκινο, έχετε υπερβεί το μέγιστο επιτρεπόμενο όριο χαρακτήρων) | H17: Μονάδα υπολογισμού κόστους (επιλογή από λίστα) | I17: Αριθμός μονάδων | J17: Αξία ανά μονάδα σε ΕΥΡΩ | K17: Ποσοστό απασχόλησης (μόνο για το κόστος προσωπικού & επαγγελματίες) | L17: Σύνολο σε ΕΥΡΩ
A18: Π.Ε.1 | E18: =IF(D18="","",VLOOKUP(D18,$T$111:$U$115,2)) | L18: =IF(D18="",0,IF(OR(D18=$O$1,D18=$O$2),I18*J18*K18,I18*J18)) -> 0 | P18: =I18*K18 -> 0
A19: Π.Ε.1 | E19: =IF(D19="","",VLOOKUP(D19,$T$111:$U$115,2)) | L19: =IF(D19="",0,IF(OR(D19=$O$1,D19=$O$2),I19*J19*K19,I19*J19)) -> 0 | P19: =I19*K19 -> 0
A20: Π.Ε.1 | E20: =IF(D20="","",VLOOKUP(D20,$T$111:$U$115,2)) | L20: =IF(D20="",0,IF(OR(D20=$O$1,D20=$O$2),I20*J20*K20,I20*J20)) -> 0 | P20: =I20*K20 -> 0
A21: Π.Ε.1 | E21: =IF(D21="","",VLOOKUP(D21,$T$111:$U$115,2)) | L21: =IF(D21="",0,IF(OR(D21=$O$1,D21=$O$2),I21*J21*K21,I21*J21)) -> 0 | P21: =I21*K21 -> 0
A22: Π.Ε.1 | E22: =IF(D22="","",VLOOKUP(D22,$T$111:$U$115,2)) | L22: =IF(D22="",0,IF(OR(D22=$O$1,D22=$O$2),I22*J22*K22,I22*J22)) -> 0 | P22: =I22*K22 -> 0
A23: Π.Ε.1 | E23: =IF(D23="","",VLOOKUP(D23,$T$111:$U$115,2)) | L23: =IF(D23="",0,IF(OR(D23=$O$1,D23=$O$2),I23*J23*K23,I23*J23)) -> 0 | P23: =I23*K23 -> 0
A24: Π.Ε.1 | E24: =IF(D24="","",VLOOKUP(D24,$T$111:$U$115,2)) | L24: =IF(D24="",0,IF(OR(D24=$O$1,D24=$O$2),I24*J24*K24,I24*J24)) -> 0 | P24: =I24*K24 -> 0
A25: Π.Ε.1 | E25: =IF(D25="","",VLOOKUP(D25,$T$111:$U$115,2)) | L25: =IF(D25="",0,IF(OR(D25=$O$1,D25=$O$2),I25*J25*K25,I25*J25)) -> 0 | P25: =I25*K25 -> 0
A26: Π.Ε.1 | E26: =IF(D26="","",VLOOKUP(D26,$T$111:$U$115,2)) | L26: =IF(D26="",0,IF(OR(D26=$O$1,D26=$O$2),I26*J26*K26,I26*J26)) -> 0 | P26: =I26*K26 -> 0
A27: Π.Ε.1 | E27: =IF(D27="","",VLOOKUP(D27,$T$111:$U$115,2)) | L27: =IF(D27="",0,IF(OR(D27=$O$1,D27=$O$2),I27*J27*K27,I27*J27)) -> 0 | P27: =I27*K27 -> 0
A28: Π.Ε.1 | E28: =IF(D28="","",VLOOKUP(D28,$T$111:$U$115,2)) | L28: =IF(D28="",0,IF(OR(D28=$O$1,D28=$O$2),I28*J28*K28,I28*J28)) -> 0 | P28: =I28*K28 -> 0
A29: Π.Ε.1 | E29: =IF(D29="","",VLOOKUP(D29,$T$111:$U$115,2)) | L29: =IF(D29="",0,IF(OR(D29=$O$1,D29=$O$2),I29*J29*K29,I29*J29)) -> 0 | P29: =I29*K29 -> 0
... A96: Π.Ε.1 | E96: =IF(D96="","",VLOOKUP(D96,$T$111:$U$115,2)) | L96: =IF(D96="",0,IF(OR(D96=$O$1,D96=$O$2),I96*J96*K96,I96*J96)) -> 0 | P96: =I96*K96 -> 0
A97: Π.Ε.1 | L97: =IF(D97="",0,IF(OR(D97=$O$1,D97=$O$2),I97*J97*K97,I97*J97)) -> 0
A98: Π.Ε.1 | L98: =IF(D98="",0,IF(OR(D98=$O$1,D98=$O$2),I98*J98*K98,I98*J98)) -> 0
A99: Π.Ε.1 | L99: =IF(D99="",0,IF(OR(D99=$O$1,D99=$O$2),I99*J99*K99,I99*J99)) -> 0
A100: Π.Ε.1 | E100: =IF(D100="","",VLOOKUP(D100,$T$111:$U$115,2)) | L100: =IF(D100="",0,IF(OR(D100=$O$1,D100=$O$2),I100*J100*K100,I100*J100)) -> 0 | P100: =I100*K100 -> 0
W101: =U111 -> Κόστος προσωπικού | X101: =U112 -> Επαγγελματίες | Y101: Ταξίδια | Z101: Λοιπές δαπάνες | AA101: Έμμεσες δαπάνες | AB101: Personnel Months - A1 | AC101: Personnel Months - A2
W102: A1 | X102: A2 | Y102: B1 | Z102: B2 | AA102: D
S103: =SUMIFS($L$18:$L$100, $D$18:$D$100, "A1") -> 0 | T103: A1 | V103: =P1 -> Π.Ε.-1.1 | W103: =ROUND(SUMIFS($L$18:$L$100, $D$18:$D$100,W$102,$B$18:$B$100,$V103),2) -> 0 | X103: =ROUND(SUMIFS($L$18:$L$100, $D$18:$D$100,X$102,$B$18:$B$100,$V103),2) -> 0 | Y103: =ROUND(SUMIFS($L$18:$L$100, $D$18:$D$100,Y$102,$B$18:$B$100,$V103),2) -> 0 | Z103: =ROUND(SUMIFS($L$18:$L$100, $D$18:$D$100,Z$102,$B$18:$B$100,$V103),2) -> 0 | AA103: =ROUND(SUM(W103:Z103)*0.07,2) -> 0 | AB103: =SUMIFS($P$18:$P$100, $D$18:$D$100,$T$103,$B$18:$B$100,$V103) -> 0 | AC103: =SUMIFS($P$18:$P$100, $D$18:$D$100,$T$104,$B$18:$B$100,$V103) -> 0 | AD103: =V103 -> Π.Ε.-1.1
S104: =SUMIFS($L$18:$L$100, $D$18:$D$100, "A2") -> 0 | T104: A2 | V104: =P2 -> Π.Ε.-1.2 | W104: =ROUND(SUMIFS($L$18:$L$100, $D$18:$D$100,W$102,$B$18:$B$100,$V104),2) -> 0 | X104: =ROUND(SUMIFS($L$18:$L$100, $D$18:$D$100,X$102,$B$18:$B$100,$V104),2) -> 0 | Y104: =ROUND(SUMIFS($L$18:$L$100, $D$18:$D$100,Y$102,$B$18:$B$100,$V104),2) -> 0 | Z104: =ROUND(SUMIFS($L$18:$L$100, $D$18:$D$100,Z$102,$B$18:$B$100,$V104),2) -> 0 | AA104: =ROUND(SUM(W104:Z104)*0.07,2) -> 0 | AB104: =SUMIFS($P$18:$P$100, $D$18:$D$100,$T$103,$B$18:$B$100,$V104) -> 0 | AC104: =SUMIFS($P$18:$P$100, $D$18:$D$100,$T$104,$B$18:$B$100,$V104) -> 0 | AD104: =V104 -> Π.Ε.-1.2
S105: =SUMIFS($L$18:$L$100, $D$18:$D$100, "B1") -> 0 | T105: B1 | V105: =P3 -> Π.Ε.-1.3 | W105: =ROUND(SUMIFS($L$18:$L$100, $D$18:$D$100,W$102,$B$18:$B$100,$V105),2) -> 0 | X105: =ROUND(SUMIFS($L$18:$L$100, $D$18:$D$100,X$102,$B$18:$B$100,$V105),2) -> 0 | Y105: =ROUND(SUMIFS($L$18:$L$100, $D$18:$D$100,Y$102,$B$18:$B$100,$V105),2) -> 0 | Z105: =ROUND(SUMIFS($L$18:$L$100, $D$18:$D$100,Z$102,$B$18:$B$100,$V105),2) -> 0 | AA105: =ROUND(SUM(W105:Z105)*0.07,2) -> 0 | AB105: =SUMIFS($P$18:$P$100, $D$18:$D$100,$T$103,$B$18:$B$100,$V105) -> 0 | AC105: =SUMIFS($P$18:$P$100, $D$18:$D$100,$T$104,$B$18:$B$100,$V105) -> 0 | AD105: =V105 -> Π.Ε.-1.3
S106: =SUMIFS($L$18:$L$100, $D$18:$D$100, "B2") -> 0 | T106: B2 | V106: =P4 -> Π.Ε.-1.4 | W106: =ROUND(SUMIFS($L$18:$L$100, $D$18:$D$100,W$102,$B$18:$B$100,$V106),2) -> 0 | X106: =ROUND(SUMIFS($L$18:$L$100, $D$18:$D$100,X$102,$B$18:$B$100,$V106),2) -> 0 | Y106: =ROUND(SUMIFS($L$18:$L$100, $D$18:$D$100,Y$102,$B$18:$B$100,$V106),2) -> 0 | Z106: =ROUND(SUMIFS($L$18:$L$100, $D$18:$D$100,Z$102,$B$18:$B$100,$V106),2) -> 0 | AA106: =ROUND(SUM(W106:Z106)*0.07,2) -> 0 | AB106: =SUMIFS($P$18:$P$100, $D$18:$D$100,$T$103,$B$18:$B$100,$V106) -> 0 | AC106: =SUMIFS($P$18:$P$100, $D$18:$D$100,$T$104,$B$18:$B$100,$V106) -> 0 | AD106: =V106 -> Π.Ε.-1.4
S107: =SUMIFS($L$18:$L$100, $D$18:$D$100, "B3") -> 0 | T107: C | V107: =P5 -> Π.Ε.-1.5 | W107: =ROUND(SUMIFS($L$18:$L$100, $D$18:$D$100,W$102,$B$18:$B$100,$V107),2) -> 0 | X107: =ROUND(SUMIFS($L$18:$L$100, $D$18:$D$100,X$102,$B$18:$B$100,$V107),2) -> 0 | Y107: =ROUND(SUMIFS($L$18:$L$100, $D$18:$D$100,Y$102,$B$18:$B$100,$V107),2) -> 0 | Z107: =ROUND(SUMIFS($L$18:$L$100, $D$18:$D$100,Z$102,$B$18:$B$100,$V107),2) -> 0 | AA107: =ROUND(SUM(W107:Z107)*0.07,2) -> 0 | AB107: =SUMIFS($P$18:$P$100, $D$18:$D$100,$T$103,$B$18:$B$100,$V107) -> 0 | AC107: =SUMIFS($P$18:$P$100, $D$18:$D$100,$T$104,$B$18:$B$100,$V107) -> 0 | AD107: =V107 -> Π.Ε.-1.5
S108: =(S103+S104+S105+S106+S107)*0.07 -> 0 | T108: D | V108: =P6 -> 0 | W108: =ROUND(SUMIFS($L$18:$L$100, $D$18:$D$100,W$102,$B$18:$B$100,$V108),2) -> 0 | X108: =ROUND(SUMIFS($L$18:$L$100, $D$18:$D$100,X$102,$B$18:$B$100,$V108),2) -> 0 | Y108: =ROUND(SUMIFS($L$18:$L$100, $D$18:$D$100,Y$102,$B$18:$B$100,$V108),2) -> 0 | Z108: =ROUND(SUMIFS($L$18:$L$100, $D$18:$D$100,Z$102,$B$18:$B$100,$V108),2) -> 0 | AA108: =ROUND(SUM(W108:Z108)*0.07,2) -> 0 | AB108: =SUMIFS($P$18:$P$100, $D$18:$D$100,$T$103,$B$18:$B$100,$V108) -> 0 | AC108: =SUMIFS($P$18:$P$100, $D$18:$D$100,$T$104,$B$18:$B$100,$V108) -> 0 | AD108: =V108 -> 0
T111: A1 | U111: Κόστος προσωπικού
T112: A2 | U112: Επαγγελματίες
T113: B1 | U113: Ταξίδια
T114: B2 | U114: Λοιπές δαπάνες
T115: C | U115: Ανακατασκευή
U118: =Q3 -> Εισιτήρια
U119: =Q4 -> Διαμονή
U120: =Q5 -> Διατροφή
U121: =Q6 -> Λοιπά κόστη ταξιδίου

Sheet Π.Ε.2 - W.P.2
A1: ='ΠΕ & Δράσεις'!A14 | O1: A1 | P1: ='ΠΕ & Δράσεις'!B17 -> Π.Ε.-2.1 | R1: 1 | S1: 15000
O2: A2 | P2: ='ΠΕ & Δράσεις'!B18 -> Π.Ε.-2.2 | R2: 2 | S2: 60000
G3: Εκτιμώμενα έξοδα Πακέτου Εργασίας | O3: B1 | P3: ='ΠΕ & Δράσεις'!B19 -> Π.Ε.-2.3 | Q3: ='Π.Ε.1 - W.P.1'!Q3 -> Εισιτήρια | R3: 3 | S3: 5000
F4: A | G4: A1 Δαπάνες προσωπικού μισθωτών υπαλλήλων | H4: =SUMIF('Π.Ε.2 - W.P.2'!D:D,O1,'Π.Ε.2 - W.P.2'!L:L) -> 0 | I4: =SUM(H4:H5) -> 0 | O4: B2 | P4: ='ΠΕ & Δράσεις'!B20 -> Π.Ε.-2.4 | Q4: ='Π.Ε.1 - W.P.1'!Q4 -> Διαμονή
G5: A2 Δαπάνες Προσωπικού Ελευθέρων Επαγγελματιών | H5: =SUMIF('Π.Ε.2 - W.P.2'!D:D,O2,'Π.Ε.2 - W.P.2'!L:L) -> 0 | O5: C | P5: ='ΠΕ & Δράσεις'!B21 -> Π.Ε.-2.5 | Q5: ='Π.Ε.1 - W.P.1'!Q5 -> Διατροφή | R5: 2
F6: B | G6: B1 Δαπάνες Ταξιδίων του Προσωπικού και των Συμμετεχόντων/-ουσών του Έργου | H6: =SUMIF('Π.Ε.2 - W.P.2'!D:D,O3,'Π.Ε.2 - W.P.2'!L:L) -> 0 | I6: =SUM(H6:H7) -> 0 | P6: ='ΠΕ & Δράσεις'!B22 -> Π.Ε.-2.6 | Q6: ='Π.Ε.1 - W.P.1'!Q6 -> Λοιπά κόστη ταξιδίου
G7: B2 Λοιπές Δαπάνες | H7: =SUMIF('Π.Ε.2 - W.P.2'!D:D,O4,'Π.Ε.2 - W.P.2'!L:L) -> 0 | P7: ='ΠΕ & Δράσεις'!B23 -> Π.Ε.-2.7
F8: C | G8: C Ανακατασκευής - ανακαίνισης ακινήτου | H8: =ROUND(SUMIF('Π.Ε.2 - W.P.2'!D:D,O5,'Π.Ε.2 - W.P.2'!L:L),2) -> 0 | J8: =IF((H8+H8*7%)>('Σύνολα προϋπολογισμών ανά Δράση'!K31*50%),"Υπέρβαση κόστους ανακατασκευής παρακαλούμε διορθώστε","") | P8: ='ΠΕ & Δράσεις'!B24 -> Π.Ε.-2.8
F9: Συνολικά επιλέξιμα κόστη (εκτός έμμεσων δαπανών) A1+A2+B1+B2+C | H9: =SUM(I4:I7)+H8 -> 0 | P9: ='ΠΕ & Δράσεις'!B25 -> Π.Ε.-2.9 | S9: Φορέας
F10: D | G10: Έμμεσες δαπάνες (7%) | H10: =ROUND(H9*0.07,2) -> 0 | J10: =IF(H10=0, 0, ROUND(H10/H9,4)) -> 0 | P10: ='ΠΕ & Δράσεις'!B26 -> Π.Ε.-2.10 | S10: Εταίρος 1
F11: Συνολικά επιλέξιμα κόστη A+B+C+D | H11: =H9+H10 -> 0 | S11: Εταίρος 2
A14: - Εάν όλα ή κάποια κελιά στη στήλη B, C, D, E είναι κόκκινα: Κάποιο από τα κελιά στις στήλες B, C, D ή E δεν έχει συμπληρωθεί και δεν θα εμφανίζεται το σωστό συνολικό ποσό!
A15: - Εάν τα κελιά στην στήλη Κ είναι κόκκινα: Η τιμή είναι αρνητική. Τα ποσά πρέπει να είναι θετικά !
A17: Πακέτο Εργασίας | B17: Νο. Δράσης | C17: Φορέας / Εταίρος | D17: Κωδικός κατηγορίας δαπάνης | E17: Περιγραφή κατηγορίας δαπάνης | F17: Περιγραφή δαπάνης (ανατρέξτε στην Ενότητα 4: Οικονομικές Προϋποθέσεις Έργου της Ανοιχτής Πρόσκλησης) | G17: Τεκμηρίωση/ αιτιολόγηση δαπάνης έως 600 χαρακτήρες. (Θα πρέπει να τεκμηριώσετε επαρκώς ότι η δαπάνη είναι αναλογική και ρεαλιστική σε σχέση με την προτεινόμενη δράση. Εάν το κελί γίνει κόκκινο, έχετε υπερβεί το μέγιστο επιτρεπόμενο όριο χαρακτήρων) | H17: Μονάδα υπολογισμού κόστους (επιλογή από λίστα) | I17: Αριθμός μονάδων | J17: Αξία ανά μονάδα σε ΕΥΡΩ | K17: Ποσοστό απασχόλησης (μόνο για το κόστος προσωπικού & επαγγελματίες) | L17: Σύνολο σε ΕΥΡΩ
A18: Π.Ε.2 | E18: =IF(D18="","",VLOOKUP(D18,$T$112:$U$116,2)) | L18: =IF(D18="",0,IF(OR(D18=$O$1,D18=$O$2),I18*J18*K18,I18*J18)) -> 0 | P18: =I18*K18 -> 0
A19: Π.Ε.2 | E19: =IF(D19="","",VLOOKUP(D19,$T$112:$U$116,2)) | L19: =IF(D19="",0,IF(OR(D19=$O$1,D19=$O$2),I19*J19*K19,I19*J19)) -> 0 | P19: =I19*K19 -> 0
A20: Π.Ε.2 | E20: =IF(D20="","",VLOOKUP(D20,$T$112:$U$116,2)) | L20: =IF(D20="",0,IF(OR(D20=$O$1,D20=$O$2),I20*J20*K20,I20*J20)) -> 0 | P20: =I20*K20 -> 0
A21: Π.Ε.2 | E21: =IF(D21="","",VLOOKUP(D21,$T$112:$U$116,2)) | L21: =IF(D21="",0,IF(OR(D21=$O$1,D21=$O$2),I21*J21*K21,I21*J21)) -> 0 | P21: =I21*K21 -> 0
A22: Π.Ε.2 | E22: =IF(D22="","",VLOOKUP(D22,$T$112:$U$116,2)) | L22: =IF(D22="",0,IF(OR(D22=$O$1,D22=$O$2),I22*J22*K22,I22*J22)) -> 0 | P22: =I22*K22 -> 0
A23: Π.Ε.2 | E23: =IF(D23="","",VLOOKUP(D23,$T$112:$U$116,2)) | L23: =IF(D23="",0,IF(OR(D23=$O$1,D23=$O$2),I23*J23*K23,I23*J23)) -> 0 | P23: =I23*K23 -> 0
A24: Π.Ε.2 | E24: =IF(D24="","",VLOOKUP(D24,$T$112:$U$116,2)) | L24: =IF(D24="",0,IF(OR(D24=$O$1,D24=$O$2),I24*J24*K24,I24*J24)) -> 0 | P24: =I24*K24 -> 0
A25: Π.Ε.2 | E25: =IF(D25="","",VLOOKUP(D25,$T$112:$U$116,2)) | L25: =IF(D25="",0,IF(OR(D25=$O$1,D25=$O$2),I25*J25*K25,I25*J25)) -> 0 | P25: =I25*K25 -> 0
A26: Π.Ε.2 | E26: =IF(D26="","",VLOOKUP(D26,$T$112:$U$116,2)) | L26: =IF(D26="",0,IF(OR(D26=$O$1,D26=$O$2),I26*J26*K26,I26*J26)) -> 0 | P26: =I26*K26 -> 0
A27: Π.Ε.2 | E27: =IF(D27="","",VLOOKUP(D27,$T$112:$U$116,2)) | L27: =IF(D27="",0,IF(OR(D27=$O$1,D27=$O$2),I27*J27*K27,I27*J27)) -> 0 | P27: =I27*K27 -> 0
A28: Π.Ε.2 | E28: =IF(D28="","",VLOOKUP(D28,$T$112:$U$116,2)) | L28: =IF(D28="",0,IF(OR(D28=$O$1,D28=$O$2),I28*J28*K28,I28*J28)) -> 0 | P28: =I28*K28 -> 0
A29: Π.Ε.2 | E29: =IF(D29="","",VLOOKUP(D29,$T$112:$U$116,2)) | L29: =IF(D29="",0,IF(OR(D29=$O$1,D29=$O$2),I29*J29*K29,I29*J29)) -> 0 | P29: =I29*K29 -> 0
A30: Π.Ε.2 | E30: =IF(D30="","",VLOOKUP(D30,$T$112:$U$116,2)) | L30: =IF(D30="",0,IF(OR(D30=$O$1,D30=$O$2),I30*J30*K30,I30*J30)) -> 0 | P30: =I30*K30 -> 0
A31: Π.Ε.2 | E31: =IF(D31="","",VLOOKUP(D31,$T$112:$U$116,2)) | L31: =IF(D31="",0,IF(OR(D31=$O$1,D31=$O$2),I31*J31*K31,I31*J31)) -> 0
A32: Π.Ε.2 | E32: =IF(D32="","",VLOOKUP(D32,$T$112:$U$116,2)) | L32: =IF(D32="",0,IF(OR(D32=$O$1,D32=$O$2),I32*J32*K32,I32*J32)) -> 0
A33: Π.Ε.2 | E33: =IF(D33="","",VLOOKUP(D33,$T$112:$U$116,2)) | L33: =IF(D33="",0,IF(OR(D33=$O$1,D33=$O$2),I33*J33*K33,I33*J33)) -> 0
A34: Π.Ε.2 | E34: =IF(D34="","",VLOOKUP(D34,$T$112:$U$116,2)) | L34: =IF(D34="",0,IF(OR(D34=$O$1,D34=$O$2),I34*J34*K34,I34*J34)) -> 0
A35: Π.Ε.2 | E35: =IF(D35="","",VLOOKUP(D35,$T$112:$U$116,2)) | L35: =IF(D35="",0,IF(OR(D35=$O$1,D35=$O$2),I35*J35*K35,I35*J35)) -> 0
A36: Π.Ε.2 | E36: =IF(D36="","",VLOOKUP(D36,$T$112:$U$116,2)) | L36: =IF(D36="",0,IF(OR(D36=$O$1,D36=$O$2),I36*J36*K36,I36*J36)) -> 0
A37: Π.Ε.2 | E37: =IF(D37="","",VLOOKUP(D37,$T$112:$U$116,2)) | L37: =IF(D37="",0,IF(OR(D37=$O$1,D37=$O$2),I37*J37*K37,I37*J37)) -> 0
A38: Π.Ε.2 | E38: =IF(D38="","",VLOOKUP(D38,$T$112:$U$116,2)) | L38: =IF(D38="",0,IF(OR(D38=$O$1,D38=$O$2),I38*J38*K38,I38*J38)) -> 0
A39: Π.Ε.2 | E39: =IF(D39="","",VLOOKUP(D39,$T$112:$U$116,2)) | L39: =IF(D39="",0,IF(OR(D39=$O$1,D39=$O$2),I39*J39*K39,I39*J39)) -> 0
A40: Π.Ε.2 | E40: =IF(D40="","",VLOOKUP(D40,$T$112:$U$116,2)) | L40: =IF(D40="",0,IF(OR(D40=$O$1,D40=$O$2),I40*J40*K40,I40*J40)) -> 0
A41: Π.Ε.2 | E41: =IF(D41="","",VLOOKUP(D41,$T$112:$U$116,2)) | L41: =IF(D41="",0,IF(OR(D41=$O$1,D41=$O$2),I41*J41*K41,I41*J41)) -> 0
A42: Π.Ε.2 | E42: =IF(D42="","",VLOOKUP(D42,$T$112:$U$116,2)) | L42: =IF(D42="",0,IF(OR(D42=$O$1,D42=$O$2),I42*J42*K42,I42*J42)) -> 0
... A97: Π.Ε.2 | E97: =IF(D97="","",VLOOKUP(D97,$T$112:$U$116,2)) | L97: =IF(D97="",0,IF(OR(D97=$O$1,D97=$O$2),I97*J97*K97,I97*J97)) -> 0
A98: Π.Ε.2 | E98: =IF(D98="","",VLOOKUP(D98,$T$112:$U$116,2)) | L98: =IF(D98="",0,IF(OR(D98=$O$1,D98=$O$2),I98*J98*K98,I98*J98)) -> 0 | P98: =I98*K98 -> 0
A99: Π.Ε.2 | E99: =IF(D99="","",VLOOKUP(D99,$T$112:$U$116,2)) | L99: =IF(D99="",0,IF(OR(D99=$O$1,D99=$O$2),I99*J99*K99,I99*J99)) -> 0 | P99: =I99*K99 -> 0
A100: Π.Ε.2 | E100: =IF(D100="","",VLOOKUP(D100,$T$112:$U$116,2)) | L100: =IF(D100="",0,IF(OR(D100=$O$1,D100=$O$2),I100*J100*K100,I100*J100)) -> 0 | P100: =I100*K100 -> 0
W101: Προσωπικό | Y101: Ταξίδια | Z101: Λοιπές | AB101: Έμμεσες δαπάνες
W102: =U112 -> Κόστος προσωπικού | X102: =U113 -> Επαγγελματίες | Y102: Ταξίδια | Z102: Λοιπές δαπάνες | AA102: C Ανακατασκευής - ανακαίνισης ακινήτου / cost of reconstruction or renovation of property | AB102: Έμμεσες δαπάνες | AC102: Personnel Months - A1 | AD102: Personnel Months - A2
W103: A1 | X103: A2 | Y103: B1 | Z103: B2 | AA103: C | AB103: D
S104: =SUMIFS($L$18:$L$100, $D$18:$D$100, "A1") -> 0 | T104: A1 | V104: =P1 -> Π.Ε.-2.1 | W104: =ROUND(SUMIFS($L$18:$L$100, $D$18:$D$100,W$103,$B$18:$B$100,$V104),2) -> 0 | X104: =ROUND(SUMIFS($L$18:$L$100, $D$18:$D$100,X$103,$B$18:$B$100,$V104),2) -> 0 | Y104: =ROUND(SUMIFS($L$18:$L$100, $D$18:$D$100,Y$103,$B$18:$B$100,$V104),2) -> 0 | Z104: =ROUND(SUMIFS($L$18:$L$100, $D$18:$D$100,Z$103,$B$18:$B$100,$V104),2) -> 0 | AA104: =ROUND(SUMIFS($L$18:$L$100, $D$18:$D$100,AA$103,$B$18:$B$100,$V104),2) -> 0 | AB104: =ROUND(SUM(W104:AA104)*0.07,2) -> 0 | AC104: =SUMIFS($P$18:$P$100, $D$18:$D$100,$T$104,$B$18:$B$100,$V104) -> 0 | AD104: =SUMIFS($P$18:$P$100, $D$18:$D$100,$T$105,$B$18:$B$100,$V104) -> 0 | AE104: =V104 -> Π.Ε.-2.1
S105: =SUMIFS($L$18:$L$100, $D$18:$D$100, "A2") -> 0 | T105: A2 | V105: =P2 -> Π.Ε.-2.2 | W105: =ROUND(SUMIFS($L$18:$L$100, $D$18:$D$100,W$103,$B$18:$B$100,$V105),2) -> 0 | X105: =ROUND(SUMIFS($L$18:$L$100, $D$18:$D$100,X$103,$B$18:$B$100,$V105),2) -> 0 | Y105: =ROUND(SUMIFS($L$18:$L$100, $D$18:$D$100,Y$103,$B$18:$B$100,$V105),2) -> 0 | Z105: =ROUND(SUMIFS($L$18:$L$100, $D$18:$D$100,Z$103,$B$18:$B$100,$V105),2) -> 0 | AA105: =ROUND(SUMIFS($L$18:$L$100, $D$18:$D$100,AA$103,$B$18:$B$100,$V105),2) -> 0 | AB105: =ROUND(SUM(W105:AA105)*0.07,2) -> 0 | AC105: =SUMIFS($P$18:$P$100, $D$18:$D$100,$T$104,$B$18:$B$100,$V105) -> 0 | AD105: =SUMIFS($P$18:$P$100, $D$18:$D$100,$T$105,$B$18:$B$100,$V105) -> 0 | AE105: =V105 -> Π.Ε.-2.2
S106: =SUMIFS($L$18:$L$100, $D$18:$D$100, "B1") -> 0 | T106: B1 | V106: =P3 -> Π.Ε.-2.3 | W106: =ROUND(SUMIFS($L$18:$L$100, $D$18:$D$100,W$103,$B$18:$B$100,$V106),2) -> 0 | X106: =ROUND(SUMIFS($L$18:$L$100, $D$18:$D$100,X$103,$B$18:$B$100,$V106),2) -> 0 | Y106: =ROUND(SUMIFS($L$18:$L$100, $D$18:$D$100,Y$103,$B$18:$B$100,$V106),2) -> 0 | Z106: =ROUND(SUMIFS($L$18:$L$100, $D$18:$D$100,Z$103,$B$18:$B$100,$V106),2) -> 0 | AA106: =ROUND(SUMIFS($L$18:$L$100, $D$18:$D$100,AA$103,$B$18:$B$100,$V106),2) -> 0 | AB106: =ROUND(SUM(W106:AA106)*0.07,2) -> 0 | AC106: =SUMIFS($P$18:$P$100, $D$18:$D$100,$T$104,$B$18:$B$100,$V106) -> 0 | AD106: =SUMIFS($P$18:$P$100, $D$18:$D$100,$T$105,$B$18:$B$100,$V106) -> 0 | AE106: =V106 -> Π.Ε.-2.3
S107: =SUMIFS($L$18:$L$100, $D$18:$D$100, "B2") -> 0 | T107: B2 | V107: =P4 -> Π.Ε.-2.4 | W107: =ROUND(SUMIFS($L$18:$L$100, $D$18:$D$100,W$103,$B$18:$B$100,$V107),2) -> 0 | X107: =ROUND(SUMIFS($L$18:$L$100, $D$18:$D$100,X$103,$B$18:$B$100,$V107),2) -> 0 | Y107: =ROUND(SUMIFS($L$18:$L$100, $D$18:$D$100,Y$103,$B$18:$B$100,$V107),2) -> 0 | Z107: =ROUND(SUMIFS($L$18:$L$100, $D$18:$D$100,Z$103,$B$18:$B$100,$V107),2) -> 0 | AA107: =ROUND(SUMIFS($L$18:$L$100, $D$18:$D$100,AA$103,$B$18:$B$100,$V107),2) -> 0 | AB107: =ROUND(SUM(W107:AA107)*0.07,2) -> 0 | AC107: =SUMIFS($P$18:$P$100, $D$18:$D$100,$T$104,$B$18:$B$100,$V107) -> 0 | AD107: =SUMIFS($P$18:$P$100, $D$18:$D$100,$T$105,$B$18:$B$100,$V107) -> 0 | AE107: =V107 -> Π.Ε.-2.4
S108: =SUMIFS($L$18:$L$100, $D$18:$D$100, "C") -> 0 | T108: C | V108: =P5 -> Π.Ε.-2.5 | W108: =ROUND(SUMIFS($L$18:$L$100, $D$18:$D$100,W$103,$B$18:$B$100,$V108),2) -> 0 | X108: =ROUND(SUMIFS($L$18:$L$100, $D$18:$D$100,X$103,$B$18:$B$100,$V108),2) -> 0 | Y108: =ROUND(SUMIFS($L$18:$L$100, $D$18:$D$100,Y$103,$B$18:$B$100,$V108),2) -> 0 | Z108: =ROUND(SUMIFS($L$18:$L$100, $D$18:$D$100,Z$103,$B$18:$B$100,$V108),2) -> 0 | AA108: =ROUND(SUMIFS($L$18:$L$100, $D$18:$D$100,AA$103,$B$18:$B$100,$V108),2) -> 0 | AB108: =ROUND(SUM(W108:AA108)*0.07,2) -> 0 | AC108: =SUMIFS($P$18:$P$100, $D$18:$D$100,$T$104,$B$18:$B$100,$V108) -> 0 | AD108: =SUMIFS($P$18:$P$100, $D$18:$D$100,$T$105,$B$18:$B$100,$V108) -> 0 | AE108: =V108 -> Π.Ε.-2.5
S109: =SUM(S104:S108)*0.07 -> 0 | T109: D | V109: =P6 -> Π.Ε.-2.6 | W109: =ROUND(SUMIFS($L$18:$L$100, $D$18:$D$100,W$103,$B$18:$B$100,$V109),2) -> 0 | X109: =ROUND(SUMIFS($L$18:$L$100, $D$18:$D$100,X$103,$B$18:$B$100,$V109),2) -> 0 | Y109: =ROUND(SUMIFS($L$18:$L$100, $D$18:$D$100,Y$103,$B$18:$B$100,$V109),2) -> 0 | Z109: =ROUND(SUMIFS($L$18:$L$100, $D$18:$D$100,Z$103,$B$18:$B$100,$V109),2) -> 0 | AA109: =ROUND(SUMIFS($L$18:$L$100, $D$18:$D$100,AA$103,$B$18:$B$100,$V109),2) -> 0 | AB109: =ROUND(SUM(W109:AA109)*0.07,2) -> 0 | AC109: =SUMIFS($P$18:$P$100, $D$18:$D$100,$T$104,$B$18:$B$100,$V109) -> 0 | AD109: =SUMIFS($P$18:$P$100, $D$18:$D$100,$T$105,$B$18:$B$100,$V109) -> 0 | AE109: =V109 -> Π.Ε.-2.6
V110: =P7 -> Π.Ε.-2.7 | W110: =ROUND(SUMIFS($L$18:$L$100, $D$18:$D$100,W$103,$B$18:$B$100,$V110),2) -> 0 | X110: =ROUND(SUMIFS($L$18:$L$100, $D$18:$D$100,X$103,$B$18:$B$100,$V110),2) -> 0 | Y110: =ROUND(SUMIFS($L$18:$L$100, $D$18:$D$100,Y$103,$B$18:$B$100,$V110),2) -> 0 | Z110: =ROUND(SUMIFS($L$18:$L$100, $D$18:$D$100,Z$103,$B$18:$B$100,$V110),2) -> 0 | AA110: =ROUND(SUMIFS($L$18:$L$100, $D$18:$D$100,AA$103,$B$18:$B$100,$V110),2) -> 0 | AB110: =ROUND(SUM(W110:AA110)*0.07,2) -> 0 | AC110: =SUMIFS($P$18:$P$100, $D$18:$D$100,$T$104,$B$18:$B$100,$V110) -> 0 | AD110: =SUMIFS($P$18:$P$100, $D$18:$D$100,$T$105,$B$18:$B$100,$V110) -> 0 | AE110: =V110 -> Π.Ε.-2.7
V111: =P8 -> Π.Ε.-2.8 | W111: =ROUND(SUMIFS($L$18:$L$100, $D$18:$D$100,W$103,$B$18:$B$100,$V111),2) -> 0 | X111: =ROUND(SUMIFS($L$18:$L$100, $D$18:$D$100,X$103,$B$18:$B$100,$V111),2) -> 0 | Y111: =ROUND(SUMIFS($L$18:$L$100, $D$18:$D$100,Y$103,$B$18:$B$100,$V111),2) -> 0 | Z111: =ROUND(SUMIFS($L$18:$L$100, $D$18:$D$100,Z$103,$B$18:$B$100,$V111),2) -> 0 | AA111: =ROUND(SUMIFS($L$18:$L$100, $D$18:$D$100,AA$103,$B$18:$B$100,$V111),2) -> 0 | AB111: =ROUND(SUM(W111:AA111)*0.07,2) -> 0 | AC111: =SUMIFS($P$18:$P$100, $D$18:$D$100,$T$104,$B$18:$B$100,$V111) -> 0 | AD111: =SUMIFS($P$18:$P$100, $D$18:$D$100,$T$105,$B$18:$B$100,$V111) -> 0 | AE111: =V111 -> Π.Ε.-2.8
T112: A1 | U112: Κόστος προσωπικού | V112: =P9 -> Π.Ε.-2.9 | W112: =ROUND(SUMIFS($L$18:$L$100, $D$18:$D$100,W$103,$B$18:$B$100,$V112),2) -> 0 | X112: =ROUND(SUMIFS($L$18:$L$100, $D$18:$D$100,X$103,$B$18:$B$100,$V112),2) -> 0 | Y112: =ROUND(SUMIFS($L$18:$L$100, $D$18:$D$100,Y$103,$B$18:$B$100,$V112),2) -> 0 | Z112: =ROUND(SUMIFS($L$18:$L$100, $D$18:$D$100,Z$103,$B$18:$B$100,$V112),2) -> 0 | AA112: =ROUND(SUMIFS($L$18:$L$100, $D$18:$D$100,AA$103,$B$18:$B$100,$V112),2) -> 0 | AB112: =ROUND(SUM(W112:AA112)*0.07,2) -> 0 | AC112: =SUMIFS($P$18:$P$100, $D$18:$D$100,$T$104,$B$18:$B$100,$V112) -> 0 | AD112: =SUMIFS($P$18:$P$100, $D$18:$D$100,$T$105,$B$18:$B$100,$V112) -> 0 | AE112: =V112 -> Π.Ε.-2.9
T113: A2 | U113: Επαγγελματίες | V113: =P10 -> Π.Ε.-2.10 | W113: =ROUND(SUMIFS($L$18:$L$100, $D$18:$D$100,W$103,$B$18:$B$100,$V113),2) -> 0 | X113: =ROUND(SUMIFS($L$18:$L$100, $D$18:$D$100,X$103,$B$18:$B$100,$V113),2) -> 0 | Y113: =ROUND(SUMIFS($L$18:$L$100, $D$18:$D$100,Y$103,$B$18:$B$100,$V113),2) -> 0 | Z113: =ROUND(SUMIFS($L$18:$L$100, $D$18:$D$100,Z$103,$B$18:$B$100,$V113),2) -> 0 | AA113: =ROUND(SUMIFS($L$18:$L$100, $D$18:$D$100,AA$103,$B$18:$B$100,$V113),2) -> 0 | AB113: =ROUND(SUM(W113:AA113)*0.07,2) -> 0 | AC113: =SUMIFS($P$18:$P$100, $D$18:$D$100,$T$104,$B$18:$B$100,$V113) -> 0 | AD113: =SUMIFS($P$18:$P$100, $D$18:$D$100,$T$105,$B$18:$B$100,$V113) -> 0 | AE113: =V113 -> Π.Ε.-2.10
T114: B1 | U114: Ταξίδια
T115: B2 | U115: Λοιπές δαπάνες
T116: C | U116: Ανακατασκευή
T117: D | U117: Έμμεσες δαπάνες
U119: =Q3 -> Εισιτήρια
U120: =Q4 -> Διαμονή
U121: =Q5 -> Διατροφή
U122: =Q6 -> Λοιπά κόστη ταξιδίου
AD123: =+H11 -> 0
AD124: =SUM(W104:AB109) -> 0

Sheet Π.Ε.3 - W.P.3
A1: ='ΠΕ & Δράσεις'!A28 -> Πακέτο Εργασίας 3 (ΠΕ3) - Πλάνο Επικοινωνίας και Διάχυσης | O1: A1 | P1: ='ΠΕ & Δράσεις'!B31 -> Π.Ε.-3.1 | R1: 1 | S1: 15000
O2: A2 | P2: ='ΠΕ & Δράσεις'!B32 -> Π.Ε.-3.2 | R2: 2 | S2: 60000
G3: Εκτιμώμενα έξοδα Πακέτου Εργασίας | O3: B1 | P3: ='ΠΕ & Δράσεις'!B33 -> Π.Ε.-3.3 | Q3: ='Π.Ε.1 - W.P.1'!Q3 -> Εισιτήρια | R3: 3 | S3: 5000
F4: A | G4: A1 Δαπάνες προσωπικού μισθωτών υπαλλήλων | H4: =SUMIF('Π.Ε.3 - W.P.3'!D:D,O1,'Π.Ε.3 - W.P.3'!L:L) -> 0 | I4: =SUM(H4:H5) -> 0 | O4: B2 | P4: ='ΠΕ & Δράσεις'!B34 -> Π.Ε.-3.4 | Q4: ='Π.Ε.1 - W.P.1'!Q4 -> Διαμονή
G5: A2 Δαπάνες Προσωπικού Ελευθέρων Επαγγελματιών | H5: =SUMIF('Π.Ε.3 - W.P.3'!D:D,O2,'Π.Ε.3 - W.P.3'!L:L) -> 0 | P5: ='ΠΕ & Δράσεις'!B35 -> Π.Ε.-3.5 | Q5: ='Π.Ε.1 - W.P.1'!Q5 -> Διατροφή | R5: 2
F6: B | G6: B1 Δαπάνες Ταξιδίων του Προσωπικού και των Συμμετεχόντων/-ουσών του Έργου | H6: =SUMIF('Π.Ε.3 - W.P.3'!D:D,O3,'Π.Ε.3 - W.P.3'!L:L) -> 0 | I6: =SUM(H6:H7) -> 0 | Q6: ='Π.Ε.1 - W.P.1'!Q6 -> Λοιπά κόστη ταξιδίου
G7: B2 Λοιπές Δαπάνες | H7: =SUMIF('Π.Ε.3 - W.P.3'!D:D,O4,'Π.Ε.3 - W.P.3'!L:L) -> 0
F8: Συνολικά επιλέξιμα κόστη (εκτός έμμεσων δαπανών) A1+A2+B1+B2 | H8: =SUM(I4:I7) -> 0 | S8: Φορέας
F9: D | G9: Έμμεσες δαπάνες (7%) | H9: =ROUND(H8*0.07,2) -> 0 | J9: =IF(H9=0, 0, ROUND(H9/H8,4)) -> 0 | S9: Εταίρος 1
F10: Συνολικά επιλέξιμα κόστη A+B+D | H10: =H8+H9 -> 0 | S10: Εταίρος 2
A14: - Εάν όλα ή κάποια κελιά στη στήλη B, C, D, E είναι κόκκινα: Κάποιο από τα κελιά στις στήλες B, C, D ή E δεν έχει συμπληρωθεί και δεν θα εμφανίζεται το σωστό συνολικό ποσό!
A15: - Εάν τα κελιά στην στήλη Κ είναι κόκκινα: Η τιμή είναι αρνητική. Τα ποσά πρέπει να είναι θετικά !
A17: Πακέτο Εργασίας | B17: Νο. Δράσης | C17: Φορέας / Εταίρος | D17: Κωδικός κατηγορίας δαπάνης | E17: Περιγραφή κατηγορίας δαπάνης | F17: Περιγραφή δαπάνης (ανατρέξτε στην Ενότητα 4: Οικονομικές Προϋποθέσεις Έργου της Ανοιχτής Πρόσκλησης) | G17: Τεκμηρίωση/ αιτιολόγηση δαπάνης έως 600 χαρακτήρες. (Θα πρέπει να τεκμηριώσετε επαρκώς ότι η δαπάνη είναι αναλογική και ρεαλιστική σε σχέση με την προτεινόμενη δράση. Εάν το κελί γίνει κόκκινο, έχετε υπερβεί το μέγιστο επιτρεπόμενο όριο χαρακτήρων) | H17: Μονάδα υπολογισμού κόστους (επιλογή από λίστα) | I17: Αριθμός μονάδων | J17: Αξία ανά μονάδα σε ΕΥΡΩ | K17: Ποσοστό απασχόλησης (μόνο για το κόστος προσωπικού & επαγγελματίες) | L17: Σύνολο σε ΕΥΡΩ | P17: ='Π.Ε.1 - W.P.1'!P17 -> 0
A18: Π.Ε.3 | E18: =IF(D18="","",VLOOKUP(D18,$T$112:$U$116,2)) | L18: =IF(D18="",0,IF(OR(D18=$O$1,D18=$O$2),I18*J18*K18,I18*J18)) -> 0 | P18: =I18*K18 -> 0
A19: Π.Ε.3 | E19: =IF(D19="","",VLOOKUP(D19,$T$112:$U$116,2)) | L19: =IF(D19="",0,IF(OR(D19=$O$1,D19=$O$2),I19*J19*K19,I19*J19)) -> 0 | P19: =I19*K19 -> 0
A20: Π.Ε.3 | E20: =IF(D20="","",VLOOKUP(D20,$T$112:$U$116,2)) | L20: =IF(D20="",0,IF(OR(D20=$O$1,D20=$O$2),I20*J20*K20,I20*J20)) -> 0 | P20: =I20*K20 -> 0
A21: Π.Ε.3 | E21: =IF(D21="","",VLOOKUP(D21,$T$112:$U$116,2)) | L21: =IF(D21="",0,IF(OR(D21=$O$1,D21=$O$2),I21*J21*K21,I21*J21)) -> 0 | P21: =I21*K21 -> 0
A22: Π.Ε.3 | E22: =IF(D22="","",VLOOKUP(D22,$T$112:$U$116,2)) | L22: =IF(D22="",0,IF(OR(D22=$O$1,D22=$O$2),I22*J22*K22,I22*J22)) -> 0 | P22: =I22*K22 -> 0
A23: Π.Ε.3 | E23: =IF(D23="","",VLOOKUP(D23,$T$112:$U$116,2)) | L23: =IF(D23="",0,IF(OR(D23=$O$1,D23=$O$2),I23*J23*K23,I23*J23)) -> 0 | P23: =I23*K23 -> 0
A24: Π.Ε.3 | E24: =IF(D24="","",VLOOKUP(D24,$T$112:$U$116,2)) | L24: =IF(D24="",0,IF(OR(D24=$O$1,D24=$O$2),I24*J24*K24,I24*J24)) -> 0 | P24: =I24*K24 -> 0
A25: Π.Ε.3 | E25: =IF(D25="","",VLOOKUP(D25,$T$112:$U$116,2)) | L25: =IF(D25="",0,IF(OR(D25=$O$1,D25=$O$2),I25*J25*K25,I25*J25)) -> 0 | P25: =I25*K25 -> 0
A26: Π.Ε.3 | E26: =IF(D26="","",VLOOKUP(D26,$T$112:$U$116,2)) | L26: =IF(D26="",0,IF(OR(D26=$O$1,D26=$O$2),I26*J26*K26,I26*J26)) -> 0 | P26: =I26*K26 -> 0
A27: Π.Ε.3 | E27: =IF(D27="","",VLOOKUP(D27,$T$112:$U$116,2)) | L27: =IF(D27="",0,IF(OR(D27=$O$1,D27=$O$2),I27*J27*K27,I27*J27)) -> 0 | P27: =I27*K27 -> 0
A28: Π.Ε.3 | E28: =IF(D28="","",VLOOKUP(D28,$T$112:$U$116,2)) | L28: =IF(D28="",0,IF(OR(D28=$O$1,D28=$O$2),I28*J28*K28,I28*J28)) -> 0 | P28: =I28*K28 -> 0
A29: Π.Ε.3 | E29: =IF(D29="","",VLOOKUP(D29,$T$112:$U$116,2)) | L29: =IF(D29="",0,IF(OR(D29=$O$1,D29=$O$2),I29*J29*K29,I29*J29)) -> 0 | P29: =I29*K29 -> 0
... A100: Π.Ε.3 | E100: =IF(D100="","",VLOOKUP(D100,$T$112:$U$116,2)) | L100: =IF(D100="",0,IF(OR(D100=$O$1,D100=$O$2),I100*J100*K100,I100*J100)) -> 0 | P100: =I100*K100 -> 0
W101: Προσωπικό | Y101: Ταξίδια | Z101: Λοιπές | AA101: Έμμεσες δαπάνες
W102: =U112 -> Κόστος προσωπικού | X102: =U113 -> Επαγγελματίες | Y102: =U114 -> Ταξίδια | Z102: =+U115 -> Λοιπές δαπάνες | AA102: =+U116 -> Έμμεσες δαπάνες | AB102: Personnel Months - A1 | AC102: Personnel Months - A2
W103: A1 | X103: A2 | Y103: B1 | Z103: B2 | AA103: D
S104: =SUMIFS($L$18:$L$100, $D$18:$D$100, "A1") -> 0 | T104: A1 | V104: =P1 -> Π.Ε.-3.1 | W104: =ROUND(SUMIFS($L$18:$L$100, $D$18:$D$100,W$103,$B$18:$B$100,$V104),2) -> 0 | X104: =ROUND(SUMIFS($L$18:$L$100, $D$18:$D$100,X$103,$B$18:$B$100,$V104),2) -> 0 | Y104: =ROUND(SUMIFS($L$18:$L$100, $D$18:$D$100,Y$103,$B$18:$B$100,$V104),2) -> 0 | Z104: =ROUND(SUMIFS($L$18:$L$100, $D$18:$D$100,Z$103,$B$18:$B$100,$V104),2) -> 0 | AA104: =ROUND(SUM(W104:Z104)*0.07,2) -> 0 | AB104: =SUMIFS($P$18:$P$100, $D$18:$D$100,$T$104,$B$18:$B$100,$V104) -> 0 | AC104: =SUMIFS($P$18:$P$100, $D$18:$D$100,$T$105,$B$18:$B$100,$V104) -> 0 | AD104: =V104 -> Π.Ε.-3.1
S105: =SUMIFS($L$18:$L$100, $D$18:$D$100, "A2") -> 0 | T105: A2 | V105: =P2 -> Π.Ε.-3.2 | W105: =ROUND(SUMIFS($L$18:$L$100, $D$18:$D$100,W$103,$B$18:$B$100,$V105),2) -> 0 | X105: =ROUND(SUMIFS($L$18:$L$100, $D$18:$D$100,X$103,$B$18:$B$100,$V105),2) -> 0 | Y105: =ROUND(SUMIFS($L$18:$L$100, $D$18:$D$100,Y$103,$B$18:$B$100,$V105),2) -> 0 | Z105: =ROUND(SUMIFS($L$18:$L$100, $D$18:$D$100,Z$103,$B$18:$B$100,$V105),2) -> 0 | AA105: =ROUND(SUM(W105:Z105)*0.07,2) -> 0 | AB105: =SUMIFS($P$18:$P$100, $D$18:$D$100,$T$104,$B$18:$B$100,$V105) -> 0 | AC105: =SUMIFS($P$18:$P$100, $D$18:$D$100,$T$105,$B$18:$B$100,$V105) -> 0 | AD105: =V105 -> Π.Ε.-3.2
S106: =SUMIFS($L$18:$L$100, $D$18:$D$100, "B1") -> 0 | T106: B1 | V106: =P3 -> Π.Ε.-3.3 | W106: =ROUND(SUMIFS($L$18:$L$100, $D$18:$D$100,W$103,$B$18:$B$100,$V106),2) -> 0 | X106: =ROUND(SUMIFS($L$18:$L$100, $D$18:$D$100,X$103,$B$18:$B$100,$V106),2) -> 0 | Y106: =ROUND(SUMIFS($L$18:$L$100, $D$18:$D$100,Y$103,$B$18:$B$100,$V106),2) -> 0 | Z106: =ROUND(SUMIFS($L$18:$L$100, $D$18:$D$100,Z$103,$B$18:$B$100,$V106),2) -> 0 | AA106: =ROUND(SUM(W106:Z106)*0.07,2) -> 0 | AB106: =SUMIFS($P$18:$P$100, $D$18:$D$100,$T$104,$B$18:$B$100,$V106) -> 0 | AC106: =SUMIFS($P$18:$P$100, $D$18:$D$100,$T$105,$B$18:$B$100,$V106) -> 0 | AD106: =V106 -> Π.Ε.-3.3
S107: =SUMIFS($L$18:$L$100, $D$18:$D$100, "B2") -> 0 | T107: B2 | V107: =P4 -> Π.Ε.-3.4 | W107: =ROUND(SUMIFS($L$18:$L$100, $D$18:$D$100,W$103,$B$18:$B$100,$V107),2) -> 0 | X107: =ROUND(SUMIFS($L$18:$L$100, $D$18:$D$100,X$103,$B$18:$B$100,$V107),2) -> 0 | Y107: =ROUND(SUMIFS($L$18:$L$100, $D$18:$D$100,Y$103,$B$18:$B$100,$V107),2) -> 0 | Z107: =ROUND(SUMIFS($L$18:$L$100, $D$18:$D$100,Z$103,$B$18:$B$100,$V107),2) -> 0 | AA107: =ROUND(SUM(W107:Z107)*0.07,2) -> 0 | AB107: =SUMIFS($P$18:$P$100, $D$18:$D$100,$T$104,$B$18:$B$100,$V107) -> 0 | AC107: =SUMIFS($P$18:$P$100, $D$18:$D$100,$T$105,$B$18:$B$100,$V107) -> 0 | AD107: =V107 -> Π.Ε.-3.4
S108: =SUMIFS($L$18:$L$100, $D$18:$D$100, "C") -> 0 | T108: C | V108: =P5 -> Π.Ε.-3.5 | W108: =ROUND(SUMIFS($L$18:$L$100, $D$18:$D$100,W$103,$B$18:$B$100,$V108),2) -> 0 | X108: =ROUND(SUMIFS($L$18:$L$100, $D$18:$D$100,X$103,$B$18:$B$100,$V108),2) -> 0 | Y108: =ROUND(SUMIFS($L$18:$L$100, $D$18:$D$100,Y$103,$B$18:$B$100,$V108),2) -> 0 | Z108: =ROUND(SUMIFS($L$18:$L$100, $D$18:$D$100,Z$103,$B$18:$B$100,$V108),2) -> 0 | AA108: =ROUND(SUM(W108:Z108)*0.07,2) -> 0 | AB108: =SUMIFS($P$18:$P$100, $D$18:$D$100,$T$104,$B$18:$B$100,$V108) -> 0 | AC108: =SUMIFS($P$18:$P$100, $D$18:$D$100,$T$105,$B$18:$B$100,$V108) -> 0 | AD108: =V108 -> Π.Ε.-3.5
S109: =SUM(S104:S108)*0.07 -> 0 | T109: D | V109: =P6 -> 0 | W109: =ROUND(SUMIFS($L$18:$L$100, $D$18:$D$100,W$103,$B$18:$B$100,$V109),2) -> 0 | X109: =ROUND(SUMIFS($L$18:$L$100, $D$18:$D$100,X$103,$B$18:$B$100,$V109),2) -> 0 | Y109: =ROUND(SUMIFS($L$18:$L$100, $D$18:$D$100,Y$103,$B$18:$B$100,$V109),2) -> 0 | Z109: =ROUND(SUMIFS($L$18:$L$100, $D$18:$D$100,Z$103,$B$18:$B$100,$V109),2) -> 0 | AA109: =ROUND(SUM(W109:Z109)*0.07,2) -> 0 | AB109: =SUMIFS($P$18:$P$100, $D$18:$D$100,$T$104,$B$18:$B$100,$V109) -> 0 | AC109: =SUMIFS($P$18:$P$100, $D$18:$D$100,$T$105,$B$18:$B$100,$V109) -> 0 | AD109: =V109 -> 0
AA110: =SUM(W104:AA109) -> 0
T112: A1 | U112: Κόστος προσωπικού
T113: A2 | U113: Επαγγελματίες
T114: B1 | U114: Ταξίδια
T115: B2 | U115: Λοιπές δαπάνες
T116: D | U116: Έμμεσες δαπάνες
U119: =Q3 -> Εισιτήρια
U120: =Q4 -> Διαμονή
U121: =Q5 -> Διατροφή
U122: =Q6 -> Λοιπά κόστη ταξιδίου
AC123: =+H10 -> 0
AC124: =SUM(W104:AA109) -> 0

Sheet Π.Ε.4 - W.P.4
A1: ='ΠΕ & Δράσεις'!A37 -> Πακέτο Εργασίας 4 (ΠΕ4) - Δράσεις Ανάπτυξης Ικανοτήτων | O1: A1 | P1: ='ΠΕ & Δράσεις'!B40 -> Π.Ε.-4.1 | R1: 1 | S1: 15000 | U1: Φορέας
L2: {='Στοιχεία έργου'!B19:C19} -> 0 | M2: 0 | N2: Υπέρβαση ποσού CBC κατά | O2: A2 | P2: ='ΠΕ & Δράσεις'!B41 -> Π.Ε.-4.2 | R2: 2 | S2: 60000 | U2: Εταίρος 1
G3: Εκτιμώμενα έξοδα Πακέτου Εργασίας | L3: Μεγάλο | M3: Μεσαίο | O3: B1 | P3: ='ΠΕ & Δράσεις'!B42 -> Π.Ε.-4.3 | Q3: ='Π.Ε.1 - W.P.1'!Q3 -> Εισιτήρια | R3: 3 | S3: 5000 | U3: Εταίρος 2
F4: A | G4: A1 Δαπάνες προσωπικού μισθωτών υπαλλήλων | H4: =SUMIF('Π.Ε.4 - W.P.4'!D:D,O1,'Π.Ε.4 - W.P.4'!L:L) -> 0 | I4: =SUM(H4:H5) -> 0 | K4: Σύνολο wp1-3 | L4: =ROUND(SUM('Σύνολα προϋπολογισμών ανά Δράση'!E6:H25),2) -> 0 | M4: =ROUND(SUM('Σύνολα προϋπολογισμών ανά Δράση'!E6:H25),2) -> 0 | O4: B2 | P4: ='ΠΕ & Δράσεις'!B43 -> Π.Ε.-4.4 | Q4: ='Π.Ε.1 - W.P.1'!Q4 -> Διαμονή
G5: A2 Δαπάνες Προσωπικού Ελευθέρων Επαγγελματιών | H5: =SUMIF('Π.Ε.4 - W.P.4'!D:D,O2,'Π.Ε.4 - W.P.4'!L:L) -> 0 | K5: min core activities costs for max CBC | L5: =ROUND(200000/1.07*0.85,2) -> 158878.5 | M5: =ROUND(100000/1.07*0.85,2) -> 79439.25 | P5: ='ΠΕ & Δράσεις'!B44 -> Π.Ε.-4.5 | Q5: ='Π.Ε.1 - W.P.1'!Q5 -> Διατροφή | R5: 2
F6: B | G6: B1 Δαπάνες Ταξιδίων του Προσωπικού και των Συμμετεχόντων/-ουσών του Έργου | H6: =SUMIF('Π.Ε.4 - W.P.4'!D:D,O3,'Π.Ε.4 - W.P.4'!L:L) -> 0 | I6: =SUM(H6:H7) -> 0 | K6: max core activities costs for 0 CBC | L6: =ROUND(200000/1.07,2) -> 186915.89 | M6: =ROUND(100000/1.07,2) -> 93457.94 | Q6: ='Π.Ε.1 - W.P.1'!Q6 -> Λοιπά κόστη ταξιδίου
G7: B2 Λοιπές Δαπάνες | H7: =SUMIF('Π.Ε.4 - W.P.4'!D:D,O4,'Π.Ε.4 - W.P.4'!L:L) -> 0 | K7: max CB | L7: =ROUND(200000/1.07-L5,2) -> 28037.39 | M7: =ROUND(100000/1.07-M5,2) -> 14018.69
F8: Συνολικά επιλέξιμα κόστη (εκτός έμμεσων δαπανών) A1+A2+B1+B2 | I8: =IF(K10=N2,"",SUM(I4:I7)) -> 0
F9: D | G9: Έμμεσες δαπάνες (7%) | H9: =IFERROR(ROUND(I8*0.07,2),"") -> 0 | J9: =IFERROR(IF(H9=0, 0, ROUND(H9/I8,4)),"") -> 0 | K9: Μέγιστο επιτρεπόμενο CB βάσει ΠΕ1+ΠΕ2+ΠΕ3 | L9: =IF(L2=L3,ROUND(IF($L$4<$L$5,$L$4/85%*15%,IF($L$4>$L$6,0,$L$6-$L$4)),2),"") | M9: =IF(L2=M3,ROUND(IF($M$4<$M$5,$M$4/85%*15%,IF($M$4>$M$6,0,$M$6-$M$4)),2),"")
F10: Συνολικά επιλέξιμα κόστη A+B+D | H10: =IFERROR(I8+H9,"") -> 0 | K10: =IF(L2=L3,IF(SUM(L18:L100)>L9,N2,""),IF(L2=M3,IF(SUM(L18:L100)>M9,N2,""),"")) | L10: =IF(L2=L3,IF(K10="","",SUM(L18:L100)-L9),"") | M10: =IF(L2=M3,IF(K10="","",SUM(L18:L100)-M9),"")
K11: Παρακαλούμε να συμπεριληφθούν δαπάνες για τουλάχιστον μία (1) δράση. Το σύνολο μπορεί να είναι έως 15% του συνολικού αιτούμενου ποσού επιχορήγησης.
A14: - Εάν όλα ή κάποια κελιά στη στήλη B, C, D, E είναι κόκκινα: Κάποιο από τα κελιά στις στήλες B, C, D ή E δεν έχει συμπληρωθεί και δεν θα εμφανίζεται το σωστό συνολικό ποσό!
A15: - Εάν τα κελιά στην στήλη Κ είναι κόκκινα: Η τιμή είναι αρνητική. Τα ποσά πρέπει να είναι θετικά !
A17: Πακέτο Εργασίας | B17: Νο. Δράσης | C17: Φορέας | D17: Κωδικός κατηγορίας δαπάνης | E17: Περιγραφή κατηγορίας δαπάνης | F17: Περιγραφή δαπάνης (ανατρέξτε στην Ενότητα 4: Οικονομικές Προϋποθέσεις Έργου της Ανοιχτής Πρόσκλησης) | G17: Τεκμηρίωση/ αιτιολόγηση δαπάνης έως 600 χαρακτήρες. (Θα πρέπει να τεκμηριώσετε επαρκώς ότι η δαπάνη είναι αναλογική και ρεαλιστική σε σχέση με την προτεινόμενη δράση. Εάν το κελί γίνει κόκκινο, έχετε υπερβεί το μέγιστο επιτρεπόμενο όριο χαρακτήρων) | H17: Μονάδα υπολογισμού κόστους (επιλογή από λίστα) | I17: Αριθμός μονάδων | J17: Αξία ανά μονάδα σε ΕΥΡΩ | K17: Ποσοστό απασχόλησης (μόνο για το κόστος προσωπικού & επαγγελματίες) | L17: Σύνολο σε ΕΥΡΩ
A18: Π.Ε.4 | C18: Φορέας | E18: =IF(D18="","",VLOOKUP(D18,$T$112:$U$116,2)) | L18: =IF(D18="",0,IF(OR(D18=$O$1,D18=$O$2),I18*J18*K18,I18*J18)) -> 0 | P18: =I18*K18 -> 0
A19: Π.Ε.4 | C19: Φορέας | E19: =IF(D19="","",VLOOKUP(D19,$T$112:$U$116,2)) | L19: =IF(D19="",0,IF(OR(D19=$O$1,D19=$O$2),I19*J19*K19,I19*J19)) -> 0 | P19: =I19*K19 -> 0
A20: Π.Ε.4 | C20: Φορέας | E20: =IF(D20="","",VLOOKUP(D20,$T$112:$U$116,2)) | L20: =IF(D20="",0,IF(OR(D20=$O$1,D20=$O$2),I20*J20*K20,I20*J20)) -> 0 | P20: =I20*K20 -> 0
A21: Π.Ε.4 | C21: Φορέας | E21: =IF(D21="","",VLOOKUP(D21,$T$112:$U$116,2)) | L21: =IF(D21="",0,IF(OR(D21=$O$1,D21=$O$2),I21*J21*K21,I21*J21)) -> 0 | P21: =I21*K21 -> 0
A22: Π.Ε.4 | C22: Φορέας | E22: =IF(D22="","",VLOOKUP(D22,$T$112:$U$116,2)) | L22: =IF(D22="",0,IF(OR(D22=$O$1,D22=$O$2),I22*J22*K22,I22*J22)) -> 0 | P22: =I22*K22 -> 0
A23: Π.Ε.4 | C23: Φορέας | E23: =IF(D23="","",VLOOKUP(D23,$T$112:$U$116,2)) | L23: =IF(D23="",0,IF(OR(D23=$O$1,D23=$O$2),I23*J23*K23,I23*J23)) -> 0 | P23: =I23*K23 -> 0
A24: Π.Ε.4 | C24: Φορέας | E24: =IF(D24="","",VLOOKUP(D24,$T$112:$U$116,2)) | L24: =IF(D24="",0,IF(OR(D24=$O$1,D24=$O$2),I24*J24*K24,I24*J24)) -> 0 | P24: =I24*K24 -> 0
A25: Π.Ε.4 | C25: Φορέας | E25: =IF(D25="","",VLOOKUP(D25,$T$112:$U$116,2)) | L25: =IF(D25="",0,IF(OR(D25=$O$1,D25=$O$2),I25*J25*K25,I25*J25)) -> 0 | P25: =I25*K25 -> 0
A26: Π.Ε.4 | C26: Φορέας | E26: =IF(D26="","",VLOOKUP(D26,$T$112:$U$116,2)) | L26: =IF(D26="",0,IF(OR(D26=$O$1,D26=$O$2),I26*J26*K26,I26*J26)) -> 0 | P26: =I26*K26 -> 0
A27: Π.Ε.4 | C27: Φορέας | E27: =IF(D27="","",VLOOKUP(D27,$T$112:$U$116,2)) | L27: =IF(D27="",0,IF(OR(D27=$O$1,D27=$O$2),I27*J27*K27,I27*J27)) -> 0 | P27: =I27*K27 -> 0
A28: Π.Ε.4 | C28: Φορέας | E28: =IF(D28="","",VLOOKUP(D28,$T$112:$U$116,2)) | L28: =IF(D28="",0,IF(OR(D28=$O$1,D28=$O$2),I28*J28*K28,I28*J28)) -> 0 | P28: =I28*K28 -> 0
A29: Π.Ε.4 | C29: Φορέας | E29: =IF(D29="","",VLOOKUP(D29,$T$112:$U$116,2)) | L29: =IF(D29="",0,IF(OR(D29=$O$1,D29=$O$2),I29*J29*K29,I29*J29)) -> 0 | P29: =I29*K29 -> 0
... A100: Π.Ε.4 | C100: Φορέας | E100: =IF(D100="","",VLOOKUP(D100,$T$112:$U$116,2)) | L100: =IF(D100="",0,IF(OR(D100=$O$1,D100=$O$2),I100*J100*K100,I100*J100)) -> 0 | P100: =I100*K100 -> 0
W101: Προσωπικό | Y101: Ταξίδια | Z101: Λοιπές | AA101: Έμμεσες δαπάνες
W102: =U112 -> Κόστος προσωπικού | X102: =U113 -> Επαγγελματίες | Y102: =U114 -> Ταξίδια | Z102: =+U115 -> Λοιπές δαπάνες | AA102: =+U116 -> Έμμεσες δαπάνες | AB102: Personnel Months - A1 | AC102: Personnel Months - A2
W103: A1 | X103: A2 | Y103: B1 | Z103: B2 | AA103: D
S104: =SUMIFS($L$18:$L$100, $D$18:$D$100, "A1") -> 0 | T104: A1 | V104: =P1 -> Π.Ε.-4.1 | W104: =ROUND(SUMIFS($L$18:$L$100, $D$18:$D$100,W$103,$B$18:$B$100,$V104),2) -> 0 | X104: =ROUND(SUMIFS($L$18:$L$100, $D$18:$D$100,X$103,$B$18:$B$100,$V104),2) -> 0 | Y104: =ROUND(SUMIFS($L$18:$L$100, $D$18:$D$100,Y$103,$B$18:$B$100,$V104),2) -> 0 | Z104: =ROUND(SUMIFS($L$18:$L$100, $D$18:$D$100,Z$103,$B$18:$B$100,$V104),2) -> 0 | AA104: =ROUND(SUM(W104:Z104)*0.07,2) -> 0 | AB104: =SUMIFS($P$18:$P$100, $D$18:$D$100,$T$104,$B$18:$B$100,$V104) -> 0 | AC104: =SUMIFS($P$18:$P$100, $D$18:$D$100,$T$105,$B$18:$B$100,$V104) -> 0 | AD104: =V104 -> Π.Ε.-4.1
S105: =SUMIFS($L$18:$L$100, $D$18:$D$100, "A2") -> 0 | T105: A2 | V105: =P2 -> Π.Ε.-4.2 | W105: =ROUND(SUMIFS($L$18:$L$100, $D$18:$D$100,W$103,$B$18:$B$100,$V105),2) -> 0 | X105: =ROUND(SUMIFS($L$18:$L$100, $D$18:$D$100,X$103,$B$18:$B$100,$V105),2) -> 0 | Y105: =ROUND(SUMIFS($L$18:$L$100, $D$18:$D$100,Y$103,$B$18:$B$100,$V105),2) -> 0 | Z105: =ROUND(SUMIFS($L$18:$L$100, $D$18:$D$100,Z$103,$B$18:$B$100,$V105),2) -> 0 | AA105: =ROUND(SUM(W105:Z105)*0.07,2) -> 0 | AB105: =SUMIFS($P$18:$P$100, $D$18:$D$100,$T$104,$B$18:$B$100,$V105) -> 0 | AC105: =SUMIFS($P$18:$P$100, $D$18:$D$100,$T$105,$B$18:$B$100,$V105) -> 0 | AD105: =V105 -> Π.Ε.-4.2
S106: =SUMIFS($L$18:$L$100, $D$18:$D$100, "B1") -> 0 | T106: B1 | V106: =P3 -> Π.Ε.-4.3 | W106: =ROUND(SUMIFS($L$18:$L$100, $D$18:$D$100,W$103,$B$18:$B$100,$V106),2) -> 0 | X106: =ROUND(SUMIFS($L$18:$L$100, $D$18:$D$100,X$103,$B$18:$B$100,$V106),2) -> 0 | Y106: =ROUND(SUMIFS($L$18:$L$100, $D$18:$D$100,Y$103,$B$18:$B$100,$V106),2) -> 0 | Z106: =ROUND(SUMIFS($L$18:$L$100, $D$18:$D$100,Z$103,$B$18:$B$100,$V106),2) -> 0 | AA106: =ROUND(SUM(W106:Z106)*0.07,2) -> 0 | AB106: =SUMIFS($P$18:$P$100, $D$18:$D$100,$T$104,$B$18:$B$100,$V106) -> 0 | AC106: =SUMIFS($P$18:$P$100, $D$18:$D$100,$T$105,$B$18:$B$100,$V106) -> 0 | AD106: =V106 -> Π.Ε.-4.3
S107: =SUMIFS($L$18:$L$100, $D$18:$D$100, "B2") -> 0 | T107: B2 | V107: =P4 -> Π.Ε.-4.4 | W107: =ROUND(SUMIFS($L$18:$L$100, $D$18:$D$100,W$103,$B$18:$B$100,$V107),2) -> 0 | X107: =ROUND(SUMIFS($L$18:$L$100, $D$18:$D$100,X$103,$B$18:$B$100,$V107),2) -> 0 | Y107: =ROUND(SUMIFS($L$18:$L$100, $D$18:$D$100,Y$103,$B$18:$B$100,$V107),2) -> 0 | Z107: =ROUND(SUMIFS($L$18:$L$100, $D$18:$D$100,Z$103,$B$18:$B$100,$V107),2) -> 0 | AA107: =ROUND(SUM(W107:Z107)*0.07,2) -> 0 | AB107: =SUMIFS($P$18:$P$100, $D$18:$D$100,$T$104,$B$18:$B$100,$V107) -> 0 | AC107: =SUMIFS($P$18:$P$100, $D$18:$D$100,$T$105,$B$18:$B$100,$V107) -> 0 | AD107: =V107 -> Π.Ε.-4.4
S108: =SUMIFS($L$18:$L$100, $D$18:$D$100, "B3") -> 0 | T108: C | V108: =P5 -> Π.Ε.-4.5 | W108: =ROUND(SUMIFS($L$18:$L$100, $D$18:$D$100,W$103,$B$18:$B$100,$V108),2) -> 0 | X108: =ROUND(SUMIFS($L$18:$L$100, $D$18:$D$100,X$103,$B$18:$B$100,$V108),2) -> 0 | Y108: =ROUND(SUMIFS($L$18:$L$100, $D$18:$D$100,Y$103,$B$18:$B$100,$V108),2) -> 0 | Z108: =ROUND(SUMIFS($L$18:$L$100, $D$18:$D$100,Z$103,$B$18:$B$100,$V108),2) -> 0 | AA108: =ROUND(SUM(W108:Z108)*0.07,2) -> 0 | AB108: =SUMIFS($P$18:$P$100, $D$18:$D$100,$T$104,$B$18:$B$100,$V108) -> 0 | AC108: =SUMIFS($P$18:$P$100, $D$18:$D$100,$T$105,$B$18:$B$100,$V108) -> 0 | AD108: =V108 -> Π.Ε.-4.5
S109: =(S104+S105+S106+S107+S108)*0.07 -> 0 | T109: D | V109: =P6 -> 0 | W109: =ROUND(SUMIFS($L$18:$L$100, $D$18:$D$100,W$103,$B$18:$B$100,$V109),2) -> 0 | X109: =ROUND(SUMIFS($L$18:$L$100, $D$18:$D$100,X$103,$B$18:$B$100,$V109),2) -> 0 | Y109: =ROUND(SUMIFS($L$18:$L$100, $D$18:$D$100,Y$103,$B$18:$B$100,$V109),2) -> 0 | Z109: =ROUND(SUMIFS($L$18:$L$100, $D$18:$D$100,Z$103,$B$18:$B$100,$V109),2) -> 0 | AA109: =ROUND(SUM(W109:Z109)*0.07,2) -> 0 | AB109: =SUMIFS($P$18:$P$100, $D$18:$D$100,$T$104,$B$18:$B$100,$V109) -> 0 | AC109: =SUMIFS($P$18:$P$100, $D$18:$D$100,$T$105,$B$18:$B$100,$V109) -> 0 | AD109: =V109 -> 0
AA110: =SUM(W104:AA109) -> 0
T112: A1 | U112: Κόστος προσωπικού
T113: A2 | U113: Επαγγελματίες
T114: B1 | U114: Ταξίδια
T115: B2 | U115: Λοιπές δαπάνες
T116: D | U116: Έμμεσες δαπάνες
U119: =Q3 -> Εισιτήρια
U120: =Q4 -> Διαμονή
U121: =Q5 -> Διατροφή
U122: =Q6 -> Λοιπά κόστη ταξιδίου
AC123: =+H10 -> 0
AC124: =SUM(W104:AA109) -> 0

Sheet Σύνολα προϋπολογισμών ανά Δράση
A1: Εκτιμώμενος προϋπολογισμός και πόροι για την υλοποίηση του προτεινόμενου έργου
A2: Πακέτο Εργασίας (Π.Ε.) | B2: No Δράσης | C2: Τύπος Δράσης | D2: Δαπάνες
D3: A1. Κόστος προσωπικού | F3: Β1. Ταξίδια | G3: B.2 Λοιπές Δαπάνες, Αγορές και Υπηρεσίες | H3: C. Ανακατασκευής - ανακαίνισης ακινήτου | I3: D. Έμμεσες δαπάνες (7%) | J3: Συνολικές επιλέξιμες δαπάνες ανά δράση | K3: Συνολικές επιλέξιμες δαπάνες ανά πακέτο Εργασίας
D4: Α2. Υπάλληλοι και Ελ. Επαγγελματίες | F4: Ταξίδια
D5: Μήνες | E5: € | F5: € | G5: € | H5: € | I5: € | J5: € | K5: €
A6: Π.Ε.1 | B6: ='ΠΕ & Δράσεις'!B8 -> Π.Ε.-1.1 | C6: ='ΠΕ & Δράσεις'!C8 -> 0 | D6: =+'Π.Ε.1 - W.P.1'!AB103+'Π.Ε.1 - W.P.1'!AC103 -> 0 | E6: =+'Π.Ε.1 - W.P.1'!W103+'Π.Ε.1 - W.P.1'!X103 -> 0 | F6: =+'Π.Ε.1 - W.P.1'!Y103 -> 0 | G6: =+'Π.Ε.1 - W.P.1'!Z103 -> 0 | I6: =+'Π.Ε.1 - W.P.1'!AA103 -> 0 | J6: =ROUND(SUM(E6:I6),2) -> 0 | K6: =ROUND(SUM(J6:J10),2) -> 0
B7: ='ΠΕ & Δράσεις'!B9 -> Π.Ε.-1.2 | C7: ='ΠΕ & Δράσεις'!C9 -> 0 | D7: =+'Π.Ε.1 - W.P.1'!AB104+'Π.Ε.1 - W.P.1'!AC104 -> 0 | E7: =+'Π.Ε.1 - W.P.1'!W104+'Π.Ε.1 - W.P.1'!X104 -> 0 | F7: =+'Π.Ε.1 - W.P.1'!Y104 -> 0 | G7: =+'Π.Ε.1 - W.P.1'!Z104 -> 0 | I7: =+'Π.Ε.1 - W.P.1'!AA104 -> 0 | J7: =ROUND(SUM(E7:I7),2) -> 0
B8: ='ΠΕ & Δράσεις'!B10 -> Π.Ε.-1.3 | C8: ='ΠΕ & Δράσεις'!C10 -> 0 | D8: =+'Π.Ε.1 - W.P.1'!AB105+'Π.Ε.1 - W.P.1'!AC105 -> 0 | E8: =+'Π.Ε.1 - W.P.1'!W105+'Π.Ε.1 - W.P.1'!X105 -> 0 | F8: =+'Π.Ε.1 - W.P.1'!Y105 -> 0 | G8: =+'Π.Ε.1 - W.P.1'!Z105 -> 0 | I8: =+'Π.Ε.1 - W.P.1'!AA105 -> 0 | J8: =ROUND(SUM(E8:I8),2) -> 0
B9: ='ΠΕ & Δράσεις'!B11 -> Π.Ε.-1.4 | C9: ='ΠΕ & Δράσεις'!C11 -> 0 | D9: =+'Π.Ε.1 - W.P.1'!AB106+'Π.Ε.1 - W.P.1'!AC106 -> 0 | E9: =+'Π.Ε.1 - W.P.1'!W106+'Π.Ε.1 - W.P.1'!X106 -> 0 | F9: =+'Π.Ε.1 - W.P.1'!Y106 -> 0 | G9: =+'Π.Ε.1 - W.P.1'!Z106 -> 0 | I9: =+'Π.Ε.1 - W.P.1'!AA106 -> 0 | J9: =ROUND(SUM(E9:I9),2) -> 0
B10: ='ΠΕ & Δράσεις'!B12 -> Π.Ε.-1.5 | C10: ='ΠΕ & Δράσεις'!C12 -> 0 | D10: =+'Π.Ε.1 - W.P.1'!AB107+'Π.Ε.1 - W.P.1'!AC107 -> 0 | E10: =+'Π.Ε.1 - W.P.1'!W107+'Π.Ε.1 - W.P.1'!X107 -> 0 | F10: =+'Π.Ε.1 - W.P.1'!Y107 -> 0 | G10: =+'Π.Ε.1 - W.P.1'!Z107 -> 0 | I10: =+'Π.Ε.1 - W.P.1'!AA107 -> 0 | J10: =ROUND(SUM(E10:I10),2) -> 0
A11: Π.Ε.2 | B11: =+'ΠΕ & Δράσεις'!B17 -> Π.Ε.-2.1 | C11: =+'ΠΕ & Δράσεις'!C17 -> 0 | D11: =+'Π.Ε.2 - W.P.2'!AC104+'Π.Ε.2 - W.P.2'!AD104 -> 0 | E11: =+'Π.Ε.2 - W.P.2'!W104+'Π.Ε.2 - W.P.2'!X104 -> 0 | F11: =+'Π.Ε.2 - W.P.2'!Y104 -> 0 | G11: =+'Π.Ε.2 - W.P.2'!Z104 -> 0 | H11: =+'Π.Ε.2 - W.P.2'!AA104 -> 0 | I11: =+'Π.Ε.2 - W.P.2'!AB104 -> 0 | J11: =ROUND(SUM(E11:I11),2) -> 0 | K11: =ROUND(SUM(J11:J20),2) -> 0
B12: =+'ΠΕ & Δράσεις'!B18 -> Π.Ε.-2.2 | C12: =+'ΠΕ & Δράσεις'!C18 -> 0 | D12: =+'Π.Ε.2 - W.P.2'!AC105+'Π.Ε.2 - W.P.2'!AD105 -> 0 | E12: =+'Π.Ε.2 - W.P.2'!W105+'Π.Ε.2 - W.P.2'!X105 -> 0 | F12: =+'Π.Ε.2 - W.P.2'!Y105 -> 0 | G12: =+'Π.Ε.2 - W.P.2'!Z105 -> 0 | H12: =+'Π.Ε.2 - W.P.2'!AA105 -> 0 | I12: =+'Π.Ε.2 - W.P.2'!AB105 -> 0 | J12: =ROUND(SUM(E12:I12),2) -> 0
B13: =+'ΠΕ & Δράσεις'!B19 -> Π.Ε.-2.3 | C13: =+'ΠΕ & Δράσεις'!C19 -> 0 | D13: =+'Π.Ε.2 - W.P.2'!AC106+'Π.Ε.2 - W.P.2'!AD106 -> 0 | E13: =+'Π.Ε.2 - W.P.2'!W106+'Π.Ε.2 - W.P.2'!X106 -> 0 | F13: =+'Π.Ε.2 - W.P.2'!Y106 -> 0 | G13: =+'Π.Ε.2 - W.P.2'!Z106 -> 0 | H13: =+'Π.Ε.2 - W.P.2'!AA106 -> 0 | I13: =+'Π.Ε.2 - W.P.2'!AB106 -> 0 | J13: =ROUND(SUM(E13:I13),2) -> 0
B14: =+'ΠΕ & Δράσεις'!B20 -> Π.Ε.-2.4 | C14: =+'ΠΕ & Δράσεις'!C20 -> 0 | D14: =+'Π.Ε.2 - W.P.2'!AC107+'Π.Ε.2 - W.P.2'!AD107 -> 0 | E14: =+'Π.Ε.2 - W.P.2'!W107+'Π.Ε.2 - W.P.2'!X107 -> 0 | F14: =+'Π.Ε.2 - W.P.2'!Y107 -> 0 | G14: =+'Π.Ε.2 - W.P.2'!Z107 -> 0 | H14: =+'Π.Ε.2 - W.P.2'!AA107 -> 0 | I14: =+'Π.Ε.2 - W.P.2'!AB107 -> 0 | J14: =ROUND(SUM(E14:I14),2) -> 0
B15: =+'ΠΕ & Δράσεις'!B21 -> Π.Ε.-2.5 | C15: =+'ΠΕ & Δράσεις'!C26 -> 0 | D15: =+'Π.Ε.2 - W.P.2'!AC108+'Π.Ε.2 - W.P.2'!AD108 -> 0 | E15: =+'Π.Ε.2 - W.P.2'!W108+'Π.Ε.2 - W.P.2'!X108 -> 0 | F15: =+'Π.Ε.2 - W.P.2'!Y108 -> 0 | G15: =+'Π.Ε.2 - W.P.2'!Z108 -> 0 | H15: =+'Π.Ε.2 - W.P.2'!AA108 -> 0 | I15: =+'Π.Ε.2 - W.P.2'!AB108 -> 0 | J15: =ROUND(SUM(E15:I15),2) -> 0
B16: =+'ΠΕ & Δράσεις'!B22 -> Π.Ε.-2.6 | C16: =+'ΠΕ & Δράσεις'!C22 -> 0 | D16: =+'Π.Ε.2 - W.P.2'!AC109+'Π.Ε.2 - W.P.2'!AD109 -> 0 | E16: =+'Π.Ε.2 - W.P.2'!W109+'Π.Ε.2 - W.P.2'!X109 -> 0 | F16: =+'Π.Ε.2 - W.P.2'!Y109 -> 0 | G16: =+'Π.Ε.2 - W.P.2'!Z109 -> 0 | H16: =+'Π.Ε.2 - W.P.2'!AA109 -> 0 | I16: =+'Π.Ε.2 - W.P.2'!AB109 -> 0 | J16: =ROUND(SUM(E16:I16),2) -> 0
B17: =+'ΠΕ & Δράσεις'!B23 -> Π.Ε.-2.7 | C17: =+'ΠΕ & Δράσεις'!C23 -> 0 | D17: =+'Π.Ε.2 - W.P.2'!AC110+'Π.Ε.2 - W.P.2'!AD110 -> 0 | E17: =+'Π.Ε.2 - W.P.2'!W110+'Π.Ε.2 - W.P.2'!X110 -> 0 | F17: =+'Π.Ε.2 - W.P.2'!Y110 -> 0 | G17: =+'Π.Ε.2 - W.P.2'!Z110 -> 0 | H17: =+'Π.Ε.2 - W.P.2'!AA110 -> 0 | I17: =+'Π.Ε.2 - W.P.2'!AB110 -> 0 | J17: =ROUND(SUM(E17:I17),2) -> 0
B18: =+'ΠΕ & Δράσεις'!B24 -> Π.Ε.-2.8 | C18: =+'ΠΕ & Δράσεις'!C24 -> 0 | D18: =+'Π.Ε.2 - W.P.2'!AC111+'Π.Ε.2 - W.P.2'!AD111 -> 0 | E18: =+'Π.Ε.2 - W.P.2'!W111+'Π.Ε.2 - W.P.2'!X111 -> 0 | F18: =+'Π.Ε.2 - W.P.2'!Y111 -> 0 | G18: =+'Π.Ε.2 - W.P.2'!Z111 -> 0 | H18: =+'Π.Ε.2 - W.P.2'!AA111 -> 0 | I18: =+'Π.Ε.2 - W.P.2'!AB111 -> 0 | J18: =ROUND(SUM(E18:I18),2) -> 0
B19: =+'ΠΕ & Δράσεις'!B25 -> Π.Ε.-2.9 | C19: =+'ΠΕ & Δράσεις'!C25 -> 0 | D19: =+'Π.Ε.2 - W.P.2'!AC112+'Π.Ε.2 - W.P.2'!AD112 -> 0 | E19: =+'Π.Ε.2 - W.P.2'!W112+'Π.Ε.2 - W.P.2'!X112 -> 0 | F19: =+'Π.Ε.2 - W.P.2'!Y112 -> 0 | G19: =+'Π.Ε.2 - W.P.2'!Z112 -> 0 | H19: =+'Π.Ε.2 - W.P.2'!AA112 -> 0 | I19: =+'Π.Ε.2 - W.P.2'!AB112 -> 0 | J19: =ROUND(SUM(E19:I19),2) -> 0
B20: =+'ΠΕ & Δράσεις'!B26 -> Π.Ε.-2.10 | C20: =+'ΠΕ & Δράσεις'!C31 -> 0 | D20: =+'Π.Ε.2 - W.P.2'!AC113+'Π.Ε.2 - W.P.2'!AD113 -> 0 | E20: =+'Π.Ε.2 - W.P.2'!W113+'Π.Ε.2 - W.P.2'!X113 -> 0 | F20: =+'Π.Ε.2 - W.P.2'!Y113 -> 0 | G20: =+'Π.Ε.2 - W.P.2'!Z113 -> 0 | H20: =+'Π.Ε.2 - W.P.2'!AA113 -> 0 | I20: =+'Π.Ε.2 - W.P.2'!AB113 -> 0 | J20: =ROUND(SUM(E20:I20),2) -> 0
A21: Π.Ε.3 | B21: =+'ΠΕ & Δράσεις'!B31 -> Π.Ε.-3.1 | C21: =+'ΠΕ & Δράσεις'!C31 -> 0 | D21: =+'Π.Ε.3 - W.P.3'!AB104+'Π.Ε.3 - W.P.3'!AC104 -> 0 | E21: =+'Π.Ε.3 - W.P.3'!W104+'Π.Ε.3 - W.P.3'!X104 -> 0 | F21: =+'Π.Ε.3 - W.P.3'!Y104 -> 0 | G21: =+'Π.Ε.3 - W.P.3'!Z104 -> 0 | I21: =+'Π.Ε.3 - W.P.3'!AA104 -> 0 | J21: =ROUND(SUM(E21:I21),2) -> 0 | K21: =ROUND(SUM(J21:J25),2) -> 0
B22: =+'ΠΕ & Δράσεις'!B32 -> Π.Ε.-3.2 | C22: =+'ΠΕ & Δράσεις'!C32 -> 0 | D22: =+'Π.Ε.3 - W.P.3'!AB105+'Π.Ε.3 - W.P.3'!AC105 -> 0 | E22: =+'Π.Ε.3 - W.P.3'!W105+'Π.Ε.3 - W.P.3'!X105 -> 0 | F22: =+'Π.Ε.3 - W.P.3'!Y105 -> 0 | G22: =+'Π.Ε.3 - W.P.3'!Z105 -> 0 | I22: =+'Π.Ε.3 - W.P.3'!AA105 -> 0 | J22: =ROUND(SUM(E22:I22),2) -> 0
B23: =+'ΠΕ & Δράσεις'!B33 -> Π.Ε.-3.3 | C23: =+'ΠΕ & Δράσεις'!C33 -> 0 | D23: =+'Π.Ε.3 - W.P.3'!AB106+'Π.Ε.3 - W.P.3'!AC106 -> 0 | E23: =+'Π.Ε.3 - W.P.3'!W106+'Π.Ε.3 - W.P.3'!X106 -> 0 | F23: =+'Π.Ε.3 - W.P.3'!Y106 -> 0 | G23: =+'Π.Ε.3 - W.P.3'!Z106 -> 0 | I23: =+'Π.Ε.3 - W.P.3'!AA106 -> 0 | J23: =ROUND(SUM(E23:I23),2) -> 0
B24: =+'ΠΕ & Δράσεις'!B34 -> Π.Ε.-3.4 | C24: =+'ΠΕ & Δράσεις'!C34 -> 0 | D24: =+'Π.Ε.3 - W.P.3'!AB107+'Π.Ε.3 - W.P.3'!AC107 -> 0 | E24: =+'Π.Ε.3 - W.P.3'!W107+'Π.Ε.3 - W.P.3'!X107 -> 0 | F24: =+'Π.Ε.3 - W.P.3'!Y107 -> 0 | G24: =+'Π.Ε.3 - W.P.3'!Z107 -> 0 | I24: =+'Π.Ε.3 - W.P.3'!AA107 -> 0 | J24: =ROUND(SUM(E24:I24),2) -> 0
B25: =+'ΠΕ & Δράσεις'!B35 -> Π.Ε.-3.5 | C25: =+'ΠΕ & Δράσεις'!C35 -> 0 | D25: =+'Π.Ε.3 - W.P.3'!AB108+'Π.Ε.3 - W.P.3'!AC108 -> 0 | E25: =+'Π.Ε.3 - W.P.3'!W108+'Π.Ε.3 - W.P.3'!X108 -> 0 | F25: =+'Π.Ε.3 - W.P.3'!Y108 -> 0 | G25: =+'Π.Ε.3 - W.P.3'!Z108 -> 0 | I25: =+'Π.Ε.3 - W.P.3'!AA108 -> 0 | J25: =ROUND(SUM(E25:I25),2) -> 0
A26: Π.Ε.4 | B26: ='ΠΕ & Δράσεις'!B40 -> Π.Ε.-4.1 | C26: =+'ΠΕ & Δράσεις'!C40 -> 0 | D26: =+'Π.Ε.4 - W.P.4'!AB104+'Π.Ε.4 - W.P.4'!AC104 -> 0 | E26: ='Π.Ε.4 - W.P.4'!W104+'Π.Ε.4 - W.P.4'!X104 -> 0 | F26: ='Π.Ε.4 - W.P.4'!Y104 -> 0 | G26: ='Π.Ε.4 - W.P.4'!Z104 -> 0 | I26: ='Π.Ε.4 - W.P.4'!AA104 -> 0 | J26: =ROUND(SUM(E26:I26),2) -> 0 | K26: =ROUND(SUM(J26:J30),2) -> 0
B27: ='ΠΕ & Δράσεις'!B41 -> Π.Ε.-4.2 | C27: =+'ΠΕ & Δράσεις'!C41 -> 0 | D27: =+'Π.Ε.4 - W.P.4'!AB105+'Π.Ε.4 - W.P.4'!AC105 -> 0 | E27: ='Π.Ε.4 - W.P.4'!W105+'Π.Ε.4 - W.P.4'!X105 -> 0 | F27: ='Π.Ε.4 - W.P.4'!Y105 -> 0 | G27: ='Π.Ε.4 - W.P.4'!Z105 -> 0 | I27: ='Π.Ε.4 - W.P.4'!AA105 -> 0 | J27: =ROUND(SUM(E27:I27),2) -> 0
B28: ='ΠΕ & Δράσεις'!B42 -> Π.Ε.-4.3 | C28: =+'ΠΕ & Δράσεις'!C42 -> 0 | D28: =+'Π.Ε.4 - W.P.4'!AB106+'Π.Ε.4 - W.P.4'!AC106 -> 0 | E28: ='Π.Ε.4 - W.P.4'!W106+'Π.Ε.4 - W.P.4'!X106 -> 0 | F28: ='Π.Ε.4 - W.P.4'!Y106 -> 0 | G28: ='Π.Ε.4 - W.P.4'!Z106 -> 0 | I28: ='Π.Ε.4 - W.P.4'!AA106 -> 0 | J28: =ROUND(SUM(E28:I28),2) -> 0
B29: ='ΠΕ & Δράσεις'!B43 -> Π.Ε.-4.4 | C29: =+'ΠΕ & Δράσεις'!C43 -> 0 | D29: =+'Π.Ε.4 - W.P.4'!AB107+'Π.Ε.4 - W.P.4'!AC107 -> 0 | E29: ='Π.Ε.4 - W.P.4'!W107+'Π.Ε.4 - W.P.4'!X107 -> 0 | F29: ='Π.Ε.4 - W.P.4'!Y107 -> 0 | G29: ='Π.Ε.4 - W.P.4'!Z107 -> 0 | I29: ='Π.Ε.4 - W.P.4'!AA107 -> 0 | J29: =ROUND(SUM(E29:I29),2) -> 0
B30: ='ΠΕ & Δράσεις'!B44 -> Π.Ε.-4.5 | C30: =+'ΠΕ & Δράσεις'!C44 -> 0 | D30: =+'Π.Ε.4 - W.P.4'!AB108+'Π.Ε.4 - W.P.4'!AC108 -> 0 | E30: ='Π.Ε.4 - W.P.4'!W108+'Π.Ε.4 - W.P.4'!X108 -> 0 | F30: ='Π.Ε.4 - W.P.4'!Y108 -> 0 | G30: ='Π.Ε.4 - W.P.4'!Z108 -> 0 | I30: ='Π.Ε.4 - W.P.4'!AA108 -> 0 | J30: =ROUND(SUM(E30:I30),2) -> 0
B31: Σύνολα | D31: =SUM(D6:D30) -> 0 | E31: =SUM(E6:E30) -> 0 | F31: =SUM(F6:F30) -> 0 | G31: =SUM(G6:G30) -> 0 | H31: =SUM(H6:H30) -> 0 | I31: =SUM(I6:I30) -> 0 | J31: =SUM(J6:J30) -> 0 | K31: =SUM(K6:K30) -> 0

Sheet Επιμέρους Προϋπολογισμοί
A1: Ποσοστό συμμετοχής επί του συνόλου του προϋπολογισμού
B2: A1. Κόστος προσωπικού | C2: Β1. Δαπάνες Ταξιδίων του Προσωπικού του Έργου | D2: B.2 Λοιπές Δαπάνες | E2: C. Δαπάνες Ανακατασκευής - ανακαίνισης ακινήτου | F2: D. Έμμεσες δαπάνες (7%) | G2: ΣΥΝΟΛΟ | H2: Ποσοστό συμμετοχής
B3: Α2. Υπάλληλοι και Ελ. Επαγγελματίες | C3: Ταξίδια
A4: Φορέας | B4: =SUMIFS('Π.Ε.1 - W.P.1'!L18:L100,'Π.Ε.1 - W.P.1'!C18:C100,"Φορέας",'Π.Ε.1 - W.P.1'!D18:D100,"A1")+SUMIFS('Π.Ε.1 - W.P.1'!L18:L100,'Π.Ε.1 - W.P.1'!C18:C100,"Φορέας",'Π.Ε.1 - W.P.1'!D18:D100,"A2")+SUMIFS('Π.Ε.2 - W.P.2'!L18:L100,'Π.Ε.2 - W.P.2'!C18:C100,"Φορέας",'Π.Ε.2 - W.P.2'!D18:D100,"A1")+SUMIFS('Π.Ε.2 - W.P.2'!L18:L100,'Π.Ε.2 - W.P.2'!C18:C100,"Φορέας",'Π.Ε.2 - W.P.2'!D18:D100,"A2")+SUMIFS('Π.Ε.3 - W.P.3'!L18:L100,'Π.Ε.3 - W.P.3'!C18:C100,"Φορέας",'Π.Ε.3 - W.P.3'!D18:D100,"A1")+SUMIFS('Π.Ε.3 - W.P.3'!L18:L100,'Π.Ε.3 - W.P.3'!C18:C100,"Φορέας",'Π.Ε.3 - W.P.3'!D18:D100,"A2")+SUMIFS('Π.Ε.4 - W.P.4'!L18:L100,'Π.Ε.4 - W.P.4'!C18:C100,"Φορέας",'Π.Ε.4 - W.P.4'!D18:D100,"A1")+SUMIFS('Π.Ε.4 - W.P.4'!L18:L100,'Π.Ε.4 - W.P.4'!C18:C100,"Φορέας",'Π.Ε.4 - W.P.4'!D18:D100,"A2") -> 0 | C4: =SUMIFS('Π.Ε.1 - W.P.1'!L18:L100,'Π.Ε.1 - W.P.1'!C18:C100,"Φορέας",'Π.Ε.1 - W.P.1'!D18:D100,"B1")+SUMIFS('Π.Ε.2 - W.P.2'!L17:L100,'Π.Ε.2 - W.P.2'!C17:C100,"Φορέας",'Π.Ε.2 - W.P.2'!D17:D100,"B1")+SUMIFS('Π.Ε.3 - W.P.3'!L18:L100,'Π.Ε.3 - W.P.3'!C18:C100,"Φορέας",'Π.Ε.3 - W.P.3'!D18:D100,"B1")+SUMIFS('Π.Ε.4 - W.P.4'!L18:L100,'Π.Ε.4 - W.P.4'!C18:C100,"Φορέας",'Π.Ε.4 - W.P.4'!D18:D100,"B1") -> 0 | D4: =SUMIFS('Π.Ε.1 - W.P.1'!L18:L100,'Π.Ε.1 - W.P.1'!C18:C100,"Φορέας",'Π.Ε.1 - W.P.1'!D18:D100,"B2")+SUMIFS('Π.Ε.2 - W.P.2'!L17:L100,'Π.Ε.2 - W.P.2'!C17:C100,"Φορέας",'Π.Ε.2 - W.P.2'!D17:D100,"B2")+SUMIFS('Π.Ε.3 - W.P.3'!L18:L100,'Π.Ε.3 - W.P.3'!C18:C100,"Φορέας",'Π.Ε.3 - W.P.3'!D18:D100,"B2")+SUMIFS('Π.Ε.4 - W.P.4'!L18:L100,'Π.Ε.4 - W.P.4'!C18:C100,"Φορέας",'Π.Ε.4 - W.P.4'!D18:D100,"B2") -> 0 | E4: =SUMIFS('Π.Ε.2 - W.P.2'!L18:L100,'Π.Ε.2 - W.P.2'!C18:C100,"Φορέας",'Π.Ε.2 - W.P.2'!D18:D100,"C") -> 0 | F4: =ROUND(SUM(B4:E4)*7%,2) -> 0 | G4: =SUM(B4:F4) -> 0 | H4: =IFERROR(+G4/$G$7,"")
A5: Εταίρος 1 | B5: =SUMIFS('Π.Ε.1 - W.P.1'!L18:L100,'Π.Ε.1 - W.P.1'!C18:C100,"Εταίρος 1",'Π.Ε.1 - W.P.1'!D18:D100,"A1")+SUMIFS('Π.Ε.1 - W.P.1'!L18:L100,'Π.Ε.1 - W.P.1'!C18:C100,"Εταίρος 1",'Π.Ε.1 - W.P.1'!D18:D100,"A2")+SUMIFS('Π.Ε.2 - W.P.2'!L18:L100,'Π.Ε.2 - W.P.2'!C18:C100,"Εταίρος 1",'Π.Ε.2 - W.P.2'!D18:D100,"A1")+SUMIFS('Π.Ε.2 - W.P.2'!L18:L100,'Π.Ε.2 - W.P.2'!C18:C100,"Εταίρος 1",'Π.Ε.2 - W.P.2'!D18:D100,"A2")+SUMIFS('Π.Ε.3 - W.P.3'!L18:L100,'Π.Ε.3 - W.P.3'!C18:C100,"Εταίρος 1",'Π.Ε.3 - W.P.3'!D18:D100,"A1")+SUMIFS('Π.Ε.3 - W.P.3'!L18:L100,'Π.Ε.3 - W.P.3'!C18:C100,"Εταίρος 1",'Π.Ε.3 - W.P.3'!D18:D100,"A2")+SUMIFS('Π.Ε.4 - W.P.4'!L18:L100,'Π.Ε.4 - W.P.4'!C18:C100,"Εταίρος 1",'Π.Ε.4 - W.P.4'!D18:D100,"A1")+SUMIFS('Π.Ε.4 - W.P.4'!L18:L100,'Π.Ε.4 - W.P.4'!C18:C100,"Εταίρος 1",'Π.Ε.4 - W.P.4'!D18:D100,"A2") -> 0 | C5: =SUMIFS('Π.Ε.1 - W.P.1'!L18:L100,'Π.Ε.1 - W.P.1'!C18:C100,"Εταίρος 1",'Π.Ε.1 - W.P.1'!D18:D100,"B1")+SUMIFS('Π.Ε.2 - W.P.2'!L17:L100,'Π.Ε.2 - W.P.2'!C17:C100,"Εταίρος 1",'Π.Ε.2 - W.P.2'!D17:D100,"B1")+SUMIFS('Π.Ε.3 - W.P.3'!L18:L100,'Π.Ε.3 - W.P.3'!C18:C100,"Εταίρος 1",'Π.Ε.3 - W.P.3'!D18:D100,"B1")+SUMIFS('Π.Ε.4 - W.P.4'!L18:L100,'Π.Ε.4 - W.P.4'!C18:C100,"Εταίρος 1",'Π.Ε.4 - W.P.4'!D18:D100,"B1") -> 0 | D5: =SUMIFS('Π.Ε.1 - W.P.1'!L18:L100,'Π.Ε.1 - W.P.1'!C18:C100,"Εταίρος 1",'Π.Ε.1 - W.P.1'!D18:D100,"B2")+SUMIFS('Π.Ε.2 - W.P.2'!L17:L100,'Π.Ε.2 - W.P.2'!C17:C100,"Εταίρος 1",'Π.Ε.2 - W.P.2'!D17:D100,"B2")+SUMIFS('Π.Ε.3 - W.P.3'!L18:L100,'Π.Ε.3 - W.P.3'!C18:C100,"Εταίρος 1",'Π.Ε.3 - W.P.3'!D18:D100,"B2")+SUMIFS('Π.Ε.4 - W.P.4'!L18:L100,'Π.Ε.4 - W.P.4'!C18:C100,"Εταίρος 1",'Π.Ε.4 - W.P.4'!D18:D100,"B2") -> 0 | E5: =SUMIFS('Π.Ε.2 - W.P.2'!L18:L100,'Π.Ε.2 - W.P.2'!C18:C100,"Εταίρος 1",'Π.Ε.2 - W.P.2'!D18:D100,"C") -> 0 | F5: =ROUND(SUM(B5:E5)*7%,2) -> 0 | G5: =SUM(B5:F5) -> 0 | H5: =IFERROR(+G5/$G$7,"")
A6: Εταίρος 2 | B6: =SUMIFS('Π.Ε.1 - W.P.1'!L18:L100,'Π.Ε.1 - W.P.1'!C18:C100,"Εταίρος 2",'Π.Ε.1 - W.P.1'!D18:D100,"A1")+SUMIFS('Π.Ε.1 - W.P.1'!L18:L100,'Π.Ε.1 - W.P.1'!C18:C100,"Εταίρος 2",'Π.Ε.1 - W.P.1'!D18:D100,"A2")+SUMIFS('Π.Ε.2 - W.P.2'!L18:L100,'Π.Ε.2 - W.P.2'!C18:C100,"Εταίρος 2",'Π.Ε.2 - W.P.2'!D18:D100,"A1")+SUMIFS('Π.Ε.2 - W.P.2'!L18:L100,'Π.Ε.2 - W.P.2'!C18:C100,"Εταίρος 2",'Π.Ε.2 - W.P.2'!D18:D100,"A2")+SUMIFS('Π.Ε.3 - W.P.3'!L18:L100,'Π.Ε.3 - W.P.3'!C18:C100,"Εταίρος 2",'Π.Ε.3 - W.P.3'!D18:D100,"A1")+SUMIFS('Π.Ε.3 - W.P.3'!L18:L100,'Π.Ε.3 - W.P.3'!C18:C100,"Εταίρος 2",'Π.Ε.3 - W.P.3'!D18:D100,"A2")+SUMIFS('Π.Ε.4 - W.P.4'!L18:L100,'Π.Ε.4 - W.P.4'!C18:C100,"Εταίρος 2",'Π.Ε.4 - W.P.4'!D18:D100,"A1")+SUMIFS('Π.Ε.4 - W.P.4'!L18:L100,'Π.Ε.4 - W.P.4'!C18:C100,"Εταίρος 2",'Π.Ε.4 - W.P.4'!D18:D100,"A2") -> 0 | C6: =SUMIFS('Π.Ε.1 - W.P.1'!L18:L100,'Π.Ε.1 - W.P.1'!C18:C100,"Εταίρος 2",'Π.Ε.1 - W.P.1'!D18:D100,"B1")+SUMIFS('Π.Ε.2 - W.P.2'!L17:L100,'Π.Ε.2 - W.P.2'!C17:C100,"Εταίρος 2",'Π.Ε.2 - W.P.2'!D17:D100,"B1")+SUMIFS('Π.Ε.3 - W.P.3'!L18:L100,'Π.Ε.3 - W.P.3'!C18:C100,"Εταίρος 2",'Π.Ε.3 - W.P.3'!D18:D100,"B1")+SUMIFS('Π.Ε.4 - W.P.4'!L18:L100,'Π.Ε.4 - W.P.4'!C18:C100,"Εταίρος 2",'Π.Ε.4 - W.P.4'!D18:D100,"B1") -> 0 | D6: =SUMIFS('Π.Ε.1 - W.P.1'!L18:L100,'Π.Ε.1 - W.P.1'!C18:C100,"Εταίρος 2",'Π.Ε.1 - W.P.1'!D18:D100,"B2")+SUMIFS('Π.Ε.2 - W.P.2'!L17:L100,'Π.Ε.2 - W.P.2'!C17:C100,"Εταίρος 2",'Π.Ε.2 - W.P.2'!D17:D100,"B2")+SUMIFS('Π.Ε.3 - W.P.3'!L18:L100,'Π.Ε.3 - W.P.3'!C18:C100,"Εταίρος 2",'Π.Ε.3 - W.P.3'!D18:D100,"B2")+SUMIFS('Π.Ε.4 - W.P.4'!L18:L100,'Π.Ε.4 - W.P.4'!C18:C100,"Εταίρος 2",'Π.Ε.4 - W.P.4'!D18:D100,"B2") -> 0 | E6: =SUMIFS('Π.Ε.2 - W.P.2'!L18:L100,'Π.Ε.2 - W.P.2'!C18:C100,"Εταίρος 2",'Π.Ε.2 - W.P.2'!D18:D100,"C") -> 0 | F6: =ROUND(SUM(B6:E6)*7%,2) -> 0 | G6: =SUM(B6:F6) -> 0 | H6: =IFERROR(+G6/$G$7,"")
A7: ΣΥΝΟΛΑ | B7: =SUM(B4:B6) -> 0 | C7: =SUM(C4:C6) -> 0 | D7: =SUM(D4:D6) -> 0 | E7: =SUM(E4:E6) -> 0 | F7: =SUM(F4:F6) -> 0 | G7: =SUM(G4:G6) -> 0 | H7: =SUM(H4:H6) -> 0
