Workbook

Sheet Οδηγίες
A1: Οδηγίες Συμπλήρωσης Προϋπολογισμού
A3: ΓΕΝΙΚΕΣ ΣΗΜΕΙΩΣΕΙΣ
A4: → Η περιγραφή των δράσεων θα πρέπει να συμπληρώνεται στα ζητούμενα κελιά όσο το δυνατόν πιο συμπυκνωμένη αλλά ευκρινής & κατανοητή.
A5: → Το αρχείο να συμπληρωθεί μόνο με τη χρήση του Microsoft Excel.
A7: Φύλλο "Στοιχεία Έργου"
A8: → Συμπληρώστε όλα τα απαραίτητα υποχρεωτικά κελιά. Ειδικότερα:
A9: → Συμπληρώστε την επωνυμία του Φορέα Υλοποίησης και την προβλεπόμενη ημερομηνία έναρξης και λήξης του έργου.
A10: → Τα στοιχεία στον πίνακα "Στοιχεία Οικονομικού Προϋπολογισμού" εμφανίζονται αυτόματα αφού συμπληρωθεί το αρχείο του προϋπολογισμού.
A12: Φύλλο "Λίστα Δράσεων"
A13: → Μπορείτε να συμπληρώσετε δράσεις ως εξής: συνολικά έως 15 δράσεις που εμπίπτουν σε οποιονδήποτε από τους προκαθορισμένους τύπους δράσεων που παρατίθενται παρακάτω. Αυτές πρέπει να περιλαμβάνουν: Τουλάχιστον μία δράση κάτω από τον τύπο Διαχείριση έργου, παρακολούθηση και υποβολή εκθέσεων Τουλάχιστον μία δράση κάτω από τον τύπο Επικοινωνία, προβολή και διάχυση Τουλάχιστον μία δράση κάτω από τον τύπο Δράσεις ανάπτυξης ικανοτήτων
A14: → Συμπληρώστε στη στήλη "Τίτλος Δράσης" τον τίτλο της δράσης που προτίθεστε να πραγματοποιήσετε (ο τίτλος θα πρέπει να ταυτίζεται με το αντίστοιχο πεδίο που έχετε συμπληρώσει στην ηλεκτρονική αίτηση).
A15: → Επιλέξτε από την αναπτυσσόμενη λίστα στις στήλες "Μήνας Έναρξης" και "Μήνας Ολοκλήρωσης" τον μήνα που ξεκινά και ολοκληρώνεται αντιστοίχως η δράση. Οι μήνες θα πρέπει να βρίσκονται εντός της διάρκειας του έργου και ο Μήνας Έναρξης να μην είναι μεταγενέστερος του Μήνα Ολοκλήρωσης.
... A44: https://ec.europa.eu/info/funding-tenders/opportunities/docs/2021-2027/common/guidance/additional-information-on-unit-costs-and-contributions_en.pdf

Sheet data
B1: Προώθηση των Ανθρωπίνων Δικαιωμάτων, της Κοινωνικής Δικαιοσύνης και της Καταπολέμησης των Διακρίσεων
D2: - Μήνες (εργασίας) | E2: Δ.1
D3: - Κόστη μεταφοράς (ταξίδια) | E3: Δ.2
B4: 1. Διαχείριση έργου, παρακολούθηση και υποβολή εκθέσεων | D4: - Ημέρες διαμονής (ταξίδια) | E4: Δ.3
B5: 2. Συλλογή δεδομένων και αναλύσεις | D5: - Ημέρες διατροφής (ταξίδια) | E5: Δ.4
B6: 3. Συνηγορία (advocacy), θεσμική παρακολούθηση (watchdog) και παρακολούθηση πολιτικών | D6: - Τεμάχια | E6: Δ.5
B7: 4. Διευκόλυνση της πρόσβασης σε υπηρεσίες υποστήριξης για την άσκηση και την προστασία των δικαιωμάτων | D7: - Υπηρεσία | E7: Δ.6
B8: 5. Ευαισθητοποίηση και ενίσχυση της δημόσιας συμμετοχής | E8: Δ.7
B9: 6. Εκπαίδευση και κατάρτιση σε θέματα δικαιωμάτων | D9: Μήνας ολοκλήρωσης | E9: Δ.8
B10: 7. Επικοινωνία, προβολή και διάχυση | D10: M1 | E10: Δ.9
B11: 8. Δράσεις Ανάπτυξης Ικανοτήτων | D11: M2 | E11: Δ.10
D12: M3 | E12: Δ.11
D13: M4 | E13: Δ.12
D14: M5 | E14: Δ.13
D15: M6 | E15: Δ.14
D16: M7 | E16: Δ.15
D17: M8 | E17: Δ.1 CB
D18: M9 | E18: Δ.2 CB
D19: M10 | E19: Δ.3 CB
D20: M11 | E20: Δ.4 CB
D21: M12 | E21: Δ.5 CB
E22: Δ.6 CB
E23: Δ.7 CB
E24: Δ.8 CB
E25: Δ.9 CB
E26: Δ.10 CB
E27: Δ.11 CB
E28: Δ.12 CB
E29: Δ.13 CB
E30: Δ.14 CB
E31: Δ.15 CB
D49: CBC
D50: ΜΕΓΑΛΑ | E50: ΜΕ ΕΜΜΕΣΕΣ | F50: ΧΩΡΙΣ ΕΜΜΕΣΕΣ
D51: ΜΙΝ | E51: 100000
D52: ΜΑΧ | E52: 200000

Sheet Στοιχεία έργου
A7: ΣΤΟΙΧΕΙΑ ΕΡΓΟΥ
A9: Επωνυμία Φορέα Υλοποίησης
A13: Πρόσκληση | B13: Προώθηση των Ανθρωπίνων Δικαιωμάτων, της Κοινωνικής Δικαιοσύνης και της Καταπολέμησης των Διακρίσεων
A15: Κατηγορία έργου και όρια επιχορήγησης | B15: Μικρό | D15: από | E15: 10000 | F15: έως | G15: 20000
A17: Περίοδος υλοποίησης | B17: από | D17: έως | F17: Διάρκεια σε μήνες | G17: =IFERROR(ROUND(IF((E17-C17)/(364/12)<=0,"",(E17-C17)/(364/12)),0),"") | I17: *Η διάρκεια του έργου μπορεί να είναι από 6 έως 12 μήνες
A20: Στοιχεία Οικονομικού Προϋπολογισμού | N20: =IF(OR(AND($B$13="Human Rights",$B$15="Μεσαίο"),AND($B$13="Media",$B$15="Μεσαίο")),AND(($E$17-$C$17)/(365/12)>=12,($E$17-$C$17)/(365/12)<=24),IF(AND($B$13="Human Rights",$B$15="Μεγάλο"),AND(($E$17-$C$17)/(365/12)>=24,($E$17-$C$17)/(365/12)<=36),TRUE)) -> TRUE
A22: =+'Λίστα Δράσεων'!A3 -> Πακέτο Εργασίας: Υλοποίηση Έργου Μικρής Κλίμακας | E22: =+'Σύνολα προϋπολογισμών ανά Δράση'!J6 -> 0 | F22: ΜΗΝΥΜΑΤΑ ΕΛΕΓΧΟΥ | G22: =IF(G17="","",IF(G17>12,"ΠΡΟΣΟΧΗ: Η διάρκεια δεν μπορεί να είναι μεγαλύτερη από 12 μήνες.",IF(G17<6,"ΠΡΟΣΟΧΗ: Η διάρκεια δεν μπορεί να είναι μικρότερη από 6 μήνες.",""))) | N22: =365/12 -> 30.416667
A23: =+'Λίστα Δράσεων'!A21 -> Δράσεις Ανάπτυξης Ικανοτήτων | E23: =+'Σύνολα προϋπολογισμών ανά Δράση'!J20 -> 0 | G23: =IF(E24=0,"",IF(E24>G15,"Υπέρβαση προϋπολογισμού",IF(E24<E15,"Ο προϋπολογισμός είναι μικρότερος από το ελάχιστο επιτρεπόμενο όριο","")))
A24: Συνολικός Προϋπολογισμός | E24: =SUM(E22:E23) -> 0
A26: =IF(E24='Σύνολα προϋπολογισμών ανά Δράση'!J33,"","Υπάρχουν λάθη στο αρχείο") | G26: =IF('Δράσεις Ανάπτυξης Ικανοτήτων'!J10='Δράσεις Ανάπτυξης Ικανοτήτων'!L3,"Υπάρχει υπέρβαση στις Δράσεις Ανάπτυξης Ικανοτήτων. Παρακαλώ ανατρέξτε για διορθώσεις.","") | N26: =ROUND(COUNTBLANK(G22:I30),0) -> 27
G27: ='Κύριες Δράσεις Έργου'!I8
G28: =IF(OR('Κύριες Δράσεις Έργου'!G11<>'Σύνολα προϋπολογισμών ανά Δράση'!J6,'Δράσεις Ανάπτυξης Ικανοτήτων'!G10<>'Σύνολα προϋπολογισμών ανά Δράση'!J20),"Παρακαλούμε όπως επιλέξετε Νο. Δράσης στα φύλλα των προτεινόμενων δαπανών","")
G29: =IF('Λίστα Δράσεων'!G6="","",'Λίστα Δράσεων'!G6)
G30: =IF('Λίστα Δράσεων'!G5="","",'Λίστα Δράσεων'!G5)

Sheet Λίστα Δράσεων
A2: Λίστα Δράσεων
A3: Πακέτο Εργασίας: Υλοποίηση Έργου Μικρής Κλίμακας
A5: Δράσεις | B5: No Δράσης | C5: Τύπος Δράσης | D5: Τίτλος Δράσης (συμπληρώστε τον τίτλο κάθε προτεινόμενης δράσης, ο οποίος θα πρέπει να συμφωνεί με τον τίτλο που έχει καταχωρηθεί στο αντίστοιχο πεδίο της αίτησης) | E5: Μήνας έναρξης δράσης | F5: Μήνας ολοκλήρωσης | G5: {=IF(OR(SUMPRODUCT(--(B6:B19<>""),--(COUNTIF(B6:B19,B6:B19)>1))>0,SUMPRODUCT(--(B24:B36<>""),--(COUNTIF(B24:B36,B24:B36)>1))>0,SUMPRODUCT(--(B6:B19<>""),--(COUNTIF(B24:B36,B6:B19)>0))>0),"O ίδιος αριθμός δράση έχει επιλεγεί περισσότερες από μία φορές. Παρακαλούμε διορθώστε την επιλογή σας.","")}
G6: =IF(COUNTA(C6:C19,C24:C36)>15,"ΠΡΟΣΟΧΗ: Δεν επιτρέπονται περισσότερες από 15 δράσεις, παρακαλούμε διορθώστε.","")
A21: Δράσεις Ανάπτυξης Ικανοτήτων
A23: Δράσεις Ανάπτυξης Ικανοτήτων | B23: No Δράσης | C23: Τύπος Δράσης | D23: Τίτλος Δράσης (συμπληρώστε τον τίτλο κάθε προτεινόμενης δράσης, ο οποίος θα πρέπει να συμφωνεί με τον τίτλο που έχει καταχωρηθεί στο αντίστοιχο πεδίο της αίτησης) | E23: Μήνας έναρξης δράσης | F23: Μήνας ολοκλήρωσης

Sheet Κύριες Δράσεις Έργου
A1: Κύριες Δράσεις Έργου | M1: A1 | N1: ='Λίστα Δράσεων'!B6 -> 0 | O1: =data!D2 -> - Μήνες (εργασίας)
M2: A2 | N2: ='Λίστα Δράσεων'!B7 -> 0 | O2: =data!D3 -> - Κόστη μεταφοράς (ταξίδια)
M3: B1 | N3: ='Λίστα Δράσεων'!B8 -> 0 | O3: =data!D4 -> - Ημέρες διαμονής (ταξίδια)
E4: A | F4: A1 Δαπάνες προσωπικού μισθωτών υπαλλήλων | G4: =SUMIF('Κύριες Δράσεις Έργου'!C:C,M1,'Κύριες Δράσεις Έργου'!K:K) -> 0 | H4: =SUM(G4:G5) -> 0 | M4: B2 | N4: ='Λίστα Δράσεων'!B9 -> 0 | O4: =data!D5 -> - Ημέρες διατροφής (ταξίδια)
F5: A2 Δαπάνες Προσωπικού Ελευθέρων Επαγγελματιών | G5: =SUMIF('Κύριες Δράσεις Έργου'!C:C,M2,'Κύριες Δράσεις Έργου'!K:K) -> 0 | M5: C | N5: ='Λίστα Δράσεων'!B10 -> 0 | O5: =data!D6 -> - Τεμάχια | P5: 2
E6: B | F6: B1 Δαπάνες Ταξιδίων του Προσωπικού και των Συμμετεχόντων/-ουσών του Έργου | G6: =SUMIF('Κύριες Δράσεις Έργου'!C:C,M3,'Κύριες Δράσεις Έργου'!K:K) -> 0 | H6: =SUM(G6:G7) -> 0 | N6: ='Λίστα Δράσεων'!B11 -> 0 | O6: =data!D7 -> - Υπηρεσία
F7: B2 Λοιπές Δαπάνες | G7: =SUMIF('Κύριες Δράσεις Έργου'!C:C,M4,'Κύριες Δράσεις Έργου'!K:K) -> 0 | N7: ='Λίστα Δράσεων'!B12 -> 0 | O7: =data!D8 -> 0
E8: C | F8: C Ανακατασκευής - ανακαίνισης ακινήτου | G8: =ROUND(SUMIF('Κύριες Δράσεις Έργου'!C:C,M5,'Κύριες Δράσεις Έργου'!K:K),2) -> 0 | I8: =IF((G8+G8*7%)>('Σύνολα προϋπολογισμών ανά Δράση'!J33*50%),"Υπέρβαση κόστους ανακατασκευής παρακαλούμε διορθώστε","") | N8: ='Λίστα Δράσεων'!B13 -> 0
E9: Συνολικά επιλέξιμα κόστη (εκτός έμμεσων δαπανών) A1+A2+B1+B2+C | G9: =SUM(H4:H7)+G8 -> 0 | N9: ='Λίστα Δράσεων'!B14 -> 0
E10: D | F10: Έμμεσες δαπάνες (7%) | G10: =ROUND(G9*0.07,2) -> 0 | I10: =IF(G10=0, 0, ROUND(G10/G9,4)) -> 0 | N10: ='Λίστα Δράσεων'!B15 -> 0
E11: Συνολικά επιλέξιμα κόστη A+B+C+D | G11: =G9+G10 -> 0 | N11: ='Λίστα Δράσεων'!B16 -> 0
N12: ='Λίστα Δράσεων'!B17 -> 0
N13: ='Λίστα Δράσεων'!B18 -> 0
N14: ='Λίστα Δράσεων'!B19 -> 0
A15: Νο. Δράσης | B15: Φορέας | C15: Κωδικός κατηγορίας δαπάνης | D15: Περιγραφή κατηγορίας δαπάνης | E15: Περιγραφή δαπάνης (ανατρέξτε στην Ενότητα 4: Οικονομικές Προϋποθέσεις Έργου της Ανοιχτής Πρόσκλησης) | F15: Τεκμηρίωση/ αιτιολόγηση δαπάνης έως 600 χαρακτήρες. (Θα πρέπει να τεκμηριώσετε επαρκώς ότι η δαπάνη είναι αναλογική και ρεαλιστική σε σχέση με την προτεινόμενη δράση. Εάν το κελί γίνει κόκκινο, έχετε υπερβεί το μέγιστο επιτρεπόμενο όριο χαρακτήρων) | G15: Μονάδα υπολογισμού κόστους (επιλογή από λίστα) | H15: Αριθμός μονάδων | I15: Αξία ανά μονάδα σε ΕΥΡΩ | J15: Ποσοστό απασχόλησης (μόνο για το κόστος προσωπικού & επαγγελματίες) | K15: Σύνολο σε ΕΥΡΩ
B16: Φορέας | D16: =IF(C16="","",VLOOKUP(C16,$R$109:$S$113,2)) | K16: =IF(C16="",0,IF(OR(C16=$M$1,C16=$M$2),H16*I16*J16,H16*I16)) -> 0 | N16: =H16*J16 -> 0
B17: Φορέας | D17: =IF(C17="","",VLOOKUP(C17,$R$109:$S$113,2)) | K17: =IF(C17="",0,IF(OR(C17=$M$1,C17=$M$2),H17*I17*J17,H17*I17)) -> 0 | N17: =H17*J17 -> 0
B18: Φορέας | D18: =IF(C18="","",VLOOKUP(C18,$R$109:$S$113,2)) | K18: =IF(C18="",0,IF(OR(C18=$M$1,C18=$M$2),H18*I18*J18,H18*I18)) -> 0 | N18: =H18*J18 -> 0
B19: Φορέας | D19: =IF(C19="","",VLOOKUP(C19,$R$109:$S$113,2)) | K19: =IF(C19="",0,IF(OR(C19=$M$1,C19=$M$2),H19*I19*J19,H19*I19)) -> 0 | N19: =H19*J19 -> 0
B20: Φορέας | D20: =IF(C20="","",VLOOKUP(C20,$R$109:$S$113,2)) | K20: =IF(C20="",0,IF(OR(C20=$M$1,C20=$M$2),H20*I20*J20,H20*I20)) -> 0 | N20: =H20*J20 -> 0
B21: Φορέας | D21: =IF(C21="","",VLOOKUP(C21,$R$109:$S$113,2)) | K21: =IF(C21="",0,IF(OR(C21=$M$1,C21=$M$2),H21*I21*J21,H21*I21)) -> 0 | N21: =H21*J21 -> 0
B22: Φορέας | D22: =IF(C22="","",VLOOKUP(C22,$R$109:$S$113,2)) | K22: =IF(C22="",0,IF(OR(C22=$M$1,C22=$M$2),H22*I22*J22,H22*I22)) -> 0 | N22: =H22*J22 -> 0
B23: Φορέας | D23: =IF(C23="","",VLOOKUP(C23,$R$109:$S$113,2)) | K23: =IF(C23="",0,IF(OR(C23=$M$1,C23=$M$2),H23*I23*J23,H23*I23)) -> 0 | N23: =H23*J23 -> 0
B24: Φορέας | D24: =IF(C24="","",VLOOKUP(C24,$R$109:$S$113,2)) | K24: =IF(C24="",0,IF(OR(C24=$M$1,C24=$M$2),H24*I24*J24,H24*I24)) -> 0 | N24: =H24*J24 -> 0
B25: Φορέας | D25: =IF(C25="","",VLOOKUP(C25,$R$109:$S$113,2)) | K25: =IF(C25="",0,IF(OR(C25=$M$1,C25=$M$2),H25*I25*J25,H25*I25)) -> 0 | N25: =H25*J25 -> 0
B26: Φορέας | D26: =IF(C26="","",VLOOKUP(C26,$R$109:$S$113,2)) | K26: =IF(C26="",0,IF(OR(C26=$M$1,C26=$M$2),H26*I26*J26,H26*I26)) -> 0 | N26: =H26*J26 -> 0
B27: Φορέας | D27: =IF(C27="","",VLOOKUP(C27,$R$109:$S$113,2)) | K27: =IF(C27="",0,IF(OR(C27=$M$1,C27=$M$2),H27*I27*J27,H27*I27)) -> 0 | N27: =H27*J27 -> 0
B28: Φορέας | D28: =IF(C28="","",VLOOKUP(C28,$R$109:$S$113,2)) | K28: =IF(C28="",0,IF(OR(C28=$M$1,C28=$M$2),H28*I28*J28,H28*I28)) -> 0 | N28: =H28*J28 -> 0
B29: Φορέας | D29: =IF(C29="","",VLOOKUP(C29,$R$109:$S$113,2)) | K29: =IF(C29="",0,IF(OR(C29=$M$1,C29=$M$2),H29*I29*J29,H29*I29)) -> 0
B30: Φορέας | D30: =IF(C30="","",VLOOKUP(C30,$R$109:$S$113,2)) | K30: =IF(C30="",0,IF(OR(C30=$M$1,C30=$M$2),H30*I30*J30,H30*I30)) -> 0
B31: Φορέας | D31: =IF(C31="","",VLOOKUP(C31,$R$109:$S$113,2)) | K31: =IF(C31="",0,IF(OR(C31=$M$1,C31=$M$2),H31*I31*J31,H31*I31)) -> 0
B32: Φορέας | D32: =IF(C32="","",VLOOKUP(C32,$R$109:$S$113,2)) | K32: =IF(C32="",0,IF(OR(C32=$M$1,C32=$M$2),H32*I32*J32,H32*I32)) -> 0
B33: Φορέας | D33: =IF(C33="","",VLOOKUP(C33,$R$109:$S$113,2)) | K33: =IF(C33="",0,IF(OR(C33=$M$1,C33=$M$2),H33*I33*J33,H33*I33)) -> 0
B34: Φορέας | D34: =IF(C34="","",VLOOKUP(C34,$R$109:$S$113,2)) | K34: =IF(C34="",0,IF(OR(C34=$M$1,C34=$M$2),H34*I34*J34,H34*I34)) -> 0
B35: Φορέας | D35: =IF(C35="","",VLOOKUP(C35,$R$109:$S$113,2)) | K35: =IF(C35="",0,IF(OR(C35=$M$1,C35=$M$2),H35*I35*J35,H35*I35)) -> 0
B36: Φορέας | D36: =IF(C36="","",VLOOKUP(C36,$R$109:$S$113,2)) | K36: =IF(C36="",0,IF(OR(C36=$M$1,C36=$M$2),H36*I36*J36,H36*I36)) -> 0
B37: Φορέας | D37: =IF(C37="","",VLOOKUP(C37,$R$109:$S$113,2)) | K37: =IF(C37="",0,IF(OR(C37=$M$1,C37=$M$2),H37*I37*J37,H37*I37)) -> 0
B38: Φορέας | D38: =IF(C38="","",VLOOKUP(C38,$R$109:$S$113,2)) | K38: =IF(C38="",0,IF(OR(C38=$M$1,C38=$M$2),H38*I38*J38,H38*I38)) -> 0
B39: Φορέας | D39: =IF(C39="","",VLOOKUP(C39,$R$109:$S$113,2)) | K39: =IF(C39="",0,IF(OR(C39=$M$1,C39=$M$2),H39*I39*J39,H39*I39)) -> 0
B40: Φορέας | D40: =IF(C40="","",VLOOKUP(C40,$R$109:$S$113,2)) | K40: =IF(C40="",0,IF(OR(C40=$M$1,C40=$M$2),H40*I40*J40,H40*I40)) -> 0
...

Sheet Δράσεις Ανάπτυξης Ικανοτήτων
A1: Δράσεις Ανάπτυξης Ικανοτήτων | M1: A1 | N1: ='Λίστα Δράσεων'!B24 -> 0 | P1: 1
K2: Μικρό | M2: A2 | N2: ='Λίστα Δράσεων'!B25 -> 0 | P2: 2
K3: Μικρό | L3: Υπέρβαση ποσού CBC κατά | M3: B1 | N3: ='Λίστα Δράσεων'!B26 -> 0 | O3: =data!D2 -> - Μήνες (εργασίας) | P3: 3
E4: A | F4: A1 Δαπάνες προσωπικού μισθωτών υπαλλήλων | G4: =SUMIF('Δράσεις Ανάπτυξης Ικανοτήτων'!C:C,M1,'Δράσεις Ανάπτυξης Ικανοτήτων'!K:K) -> 0 | H4: =SUM(G4:G5) -> 0 | J4: Σύνολο wp1-3 | K4: =ROUND(SUM('Σύνολα προϋπολογισμών ανά Δράση'!D6:G19),2) -> 0 | M4: B2 | N4: ='Λίστα Δράσεων'!B27 -> 0 | O4: =data!D3 -> - Κόστη μεταφοράς (ταξίδια)
F5: A2 Δαπάνες Προσωπικού Ελευθέρων Επαγγελματιών | G5: =SUMIF('Δράσεις Ανάπτυξης Ικανοτήτων'!C:C,M2,'Δράσεις Ανάπτυξης Ικανοτήτων'!K:K) -> 0 | J5: min core activities costs for max CBC | K5: =ROUND(20000/1.07*0.85,2) -> 15887.85 | N5: ='Λίστα Δράσεων'!B28 -> 0 | O5: =data!D4 -> - Ημέρες διαμονής (ταξίδια) | P5: 2
E6: B | F6: B1 Δαπάνες Ταξιδίων του Προσωπικού και των Συμμετεχόντων/-ουσών του Έργου | G6: =SUMIF('Δράσεις Ανάπτυξης Ικανοτήτων'!C:C,M3,'Δράσεις Ανάπτυξης Ικανοτήτων'!K:K) -> 0 | H6: =SUM(G6:G7) -> 0 | J6: max core activities costs for 0 CBC | K6: =ROUND(20000/1.07,2) -> 18691.59 | N6: ='Λίστα Δράσεων'!B29 -> 0 | O6: =data!D5 -> - Ημέρες διατροφής (ταξίδια)
F7: B2 Λοιπές Δαπάνες | G7: =SUMIF('Δράσεις Ανάπτυξης Ικανοτήτων'!C:C,M4,'Δράσεις Ανάπτυξης Ικανοτήτων'!K:K) -> 0 | J7: max CB | K7: =ROUND(20000/1.07-K5,2) -> 2803.74 | N7: ='Λίστα Δράσεων'!B30 -> 0 | O7: =data!D6 -> - Τεμάχια
E8: Συνολικά επιλέξιμα κόστη (εκτός έμμεσων δαπανών) A1+A2+B1+B2 | H8: =SUM(H4:H7) -> 0 | N8: ='Λίστα Δράσεων'!B31 -> 0 | O8: =data!D7 -> - Υπηρεσία
E9: D | F9: Έμμεσες δαπάνες (7%) | G9: =IFERROR(ROUND(H8*0.07,2),"") -> 0 | I9: =IFERROR(IF(G9=0, 0, ROUND(G9/H8,4)),"") -> 0 | J9: Μέγιστο επιτρεπόμενο CB | K9: =IF(K2=K3,ROUND(IF($K$4<$K$5,$K$4/85%*15%,IF($K$4>$K$6,0,$K$6-$K$4)),2),"") -> 0 | N9: ='Λίστα Δράσεων'!B32 -> 0
E10: Συνολικά επιλέξιμα κόστη A+B+D | G10: =IFERROR(H8+G9,"") -> 0 | J10: =IF(K2=K3,IF(SUM(K13:K95)>K9,L3,""),IF(K2=L2,IF(SUM(K13:K95)>L2,L3,""),"")) | K10: =IF(K2=K3,IF(J10="","",SUM(K13:K95)-K9),"") | N10: ='Λίστα Δράσεων'!B33 -> 0
N11: ='Λίστα Δράσεων'!B34 -> 0
A12: Νο. Δράσης | B12: Φορέας | C12: Κωδικός κατηγορίας δαπάνης | D12: Περιγραφή κατηγορίας δαπάνης | E12: Περιγραφή δαπάνης (ανατρέξτε στην Ενότητα 4: Οικονομικές Προϋποθέσεις Έργου της Ανοιχτής Πρόσκλησης) | F12: Τεκμηρίωση/ αιτιολόγηση δαπάνης έως 600 χαρακτήρες. (Θα πρέπει να τεκμηριώσετε επαρκώς ότι η δαπάνη είναι αναλογική και ρεαλιστική σε σχέση με την προτεινόμενη δράση. Εάν το κελί γίνει κόκκινο, έχετε υπερβεί το μέγιστο επιτρεπόμενο όριο χαρακτήρων) | G12: Μονάδα υπολογισμού κόστους (επιλογή από λίστα) | H12: Αριθμός μονάδων | I12: Αξία ανά μονάδα σε ΕΥΡΩ | J12: Ποσοστό απασχόλησης (μόνο για το κόστος προσωπικού & επαγγελματίες) | K12: Σύνολο σε ΕΥΡΩ | N12: ='Λίστα Δράσεων'!B35 -> 0
B13: Φορέας | D13: =IF(C13="","",VLOOKUP(C13,$R$107:$S$111,2)) | K13: =IF(C13="",0,IF(OR(C13=$M$1,C13=$M$2),H13*I13*J13,H13*I13)) -> 0 | N13: ='Λίστα Δράσεων'!B36 -> 0
B14: Φορέας | D14: =IF(C14="","",VLOOKUP(C14,$R$107:$S$111,2)) | K14: =IF(C14="",0,IF(OR(C14=$M$1,C14=$M$2),H14*I14*J14,H14*I14)) -> 0 | N14: =H14*J14 -> 0
B15: Φορέας | D15: =IF(C15="","",VLOOKUP(C15,$R$107:$S$111,2)) | K15: =IF(C15="",0,IF(OR(C15=$M$1,C15=$M$2),H15*I15*J15,H15*I15)) -> 0 | N15: =H15*J15 -> 0
B16: Φορέας | D16: =IF(C16="","",VLOOKUP(C16,$R$107:$S$111,2)) | K16: =IF(C16="",0,IF(OR(C16=$M$1,C16=$M$2),H16*I16*J16,H16*I16)) -> 0 | N16: =H16*J16 -> 0
B17: Φορέας | D17: =IF(C17="","",VLOOKUP(C17,$R$107:$S$111,2)) | K17: =IF(C17="",0,IF(OR(C17=$M$1,C17=$M$2),H17*I17*J17,H17*I17)) -> 0 | N17: =H17*J17 -> 0
B18: Φορέας | D18: =IF(C18="","",VLOOKUP(C18,$R$107:$S$111,2)) | K18: =IF(C18="",0,IF(OR(C18=$M$1,C18=$M$2),H18*I18*J18,H18*I18)) -> 0 | N18: =H18*J18 -> 0
B19: Φορέας | D19: =IF(C19="","",VLOOKUP(C19,$R$107:$S$111,2)) | K19: =IF(C19="",0,IF(OR(C19=$M$1,C19=$M$2),H19*I19*J19,H19*I19)) -> 0 | N19: =H19*J19 -> 0
B20: Φορέας | D20: =IF(C20="","",VLOOKUP(C20,$R$107:$S$111,2)) | K20: =IF(C20="",0,IF(OR(C20=$M$1,C20=$M$2),H20*I20*J20,H20*I20)) -> 0 | N20: =H20*J20 -> 0
B21: Φορέας | D21: =IF(C21="","",VLOOKUP(C21,$R$107:$S$111,2)) | K21: =IF(C21="",0,IF(OR(C21=$M$1,C21=$M$2),H21*I21*J21,H21*I21)) -> 0 | N21: =H21*J21 -> 0
B22: Φορέας | D22: =IF(C22="","",VLOOKUP(C22,$R$107:$S$111,2)) | K22: =IF(C22="",0,IF(OR(C22=$M$1,C22=$M$2),H22*I22*J22,H22*I22)) -> 0 | N22: =H22*J22 -> 0
B23: Φορέας | D23: =IF(C23="","",VLOOKUP(C23,$R$107:$S$111,2)) | K23: =IF(C23="",0,IF(OR(C23=$M$1,C23=$M$2),H23*I23*J23,H23*I23)) -> 0 | N23: =H23*J23 -> 0
B24: Φορέας | D24: =IF(C24="","",VLOOKUP(C24,$R$107:$S$111,2)) | K24: =IF(C24="",0,IF(OR(C24=$M$1,C24=$M$2),H24*I24*J24,H24*I24)) -> 0 | N24: =H24*J24 -> 0
B25: Φορέας | D25: =IF(C25="","",VLOOKUP(C25,$R$107:$S$111,2)) | K25: =IF(C25="",0,IF(OR(C25=$M$1,C25=$M$2),H25*I25*J25,H25*I25)) -> 0 | N25: =H25*J25 -> 0
... B95: Φορέας | D95: =IF(C95="","",VLOOKUP(C95,$R$107:$S$111,2)) | K95: =IF(C95="",0,IF(OR(C95=$M$1,C95=$M$2),H95*I95*J95,H95*I95)) -> 0 | N95: =H95*J95 -> 0
U96: Προσωπικό | W96: Ταξίδια | X96: Λοιπές | Y96: Έμμεσες δαπάνες
U97: =S107 -> Κόστος προσωπικού | V97: =S108 -> Επαγγελματίες | W97: =S109 -> Ταξίδια | X97: =+S110 -> Λοιπές δαπάνες | Y97: =+S111 -> Έμμεσες δαπάνες | Z97: Personnel Months - A1 | AA97: Personnel Months - A2
U98: A1 | V98: A2 | W98: B1 | X98: B2 | Y98: D
Q99: =SUMIFS($K$13:$K$95, $C$13:$C$95, "A1") -> 0 | R99: A1 | T99: =N1 -> 0 | U99: =ROUND(SUMIFS($K$13:$K$95, $C$13:$C$95,U$98,$A$13:$A$95,$T99),2) -> 0 | V99: =ROUND(SUMIFS($K$13:$K$95, $C$13:$C$95,V$98,$A$13:$A$95,$T99),2) -> 0 | W99: =ROUND(SUMIFS($K$13:$K$95, $C$13:$C$95,W$98,$A$13:$A$95,$T99),2) -> 0 | X99: =ROUND(SUMIFS($K$13:$K$95, $C$13:$C$95,X$98,$A$13:$A$95,$T99),2) -> 0 | Y99: =ROUND(SUM(U99:X99)*0.07,2) -> 0 | Z99: =SUMIFS($N$13:$N$95, $C$13:$C$95,$R$99,$A$13:$A$95,$T99) -> 0 | AA99: =SUMIFS($N$13:$N$95, $C$13:$C$95,$R$100,$A$13:$A$95,$T99) -> 0 | AB99: =T99 -> 0
Q100: =SUMIFS($K$13:$K$95, $C$13:$C$95, "A2") -> 0 | R100: A2 | T100: =N2 -> 0 | U100: =ROUND(SUMIFS($K$13:$K$95, $C$13:$C$95,U$98,$A$13:$A$95,$T100),2) -> 0 | V100: =ROUND(SUMIFS($K$13:$K$95, $C$13:$C$95,V$98,$A$13:$A$95,$T100),2) -> 0 | W100: =ROUND(SUMIFS($K$13:$K$95, $C$13:$C$95,W$98,$A$13:$A$95,$T100),2) -> 0 | X100: =ROUND(SUMIFS($K$13:$K$95, $C$13:$C$95,X$98,$A$13:$A$95,$T100),2) -> 0 | Y100: =ROUND(SUM(U100:X100)*0.07,2) -> 0 | Z100: =SUMIFS($N$13:$N$95, $C$13:$C$95,$R$99,$A$13:$A$95,$T100) -> 0 | AA100: =SUMIFS($N$13:$N$95, $C$13:$C$95,$R$100,$A$13:$A$95,$T100) -> 0 | AB100: =T100 -> 0
Q101: =SUMIFS($K$13:$K$95, $C$13:$C$95, "B1") -> 0 | R101: B1 | T101: =N3 -> 0 | U101: =ROUND(SUMIFS($K$13:$K$95, $C$13:$C$95,U$98,$A$13:$A$95,$T101),2) -> 0 | V101: =ROUND(SUMIFS($K$13:$K$95, $C$13:$C$95,V$98,$A$13:$A$95,$T101),2) -> 0 | W101: =ROUND(SUMIFS($K$13:$K$95, $C$13:$C$95,W$98,$A$13:$A$95,$T101),2) -> 0 | X101: =ROUND(SUMIFS($K$13:$K$95, $C$13:$C$95,X$98,$A$13:$A$95,$T101),2) -> 0 | Y101: =ROUND(SUM(U101:X101)*0.07,2) -> 0 | Z101: =SUMIFS($N$13:$N$95, $C$13:$C$95,$R$99,$A$13:$A$95,$T101) -> 0 | AA101: =SUMIFS($N$13:$N$95, $C$13:$C$95,$R$100,$A$13:$A$95,$T101) -> 0 | AB101: =T101 -> 0
Q102: =SUMIFS($K$13:$K$95, $C$13:$C$95, "B2") -> 0 | R102: B2 | T102: =N4 -> 0 | U102: =ROUND(SUMIFS($K$13:$K$95, $C$13:$C$95,U$98,$A$13:$A$95,$T102),2) -> 0 | V102: =ROUND(SUMIFS($K$13:$K$95, $C$13:$C$95,V$98,$A$13:$A$95,$T102),2) -> 0 | W102: =ROUND(SUMIFS($K$13:$K$95, $C$13:$C$95,W$98,$A$13:$A$95,$T102),2) -> 0 | X102: =ROUND(SUMIFS($K$13:$K$95, $C$13:$C$95,X$98,$A$13:$A$95,$T102),2) -> 0 | Y102: =ROUND(SUM(U102:X102)*0.07,2) -> 0 | Z102: =SUMIFS($N$13:$N$95, $C$13:$C$95,$R$99,$A$13:$A$95,$T102) -> 0 | AA102: =SUMIFS($N$13:$N$95, $C$13:$C$95,$R$100,$A$13:$A$95,$T102) -> 0 | AB102: =T102 -> 0
Q103: =SUMIFS($K$13:$K$95, $C$13:$C$95, "B3") -> 0 | R103: C | T103: =N5 -> 0 | U103: =ROUND(SUMIFS($K$13:$K$95, $C$13:$C$95,U$98,$A$13:$A$95,$T103),2) -> 0 | V103: =ROUND(SUMIFS($K$13:$K$95, $C$13:$C$95,V$98,$A$13:$A$95,$T103),2) -> 0 | W103: =ROUND(SUMIFS($K$13:$K$95, $C$13:$C$95,W$98,$A$13:$A$95,$T103),2) -> 0 | X103: =ROUND(SUMIFS($K$13:$K$95, $C$13:$C$95,X$98,$A$13:$A$95,$T103),2) -> 0 | Y103: =ROUND(SUM(U103:X103)*0.07,2) -> 0 | Z103: =SUMIFS($N$13:$N$95, $C$13:$C$95,$R$99,$A$13:$A$95,$T103) -> 0 | AA103: =SUMIFS($N$13:$N$95, $C$13:$C$95,$R$100,$A$13:$A$95,$T103) -> 0 | AB103: =T103 -> 0
Q104: =(Q99+Q100+Q101+Q102+Q103)*0.07 -> 0 | R104: D | T104: =N6 -> 0 | U104: =ROUND(SUMIFS($K$13:$K$95, $C$13:$C$95,U$98,$A$13:$A$95,$T104),2) -> 0 | V104: =ROUND(SUMIFS($K$13:$K$95, $C$13:$C$95,V$98,$A$13:$A$95,$T104),2) -> 0 | W104: =ROUND(SUMIFS($K$13:$K$95, $C$13:$C$95,W$98,$A$13:$A$95,$T104),2) -> 0 | X104: =ROUND(SUMIFS($K$13:$K$95, $C$13:$C$95,X$98,$A$13:$A$95,$T104),2) -> 0 | Y104: =ROUND(SUM(U104:X104)*0.07,2) -> 0 | Z104: =SUMIFS($N$13:$N$95, $C$13:$C$95,$R$99,$A$13:$A$95,$T104) -> 0 | AA104: =SUMIFS($N$13:$N$95, $C$13:$C$95,$R$100,$A$13:$A$95,$T104) -> 0 | AB104: =T104 -> 0
T105: =N7 -> 0 | U105: =ROUND(SUMIFS($K$13:$K$95, $C$13:$C$95,U$98,$A$13:$A$95,$T105),2) -> 0 | V105: =ROUND(SUMIFS($K$13:$K$95, $C$13:$C$95,V$98,$A$13:$A$95,$T105),2) -> 0 | W105: =ROUND(SUMIFS($K$13:$K$95, $C$13:$C$95,W$98,$A$13:$A$95,$T105),2) -> 0 | X105: =ROUND(SUMIFS($K$13:$K$95, $C$13:$C$95,X$98,$A$13:$A$95,$T105),2) -> 0 | Y105: =ROUND(SUM(U105:X105)*0.07,2) -> 0 | Z105: =SUMIFS($N$13:$N$95, $C$13:$C$95,$R$99,$A$13:$A$95,$T105) -> 0 | AA105: =SUMIFS($N$13:$N$95, $C$13:$C$95,$R$100,$A$13:$A$95,$T105) -> 0 | AB105: =T105 -> 0
T106: =N8 -> 0 | U106: =ROUND(SUMIFS($K$13:$K$95, $C$13:$C$95,U$98,$A$13:$A$95,$T106),2) -> 0 | V106: =ROUND(SUMIFS($K$13:$K$95, $C$13:$C$95,V$98,$A$13:$A$95,$T106),2) -> 0 | W106: =ROUND(SUMIFS($K$13:$K$95, $C$13:$C$95,W$98,$A$13:$A$95,$T106),2) -> 0 | X106: =ROUND(SUMIFS($K$13:$K$95, $C$13:$C$95,X$98,$A$13:$A$95,$T106),2) -> 0 | Y106: =ROUND(SUM(U106:X106)*0.07,2) -> 0 | Z106: =SUMIFS($N$13:$N$95, $C$13:$C$95,$R$99,$A$13:$A$95,$T106) -> 0 | AA106: =SUMIFS($N$13:$N$95, $C$13:$C$95,$R$100,$A$13:$A$95,$T106) -> 0 | AB106: =T106 -> 0
R107: A1 | S107: Κόστος προσωπικού | T107: =N9 -> 0 | U107: =ROUND(SUMIFS($K$13:$K$95, $C$13:$C$95,U$98,$A$13:$A$95,$T107),2) -> 0 | V107: =ROUND(SUMIFS($K$13:$K$95, $C$13:$C$95,V$98,$A$13:$A$95,$T107),2) -> 0 | W107: =ROUND(SUMIFS($K$13:$K$95, $C$13:$C$95,W$98,$A$13:$A$95,$T107),2) -> 0 | X107: =ROUND(SUMIFS($K$13:$K$95, $C$13:$C$95,X$98,$A$13:$A$95,$T107),2) -> 0 | Y107: =ROUND(SUM(U107:X107)*0.07,2) -> 0 | Z107: =SUMIFS($N$13:$N$95, $C$13:$C$95,$R$99,$A$13:$A$95,$T107) -> 0 | AA107: =SUMIFS($N$13:$N$95, $C$13:$C$95,$R$100,$A$13:$A$95,$T107) -> 0 | AB107: =T107 -> 0
R108: A2 | S108: Επαγγελματίες | T108: =N10 -> 0 | U108: =ROUND(SUMIFS($K$13:$K$95, $C$13:$C$95,U$98,$A$13:$A$95,$T108),2) -> 0 | V108: =ROUND(SUMIFS($K$13:$K$95, $C$13:$C$95,V$98,$A$13:$A$95,$T108),2) -> 0 | W108: =ROUND(SUMIFS($K$13:$K$95, $C$13:$C$95,W$98,$A$13:$A$95,$T108),2) -> 0 | X108: =ROUND(SUMIFS($K$13:$K$95, $C$13:$C$95,X$98,$A$13:$A$95,$T108),2) -> 0 | Y108: =ROUND(SUM(U108:X108)*0.07,2) -> 0 | Z108: =SUMIFS($N$13:$N$95, $C$13:$C$95,$R$99,$A$13:$A$95,$T108) -> 0 | AA108: =SUMIFS($N$13:$N$95, $C$13:$C$95,$R$100,$A$13:$A$95,$T108) -> 0 | AB108: =T108 -> 0
R109: B1 | S109: Ταξίδια | T109: =N11 -> 0 | U109: =ROUND(SUMIFS($K$13:$K$95, $C$13:$C$95,U$98,$A$13:$A$95,$T109),2) -> 0 | V109: =ROUND(SUMIFS($K$13:$K$95, $C$13:$C$95,V$98,$A$13:$A$95,$T109),2) -> 0 | W109: =ROUND(SUMIFS($K$13:$K$95, $C$13:$C$95,W$98,$A$13:$A$95,$T109),2) -> 0 | X109: =ROUND(SUMIFS($K$13:$K$95, $C$13:$C$95,X$98,$A$13:$A$95,$T109),2) -> 0 | Y109: =ROUND(SUM(U109:X109)*0.07,2) -> 0 | Z109: =SUMIFS($N$13:$N$95, $C$13:$C$95,$R$99,$A$13:$A$95,$T109) -> 0 | AA109: =SUMIFS($N$13:$N$95, $C$13:$C$95,$R$100,$A$13:$A$95,$T109) -> 0 | AB109: =T109 -> 0
...

Sheet Σύνολα προϋπολογισμών ανά Δράση
A1: Σύνολα προϋπολογισμών ανά Δράση
A2: No Δράσης | B2: Τύπος Δράσης | C2: Δαπάνες
C3: A1. Κόστος προσωπικού | E3: Β1. Ταξίδια | F3: B.2 Λοιπές Δαπάνες, Αγορές και Υπηρεσίες | G3: C. Ανακατασκευής - ανακαίνισης ακινήτου | H3: D. Έμμεσες δαπάνες (7%) | I3: Συνολικές επιλέξιμες δαπάνες ανά δράση | J3: Συνολικές επιλέξιμες δαπάνες ανά πακέτο Εργασίας
C4: Α2. Υπάλληλοι και Ελ. Επαγγελματίες | E4: Ταξίδια
C5: Μήνες | D5: € | E5: € | F5: € | G5: € | H5: € | I5: € | J5: €
A6: =+'Λίστα Δράσεων'!B6 -> 0 | B6: =+'Λίστα Δράσεων'!C6 -> 0 | C6: =+'Κύριες Δράσεις Έργου'!AA101+'Κύριες Δράσεις Έργου'!AB101 -> 0 | D6: =+'Κύριες Δράσεις Έργου'!U101+'Κύριες Δράσεις Έργου'!V101 -> 0 | E6: =+'Κύριες Δράσεις Έργου'!W101 -> 0 | F6: =+'Κύριες Δράσεις Έργου'!X101 -> 0 | G6: =+'Κύριες Δράσεις Έργου'!Y101 -> 0 | H6: =+'Κύριες Δράσεις Έργου'!Z101 -> 0 | I6: =ROUND(SUM(D6:H6),2) -> 0 | J6: =ROUND(SUM(I6:I19),2) -> 0
A7: =+'Λίστα Δράσεων'!B7 -> 0 | B7: =+'Λίστα Δράσεων'!C7 -> 0 | C7: =+'Κύριες Δράσεις Έργου'!AA102+'Κύριες Δράσεις Έργου'!AB102 -> 0 | D7: =+'Κύριες Δράσεις Έργου'!U102+'Κύριες Δράσεις Έργου'!V102 -> 0 | E7: =+'Κύριες Δράσεις Έργου'!W102 -> 0 | F7: =+'Κύριες Δράσεις Έργου'!X102 -> 0 | G7: =+'Κύριες Δράσεις Έργου'!Y102 -> 0 | H7: =+'Κύριες Δράσεις Έργου'!Z102 -> 0 | I7: =ROUND(SUM(D7:H7),2) -> 0
A8: =+'Λίστα Δράσεων'!B8 -> 0 | B8: =+'Λίστα Δράσεων'!C8 -> 0 | C8: =+'Κύριες Δράσεις Έργου'!AA103+'Κύριες Δράσεις Έργου'!AB103 -> 0 | D8: =+'Κύριες Δράσεις Έργου'!U103+'Κύριες Δράσεις Έργου'!V103 -> 0 | E8: =+'Κύριες Δράσεις Έργου'!W103 -> 0 | F8: =+'Κύριες Δράσεις Έργου'!X103 -> 0 | G8: =+'Κύριες Δράσεις Έργου'!Y103 -> 0 | H8: =+'Κύριες Δράσεις Έργου'!Z103 -> 0 | I8: =ROUND(SUM(D8:H8),2) -> 0
A9: =+'Λίστα Δράσεων'!B9 -> 0 | B9: =+'Λίστα Δράσεων'!C9 -> 0 | C9: =+'Κύριες Δράσεις Έργου'!AA104+'Κύριες Δράσεις Έργου'!AB104 -> 0 | D9: =+'Κύριες Δράσεις Έργου'!U104+'Κύριες Δράσεις Έργου'!V104 -> 0 | E9: =+'Κύριες Δράσεις Έργου'!W104 -> 0 | F9: =+'Κύριες Δράσεις Έργου'!X104 -> 0 | G9: =+'Κύριες Δράσεις Έργου'!Y104 -> 0 | H9: =+'Κύριες Δράσεις Έργου'!Z104 -> 0 | I9: =ROUND(SUM(D9:H9),2) -> 0
A10: =+'Λίστα Δράσεων'!B10 -> 0 | B10: =+'Λίστα Δράσεων'!C10 -> 0 | C10: =+'Κύριες Δράσεις Έργου'!AA105+'Κύριες Δράσεις Έργου'!AB105 -> 0 | D10: =+'Κύριες Δράσεις Έργου'!U105+'Κύριες Δράσεις Έργου'!V105 -> 0 | E10: =+'Κύριες Δράσεις Έργου'!W105 -> 0 | F10: =+'Κύριες Δράσεις Έργου'!X105 -> 0 | G10: =+'Κύριες Δράσεις Έργου'!Y105 -> 0 | H10: =+'Κύριες Δράσεις Έργου'!Z105 -> 0 | I10: =ROUND(SUM(D10:H10),2) -> 0
A11: =+'Λίστα Δράσεων'!B11 -> 0 | B11: =+'Λίστα Δράσεων'!C11 -> 0 | C11: =+'Κύριες Δράσεις Έργου'!AA106+'Κύριες Δράσεις Έργου'!AB106 -> 0 | D11: =+'Κύριες Δράσεις Έργου'!U106+'Κύριες Δράσεις Έργου'!V106 -> 0 | E11: =+'Κύριες Δράσεις Έργου'!W106 -> 0 | F11: =+'Κύριες Δράσεις Έργου'!X106 -> 0 | G11: =+'Κύριες Δράσεις Έργου'!Y106 -> 0 | H11: =+'Κύριες Δράσεις Έργου'!Z106 -> 0 | I11: =ROUND(SUM(D11:H11),2) -> 0
A12: =+'Λίστα Δράσεων'!B12 -> 0 | B12: =+'Λίστα Δράσεων'!C12 -> 0 | C12: =+'Κύριες Δράσεις Έργου'!AA107+'Κύριες Δράσεις Έργου'!AB107 -> 0 | D12: =+'Κύριες Δράσεις Έργου'!U107+'Κύριες Δράσεις Έργου'!V107 -> 0 | E12: =+'Κύριες Δράσεις Έργου'!W107 -> 0 | F12: =+'Κύριες Δράσεις Έργου'!X107 -> 0 | G12: =+'Κύριες Δράσεις Έργου'!Y107 -> 0 | H12: =+'Κύριες Δράσεις Έργου'!Z107 -> 0 | I12: =ROUND(SUM(D12:H12),2) -> 0
A13: =+'Λίστα Δράσεων'!B13 -> 0 | B13: =+'Λίστα Δράσεων'!C13 -> 0 | C13: =+'Κύριες Δράσεις Έργου'!AA108+'Κύριες Δράσεις Έργου'!AB108 -> 0 | D13: =+'Κύριες Δράσεις Έργου'!U108+'Κύριες Δράσεις Έργου'!V108 -> 0 | E13: =+'Κύριες Δράσεις Έργου'!W108 -> 0 | F13: =+'Κύριες Δράσεις Έργου'!X108 -> 0 | G13: =+'Κύριες Δράσεις Έργου'!Y108 -> 0 | H13: =+'Κύριες Δράσεις Έργου'!Z108 -> 0 | I13: =ROUND(SUM(D13:H13),2) -> 0
A14: =+'Λίστα Δράσεων'!B14 -> 0 | B14: =+'Λίστα Δράσεων'!C14 -> 0 | C14: =+'Κύριες Δράσεις Έργου'!AA109+'Κύριες Δράσεις Έργου'!AB109 -> 0 | D14: =+'Κύριες Δράσεις Έργου'!U109+'Κύριες Δράσεις Έργου'!V109 -> 0 | E14: =+'Κύριες Δράσεις Έργου'!W109 -> 0 | F14: =+'Κύριες Δράσεις Έργου'!X109 -> 0 | G14: =+'Κύριες Δράσεις Έργου'!Y109 -> 0 | H14: =+'Κύριες Δράσεις Έργου'!Z109 -> 0 | I14: =ROUND(SUM(D14:H14),2) -> 0
A15: =+'Λίστα Δράσεων'!B15 -> 0 | B15: =+'Λίστα Δράσεων'!C15 -> 0 | C15: =+'Κύριες Δράσεις Έργου'!AA110+'Κύριες Δράσεις Έργου'!AB110 -> 0 | D15: =+'Κύριες Δράσεις Έργου'!U110+'Κύριες Δράσεις Έργου'!V110 -> 0 | E15: =+'Κύριες Δράσεις Έργου'!W110 -> 0 | F15: =+'Κύριες Δράσεις Έργου'!X110 -> 0 | G15: =+'Κύριες Δράσεις Έργου'!Y110 -> 0 | H15: =+'Κύριες Δράσεις Έργου'!Z110 -> 0 | I15: =ROUND(SUM(D15:H15),2) -> 0
A16: =+'Λίστα Δράσεων'!B16 -> 0 | B16: =+'Λίστα Δράσεων'!C16 -> 0 | C16: =+'Κύριες Δράσεις Έργου'!AA111+'Κύριες Δράσεις Έργου'!AB111 -> 0 | D16: =+'Κύριες Δράσεις Έργου'!U111+'Κύριες Δράσεις Έργου'!V111 -> 0 | E16: =+'Κύριες Δράσεις Έργου'!W111 -> 0 | F16: =+'Κύριες Δράσεις Έργου'!X111 -> 0 | G16: =+'Κύριες Δράσεις Έργου'!Y111 -> 0 | H16: =+'Κύριες Δράσεις Έργου'!Z111 -> 0 | I16: =ROUND(SUM(D16:H16),2) -> 0
A17: =+'Λίστα Δράσεων'!B17 -> 0 | B17: =+'Λίστα Δράσεων'!C17 -> 0 | C17: =+'Κύριες Δράσεις Έργου'!AA112+'Κύριες Δράσεις Έργου'!AB112 -> 0 | D17: =+'Κύριες Δράσεις Έργου'!U112+'Κύριες Δράσεις Έργου'!V112 -> 0 | E17: =+'Κύριες Δράσεις Έργου'!W112 -> 0 | F17: =+'Κύριες Δράσεις Έργου'!X112 -> 0 | G17: =+'Κύριες Δράσεις Έργου'!Y112 -> 0 | H17: =+'Κύριες Δράσεις Έργου'!Z112 -> 0 | I17: =ROUND(SUM(D17:H17),2) -> 0
A18: =+'Λίστα Δράσεων'!B18 -> 0 | B18: =+'Λίστα Δράσεων'!C18 -> 0 | C18: =+'Κύριες Δράσεις Έργου'!AA113+'Κύριες Δράσεις Έργου'!AB113 -> 0 | D18: =+'Κύριες Δράσεις Έργου'!U113+'Κύριες Δράσεις Έργου'!V113 -> 0 | E18: =+'Κύριες Δράσεις Έργου'!W113 -> 0 | F18: =+'Κύριες Δράσεις Έργου'!X113 -> 0 | G18: =+'Κύριες Δράσεις Έργου'!Y113 -> 0 | H18: =+'Κύριες Δράσεις Έργου'!Z113 -> 0 | I18: =ROUND(SUM(D18:H18),2) -> 0
A19: =+'Λίστα Δράσεων'!B19 -> 0 | B19: =+'Λίστα Δράσεων'!C19 -> 0 | C19: =+'Κύριες Δράσεις Έργου'!AA114+'Κύριες Δράσεις Έργου'!AB114 -> 0 | D19: =+'Κύριες Δράσεις Έργου'!U114+'Κύριες Δράσεις Έργου'!V114 -> 0 | E19: =+'Κύριες Δράσεις Έργου'!W114 -> 0 | F19: =+'Κύριες Δράσεις Έργου'!X114 -> 0 | G19: =+'Κύριες Δράσεις Έργου'!Y114 -> 0 | H19: =+'Κύριες Δράσεις Έργου'!Z114 -> 0 | I19: =ROUND(SUM(D19:H19),2) -> 0
A20: =+'Λίστα Δράσεων'!B24 -> 0 | B20: =+'Λίστα Δράσεων'!C24 -> 0 | C20: ='Δράσεις Ανάπτυξης Ικανοτήτων'!Z99+'Δράσεις Ανάπτυξης Ικανοτήτων'!AA99 -> 0 | D20: ='Δράσεις Ανάπτυξης Ικανοτήτων'!U99+'Δράσεις Ανάπτυξης Ικανοτήτων'!V99 -> 0 | E20: ='Δράσεις Ανάπτυξης Ικανοτήτων'!W99 -> 0 | F20: ='Δράσεις Ανάπτυξης Ικανοτήτων'!X99 -> 0 | H20: ='Δράσεις Ανάπτυξης Ικανοτήτων'!Y99 -> 0 | I20: =ROUND(SUM(D20:H20),2) -> 0 | J20: =ROUND(SUM(I20:I32),2) -> 0
A21: =+'Λίστα Δράσεων'!B25 -> 0 | B21: =+'Λίστα Δράσεων'!C25 -> 0 | C21: ='Δράσεις Ανάπτυξης Ικανοτήτων'!Z100+'Δράσεις Ανάπτυξης Ικανοτήτων'!AA100 -> 0 | D21: ='Δράσεις Ανάπτυξης Ικανοτήτων'!U100+'Δράσεις Ανάπτυξης Ικανοτήτων'!V100 -> 0 | E21: ='Δράσεις Ανάπτυξης Ικανοτήτων'!W100 -> 0 | F21: ='Δράσεις Ανάπτυξης Ικανοτήτων'!X100 -> 0 | H21: ='Δράσεις Ανάπτυξης Ικανοτήτων'!Y100 -> 0 | I21: =ROUND(SUM(D21:H21),2) -> 0
A22: =+'Λίστα Δράσεων'!B26 -> 0 | B22: =+'Λίστα Δράσεων'!C26 -> 0 | C22: ='Δράσεις Ανάπτυξης Ικανοτήτων'!Z101+'Δράσεις Ανάπτυξης Ικανοτήτων'!AA101 -> 0 | D22: ='Δράσεις Ανάπτυξης Ικανοτήτων'!U101+'Δράσεις Ανάπτυξης Ικανοτήτων'!V101 -> 0 | E22: ='Δράσεις Ανάπτυξης Ικανοτήτων'!W101 -> 0 | F22: ='Δράσεις Ανάπτυξης Ικανοτήτων'!X101 -> 0 | H22: ='Δράσεις Ανάπτυξης Ικανοτήτων'!Y101 -> 0 | I22: =ROUND(SUM(D22:H22),2) -> 0
A23: =+'Λίστα Δράσεων'!B27 -> 0 | B23: =+'Λίστα Δράσεων'!C27 -> 0 | C23: ='Δράσεις Ανάπτυξης Ικανοτήτων'!Z102+'Δράσεις Ανάπτυξης Ικανοτήτων'!AA102 -> 0 | D23: ='Δράσεις Ανάπτυξης Ικανοτήτων'!U102+'Δράσεις Ανάπτυξης Ικανοτήτων'!V102 -> 0 | E23: ='Δράσεις Ανάπτυξης Ικανοτήτων'!W102 -> 0 | F23: ='Δράσεις Ανάπτυξης Ικανοτήτων'!X102 -> 0 | H23: ='Δράσεις Ανάπτυξης Ικανοτήτων'!Y102 -> 0 | I23: =ROUND(SUM(D23:H23),2) -> 0
A24: =+'Λίστα Δράσεων'!B28 -> 0 | B24: =+'Λίστα Δράσεων'!C28 -> 0 | C24: ='Δράσεις Ανάπτυξης Ικανοτήτων'!Z103+'Δράσεις Ανάπτυξης Ικανοτήτων'!AA103 -> 0 | D24: ='Δράσεις Ανάπτυξης Ικανοτήτων'!U103+'Δράσεις Ανάπτυξης Ικανοτήτων'!V103 -> 0 | E24: ='Δράσεις Ανάπτυξης Ικανοτήτων'!W103 -> 0 | F24: ='Δράσεις Ανάπτυξης Ικανοτήτων'!X103 -> 0 | H24: ='Δράσεις Ανάπτυξης Ικανοτήτων'!Y103 -> 0 | I24: =ROUND(SUM(D24:H24),2) -> 0
A25: =+'Λίστα Δράσεων'!B29 -> 0 | B25: =+'Λίστα Δράσεων'!C29 -> 0 | C25: ='Δράσεις Ανάπτυξης Ικανοτήτων'!Z104+'Δράσεις Ανάπτυξης Ικανοτήτων'!AA104 -> 0 | D25: ='Δράσεις Ανάπτυξης Ικανοτήτων'!U104+'Δράσεις Ανάπτυξης Ικανοτήτων'!V104 -> 0 | E25: ='Δράσεις Ανάπτυξης Ικανοτήτων'!W104 -> 0 | F25: ='Δράσεις Ανάπτυξης Ικανοτήτων'!X104 -> 0 | H25: ='Δράσεις Ανάπτυξης Ικανοτήτων'!Y104 -> 0 | I25: =ROUND(SUM(D25:H25),2) -> 0
A26: =+'Λίστα Δράσεων'!B30 -> 0 | B26: =+'Λίστα Δράσεων'!C30 -> 0 | C26: ='Δράσεις Ανάπτυξης Ικανοτήτων'!Z105+'Δράσεις Ανάπτυξης Ικανοτήτων'!AA105 -> 0 | D26: ='Δράσεις Ανάπτυξης Ικανοτήτων'!U105+'Δράσεις Ανάπτυξης Ικανοτήτων'!V105 -> 0 | E26: ='Δράσεις Ανάπτυξης Ικανοτήτων'!W105 -> 0 | F26: ='Δράσεις Ανάπτυξης Ικανοτήτων'!X105 -> 0 | H26: ='Δράσεις Ανάπτυξης Ικανοτήτων'!Y105 -> 0 | I26: =ROUND(SUM(D26:H26),2) -> 0
A27: =+'Λίστα Δράσεων'!B31 -> 0 | B27: =+'Λίστα Δράσεων'!C31 -> 0 | C27: ='Δράσεις Ανάπτυξης Ικανοτήτων'!Z106+'Δράσεις Ανάπτυξης Ικανοτήτων'!AA106 -> 0 | D27: ='Δράσεις Ανάπτυξης Ικανοτήτων'!U106+'Δράσεις Ανάπτυξης Ικανοτήτων'!V106 -> 0 | E27: ='Δράσεις Ανάπτυξης Ικανοτήτων'!W106 -> 0 | F27: ='Δράσεις Ανάπτυξης Ικανοτήτων'!X106 -> 0 | H27: ='Δράσεις Ανάπτυξης Ικανοτήτων'!Y106 -> 0 | I27: =ROUND(SUM(D27:H27),2) -> 0
A28: =+'Λίστα Δράσεων'!B32 -> 0 | B28: =+'Λίστα Δράσεων'!C32 -> 0 | C28: ='Δράσεις Ανάπτυξης Ικανοτήτων'!Z107+'Δράσεις Ανάπτυξης Ικανοτήτων'!AA107 -> 0 | D28: ='Δράσεις Ανάπτυξης Ικανοτήτων'!U107+'Δράσεις Ανάπτυξης Ικανοτήτων'!V107 -> 0 | E28: ='Δράσεις Ανάπτυξης Ικανοτήτων'!W107 -> 0 | F28: ='Δράσεις Ανάπτυξης Ικανοτήτων'!X107 -> 0 | H28: ='Δράσεις Ανάπτυξης Ικανοτήτων'!Y107 -> 0 | I28: =ROUND(SUM(D28:H28),2) -> 0
A29: =+'Λίστα Δράσεων'!B33 -> 0 | B29: =+'Λίστα Δράσεων'!C33 -> 0 | C29: ='Δράσεις Ανάπτυξης Ικανοτήτων'!Z108+'Δράσεις Ανάπτυξης Ικανοτήτων'!AA108 -> 0 | D29: ='Δράσεις Ανάπτυξης Ικανοτήτων'!U108+'Δράσεις Ανάπτυξης Ικανοτήτων'!V108 -> 0 | E29: ='Δράσεις Ανάπτυξης Ικανοτήτων'!W108 -> 0 | F29: ='Δράσεις Ανάπτυξης Ικανοτήτων'!X108 -> 0 | H29: ='Δράσεις Ανάπτυξης Ικανοτήτων'!Y108 -> 0 | I29: =ROUND(SUM(D29:H29),2) -> 0
A30: =+'Λίστα Δράσεων'!B34 -> 0 | B30: =+'Λίστα Δράσεων'!C34 -> 0 | C30: ='Δράσεις Ανάπτυξης Ικανοτήτων'!Z109+'Δράσεις Ανάπτυξης Ικανοτήτων'!AA109 -> 0 | D30: ='Δράσεις Ανάπτυξης Ικανοτήτων'!U109+'Δράσεις Ανάπτυξης Ικανοτήτων'!V109 -> 0 | E30: ='Δράσεις Ανάπτυξης Ικανοτήτων'!W109 -> 0 | F30: ='Δράσεις Ανάπτυξης Ικανοτήτων'!X109 -> 0 | H30: ='Δράσεις Ανάπτυξης Ικανοτήτων'!Y109 -> 0 | I30: =ROUND(SUM(D30:H30),2) -> 0
A31: =+'Λίστα Δράσεων'!B35 -> 0 | B31: =+'Λίστα Δράσεων'!C35 -> 0 | C31: ='Δράσεις Ανάπτυξης Ικανοτήτων'!Z110+'Δράσεις Ανάπτυξης Ικανοτήτων'!AA110 -> 0 | D31: ='Δράσεις Ανάπτυξης Ικανοτήτων'!U110+'Δράσεις Ανάπτυξης Ικανοτήτων'!V110 -> 0 | E31: ='Δράσεις Ανάπτυξης Ικανοτήτων'!W110 -> 0 | F31: ='Δράσεις Ανάπτυξης Ικανοτήτων'!X110 -> 0 | H31: ='Δράσεις Ανάπτυξης Ικανοτήτων'!Y110 -> 0 | I31: =ROUND(SUM(D31:H31),2) -> 0
A32: =+'Λίστα Δράσεων'!B36 -> 0 | B32: =+'Λίστα Δράσεων'!C36 -> 0 | C32: ='Δράσεις Ανάπτυξης Ικανοτήτων'!Z111+'Δράσεις Ανάπτυξης Ικανοτήτων'!AA111 -> 0 | D32: ='Δράσεις Ανάπτυξης Ικανοτήτων'!U111+'Δράσεις Ανάπτυξης Ικανοτήτων'!V111 -> 0 | E32: ='Δράσεις Ανάπτυξης Ικανοτήτων'!W111 -> 0 | F32: ='Δράσεις Ανάπτυξης Ικανοτήτων'!X111 -> 0 | H32: ='Δράσεις Ανάπτυξης Ικανοτήτων'!Y111 -> 0 | I32: =ROUND(SUM(D32:H32),2) -> 0
A33: Σύνολα | C33: =SUM(C6:C32) -> 0 | D33: =SUM(D6:D32) -> 0 | E33: =SUM(E6:E32) -> 0 | F33: =SUM(F6:F32) -> 0 | G33: =SUM(G6:G32) -> 0 | H33: =SUM(H6:H32) -> 0 | I33: =SUM(I6:I32) -> 0 | J33: =SUM(J6:J32) -> 0
