Workbook

Sheet Οδηγίες
A1: Οδηγίες Συμπλήρωσης Προϋπολογισμού
A3: ΓΕΝΙΚΕΣ ΣΗΜΕΙΩΣΕΙΣ
A4: → Η περιγραφή των δράσεων θα πρέπει να συμπληρώνεται στα ζητούμενα κελιά όσο το δυνατόν πιο συμπυκνωμένη αλλά ευκρινής & κατανοητή.
A5: → Το αρχείο να συμπληρωθεί μόνο με τη χρήση του Microsoft Excel.
A7: Φύλλο "Στοιχεία Έργου"
A8: → Συμπληρώστε όλα τα απαραίτητα υποχρεωτικά κελιά. Ειδικότερα:
A9: → Συμπληρώστε την επωνυμία του Φορέα Υλοποίησης και την προβλεπόμενη ημερομηνία έναρξης και λήξης του έργου.
A10: → Τα στοιχεία στον πίνακα "Στοιχεία Οικονομικού Προϋπολογισμού" εμφανίζονται αυτόματα αφού συμπληρωθεί το αρχείο του προϋπολογισμού.
A12: Φύλλο "Τίτλοι Δράσεων"
A13: → Μπορείτε να συμπληρώσετε δράσεις ως εξής: συνολικά έως 10 δράσεις που εμπίπτουν σε οποιονδήποτε από τους προκαθορισμένους τύπους δράσεων που παρατίθενται παρακάτω. Αυτές πρέπει να περιλαμβάνουν: Τουλάχιστον μία δράση κάτω από τον τύπο Διαχείριση έργου, παρακολούθηση και υποβολή εκθέσεων Τουλάχιστον μία δράση κάτω από τον τύπο Επικοινωνία, προβολή και διάχυση
A14: → Συμπληρώστε στη στήλη "Τίτλος Δράσης" τον τίτλο της δράσης που προτίθεστε να πραγματοποιήσετε (ο τίτλος θα πρέπει να ταυτίζεται με το αντίστοιχο πεδίο που έχετε συμπληρώσει στην ηλεκτρονική αίτηση).
A15: → Επιλέξτε από την αναπτυσσόμενη λίστα στις στήλες "Μήνας Έναρξης" και "Μήνας Ολοκλήρωσης" τον μήνα που ξεκινά και ολοκληρώνεται αντιστοίχως η δράση. Οι μήνες θα πρέπει να βρίσκονται εντός της διάρκειας του έργου και ο Μήνας Έναρξης να μην είναι μεταγενέστερος του Μήνα Ολοκλήρωσης.
... A44: https://ec.europa.eu/info/funding-tenders/opportunities/docs/2021-2027/common/guidance/additional-information-on-unit-costs-and-contributions_en.pdf

Sheet data
B1: Προώθηση των Ανθρωπίνων Δικαιωμάτων, της Κοινωνικής Δικαιοσύνης και της Καταπολέμησης των Διακρίσεων
D2: - Μήνες (εργασίας)
D3: - Κόστη μεταφοράς (ταξίδια)
B4: 1. Διαχείριση έργου, παρακολούθηση και υποβολή εκθέσεων. | D4: - Ημέρες διαμονής (ταξίδια)
B5: 2. Συλλογή δεδομένων και αναλύσεις. | D5: - Ημέρες διατροφής (ταξίδια)
B6: 3. Συνηγορία (advocacy), θεσμική παρακολούθηση (watchdog) και παρακολούθηση πολιτικών. | D6: - Τεμάχια
B7: 4. Ευαισθητοποίηση και ενίσχυση της δημόσιας συμμετοχής. | D7: - Υπηρεσία
B8: 5. Ανάπτυξη Εργαλείων για την Ενεργό Συμμετοχή των Πολιτών.
B9: 6. Εκπαίδευση και κατάρτιση σε θέματα δικαιωμάτων. | D9: Μήνας ολοκλήρωσης
B10: 7. Επικοινωνία, προβολή και διάχυση. | D10: M1
D11: M2
D12: M3
D13: M4
D14: M5
D15: M6
D16: M7
D17: M8
D18: M9
D19: M10
D20: M11
D21: M12
D49: CBC
D50: ΜΕΓΑΛΑ | E50: ΜΕ ΕΜΜΕΣΕΣ | F50: ΧΩΡΙΣ ΕΜΜΕΣΕΣ
D51: ΜΙΝ | E51: 100000
D52: ΜΑΧ | E52: 200000

Sheet Στοιχεία έργου
A7: ΣΤΟΙΧΕΙΑ ΕΡΓΟΥ
A9: Επωνυμία Φορέα Υλοποίησης
A13: Πρόσκληση | B13: Δράσεις Ενεργού Συμμετοχής των Πολιτών
A15: Πόσο επιχορήγησης | B15: 10000
A17: Περίοδος υλοποίησης | B17: από | D17: έως | F17: Διάρκεια σε μήνες | G17: =IFERROR(IF((E17-C17)/(364/12)<=0,"",(E17-C17)/(364/12)),"") | I17: *Η διάρκεια του έργου μπορεί να είναι από 3 έως 12 μήνες
A20: Στοιχεία Οικονομικού Προϋπολογισμού
F22: ΜΗΝΥΜΑΤΑ ΕΛΕΓΧΟΥ
A23: Συνολικός Προϋπολογισμός | E23: =+'Σύνολα προϋπολογισμών ανά Δράση'!J6 -> 0 | G23: =IF(G17="","",IF(G17>12,"ΠΡΟΣΟΧΗ: Η διάρκεια δεν μπορεί να είναι μεγαλύτερη από 12 μήνες.",IF(G17<3,"ΠΡΟΣΟΧΗ: Η διάρκεια δεν μπορεί να είναι μικρότερη από 3 μήνες.",""))) | N23: =365/12 -> 30.416667
G24: =IF(E23=0,"",IF(E23>B15,"Υπέρβαση προϋπολογισμού",IF(E23<B15,"Ο προϋπολογισμός είναι μικρότερος από το ελάχιστο επιτρεπόμενο όριο","")))
A25: =IF(E23='Σύνολα προϋπολογισμών ανά Δράση'!J16,"","Υπάρχουν λάθη στο αρχείο") | G25: =Δράσεις!I8
G26: =IF(Δράσεις!G11<>'Σύνολα προϋπολογισμών ανά Δράση'!J16,"Παρακαλούμε επιλέξτε Νο. Δράσης στο φύλλο Δράσεις","")
N27: =ROUND(COUNTBLANK(G23:I26),0) -> 12

Sheet Τίτλοι Δράσεων
A2: Τίτλοι Δράσεων
D3: {='Στοιχεία έργου'!#REF!} -> #REF!
A5: Δράσεις
A7: Δράσεις | B7: No Δράσης | C7: Τύπος Δράσης | D7: Τίτλος Δράσης (συμπληρώστε τον τίτλο κάθε προτεινόμενης δράσης, ο οποίος θα πρέπει να συμφωνεί με τον τίτλο που έχει καταχωρηθεί στο αντίστοιχο πεδίο της αίτησης) | E7: Μήνας έναρξης δράσης | F7: Μήνας ολοκλήρωσης
B8: Δ.1
B9: Δ.2
B10: Δ.3
B11: Δ.4
B12: Δ.5
B13: Δ.6
B14: Δ.7
B15: Δ.8
B16: Δ.9
B17: Δ.10

Sheet Δράσεις
A1: Δράσεις | M1: A1 | N1: ='Τίτλοι Δράσεων'!B8 -> Δ.1 | O1: =data!D2 -> - Μήνες (εργασίας)
M2: A2 | N2: ='Τίτλοι Δράσεων'!B9 -> Δ.2 | O2: =data!D3 -> - Κόστη μεταφοράς (ταξίδια)
M3: B1 | N3: ='Τίτλοι Δράσεων'!B10 -> Δ.3 | O3: =data!D4 -> - Ημέρες διαμονής (ταξίδια)
E4: A | F4: A1 Δαπάνες προσωπικού μισθωτών υπαλλήλων / Cost for Employees (staff cost) | G4: =SUMIF(Δράσεις!C:C,M1,Δράσεις!K:K) -> 0 | H4: =SUM(G4:G5) -> 0 | M4: B2 | N4: ='Τίτλοι Δράσεων'!B11 -> Δ.4 | O4: =data!D5 -> - Ημέρες διατροφής (ταξίδια)
F5: A2 Δαπάνες Προσωπικού Ελευθέρων Επαγγελματιών / Costs for Natural Persons | G5: =SUMIF(Δράσεις!C:C,M2,Δράσεις!K:K) -> 0 | M5: C | N5: ='Τίτλοι Δράσεων'!B12 -> Δ.5 | O5: =data!D6 -> - Τεμάχια | P5: 2
E6: B | F6: B1 Δαπάνες Ταξιδίων του Προσωπικού του Έργου / Travel costs of project staff | G6: =SUMIF(Δράσεις!C:C,M3,Δράσεις!K:K) -> 0 | H6: =SUM(G6:G7) -> 0 | N6: ='Τίτλοι Δράσεων'!B13 -> Δ.6 | O6: =data!D7 -> - Υπηρεσία
F7: B2 Λοιπές Δαπάνες/ Other Expenses | G7: =SUMIF(Δράσεις!C:C,M4,Δράσεις!K:K) -> 0 | N7: ='Τίτλοι Δράσεων'!B14 -> Δ.7 | O7: =data!D8 -> 0
E8: C | F8: C Ανακατασκευής - ανακαίνισης ακινήτου / reconstruction and renovation | G8: =ROUND(SUMIF(Δράσεις!C:C,M5,Δράσεις!K:K),2) -> 0 | I8: =IF((G8+G8*7%)>('Σύνολα προϋπολογισμών ανά Δράση'!J16*50%),"Υπέρβαση κόστους ανακατασκευής παρακαλούμε διορθώστε","") | N8: ='Τίτλοι Δράσεων'!B15 -> Δ.8
E9: Συνολικά επιλέξιμα κόστη (εκτός έμμεσων δαπανών) A1+A2+B1+B2+C Total Eligible costs (excluding indirect costs) | G9: =SUM(H4:H7)+G8 -> 0 | N9: ='Τίτλοι Δράσεων'!B16 -> Δ.9
E10: D | F10: Έμμεσες δαπάνες (7%) (indirect costs) | G10: =ROUND(G9*0.07,2) -> 0 | I10: =IF(G10=0, 0, ROUND(G10/G9,4)) -> 0 | N10: ='Τίτλοι Δράσεων'!B17 -> Δ.10
E11: Συνολικά επιλέξιμα κόστη A+B+C+D (Total Eligible costs of the project) | G11: =ROUND((G9+G10),2) -> 0
A18: Νο. Δράσης | B18: Φορέας | C18: Κωδικός κατηγορίας δαπάνης | D18: Περιγραφή κατηγορίας δαπάνης | E18: Περιγραφή δαπάνης (ανατρέξτε στην Ενότητα 4: Οικονομικές Προϋποθέσεις Έργου της Ανοιχτής Πρόσκλησης) | F18: Τεκμηρίωση/ αιτιολόγηση δαπάνης έως 600 χαρακτήρες. (Θα πρέπει να τεκμηριώσετε επαρκώς ότι η δαπάνη είναι αναλογική και ρεαλιστική σε σχέση με την προτεινόμενη δράση. Εάν το κελί γίνει κόκκινο, έχετε υπερβεί το μέγιστο επιτρεπόμενο όριο χαρακτήρων) | G18: Μονάδα υπολογισμού κόστους (επιλογή από λίστα) | H18: Αριθμός μονάδων | I18: Αξία ανά μονάδα σε ΕΥΡΩ | J18: Ποσοστό απασχόλησης (μόνο για το κόστος προσωπικού & επαγγελματίες) | K18: Σύνολο σε ΕΥΡΩ
B19: Φορέας | D19: =IF(C19="","",VLOOKUP(C19,$R$62:$S$66,2)) | K19: =IF(C19="",0,IF(OR(C19=$M$1,C19=$M$2),H19*I19*J19,H19*I19)) -> 0 | N19: =H19*J19 -> 0
B20: Φορέας | D20: =IF(C20="","",VLOOKUP(C20,$R$62:$S$66,2)) | K20: =IF(C20="",0,IF(OR(C20=$M$1,C20=$M$2),H20*I20*J20,H20*I20)) -> 0 | N20: =H20*J20 -> 0
B21: Φορέας | D21: =IF(C21="","",VLOOKUP(C21,$R$62:$S$66,2)) | K21: =IF(C21="",0,IF(OR(C21=$M$1,C21=$M$2),H21*I21*J21,H21*I21)) -> 0 | N21: =H21*J21 -> 0
B22: Φορέας | D22: =IF(C22="","",VLOOKUP(C22,$R$62:$S$66,2)) | K22: =IF(C22="",0,IF(OR(C22=$M$1,C22=$M$2),H22*I22*J22,H22*I22)) -> 0 | N22: =H22*J22 -> 0
B23: Φορέας | D23: =IF(C23="","",VLOOKUP(C23,$R$62:$S$66,2)) | K23: =IF(C23="",0,IF(OR(C23=$M$1,C23=$M$2),H23*I23*J23,H23*I23)) -> 0 | N23: =H23*J23 -> 0
B24: Φορέας | D24: =IF(C24="","",VLOOKUP(C24,$R$62:$S$66,2)) | K24: =IF(C24="",0,IF(OR(C24=$M$1,C24=$M$2),H24*I24*J24,H24*I24)) -> 0 | N24: =H24*J24 -> 0
B25: Φορέας | D25: =IF(C25="","",VLOOKUP(C25,$R$62:$S$66,2)) | K25: =IF(C25="",0,IF(OR(C25=$M$1,C25=$M$2),H25*I25*J25,H25*I25)) -> 0 | N25: =H25*J25 -> 0
B26: Φορέας | D26: =IF(C26="","",VLOOKUP(C26,$R$62:$S$66,2)) | K26: =IF(C26="",0,IF(OR(C26=$M$1,C26=$M$2),H26*I26*J26,H26*I26)) -> 0 | N26: =H26*J26 -> 0
B27: Φορέας | D27: =IF(C27="","",VLOOKUP(C27,$R$62:$S$66,2)) | K27: =IF(C27="",0,IF(OR(C27=$M$1,C27=$M$2),H27*I27*J27,H27*I27)) -> 0 | N27: =H27*J27 -> 0
B28: Φορέας | D28: =IF(C28="","",VLOOKUP(C28,$R$62:$S$66,2)) | K28: =IF(C28="",0,IF(OR(C28=$M$1,C28=$M$2),H28*I28*J28,H28*I28)) -> 0 | N28: =H28*J28 -> 0
B29: Φορέας | D29: =IF(C29="","",VLOOKUP(C29,$R$62:$S$66,2)) | K29: =IF(C29="",0,IF(OR(C29=$M$1,C29=$M$2),H29*I29*J29,H29*I29)) -> 0 | N29: =H29*J29 -> 0
B30: Φορέας | D30: =IF(C30="","",VLOOKUP(C30,$R$62:$S$66,2)) | K30: =IF(C30="",0,IF(OR(C30=$M$1,C30=$M$2),H30*I30*J30,H30*I30)) -> 0 | N30: =H30*J30 -> 0
B31: Φορέας | D31: =IF(C31="","",VLOOKUP(C31,$R$62:$S$66,2)) | K31: =IF(C31="",0,IF(OR(C31=$M$1,C31=$M$2),H31*I31*J31,H31*I31)) -> 0 | N31: =H31*J31 -> 0
B32: Φορέας | D32: =IF(C32="","",VLOOKUP(C32,$R$62:$S$66,2)) | K32: =IF(C32="",0,IF(OR(C32=$M$1,C32=$M$2),H32*I32*J32,H32*I32)) -> 0
B33: Φορέας | D33: =IF(C33="","",VLOOKUP(C33,$R$62:$S$66,2)) | K33: =IF(C33="",0,IF(OR(C33=$M$1,C33=$M$2),H33*I33*J33,H33*I33)) -> 0
B34: Φορέας | D34: =IF(C34="","",VLOOKUP(C34,$R$62:$S$66,2)) | K34: =IF(C34="",0,IF(OR(C34=$M$1,C34=$M$2),H34*I34*J34,H34*I34)) -> 0
B35: Φορέας | D35: =IF(C35="","",VLOOKUP(C35,$R$62:$S$66,2)) | K35: =IF(C35="",0,IF(OR(C35=$M$1,C35=$M$2),H35*I35*J35,H35*I35)) -> 0
B36: Φορέας | D36: =IF(C36="","",VLOOKUP(C36,$R$62:$S$66,2)) | K36: =IF(C36="",0,IF(OR(C36=$M$1,C36=$M$2),H36*I36*J36,H36*I36)) -> 0
B37: Φορέας | D37: =IF(C37="","",VLOOKUP(C37,$R$62:$S$66,2)) | K37: =IF(C37="",0,IF(OR(C37=$M$1,C37=$M$2),H37*I37*J37,H37*I37)) -> 0
B38: Φορέας | D38: =IF(C38="","",VLOOKUP(C38,$R$62:$S$66,2)) | K38: =IF(C38="",0,IF(OR(C38=$M$1,C38=$M$2),H38*I38*J38,H38*I38)) -> 0
B39: Φορέας | D39: =IF(C39="","",VLOOKUP(C39,$R$62:$S$66,2)) | K39: =IF(C39="",0,IF(OR(C39=$M$1,C39=$M$2),H39*I39*J39,H39*I39)) -> 0
B40: Φορέας | D40: =IF(C40="","",VLOOKUP(C40,$R$62:$S$66,2)) | K40: =IF(C40="",0,IF(OR(C40=$M$1,C40=$M$2),H40*I40*J40,H40*I40)) -> 0
B41: Φορέας | D41: =IF(C41="","",VLOOKUP(C41,$R$62:$S$66,2)) | K41: =IF(C41="",0,IF(OR(C41=$M$1,C41=$M$2),H41*I41*J41,H41*I41)) -> 0
B42: Φορέας | D42: =IF(C42="","",VLOOKUP(C42,$R$62:$S$66,2)) | K42: =IF(C42="",0,IF(OR(C42=$M$1,C42=$M$2),H42*I42*J42,H42*I42)) -> 0
B43: Φορέας | D43: =IF(C43="","",VLOOKUP(C43,$R$62:$S$66,2)) | K43: =IF(C43="",0,IF(OR(C43=$M$1,C43=$M$2),H43*I43*J43,H43*I43)) -> 0
... B50: Φορέας | D50: =IF(C50="","",VLOOKUP(C50,$R$62:$S$66,2)) | K50: =IF(C50="",0,IF(OR(C50=$M$1,C50=$M$2),H50*I50*J50,H50*I50)) -> 0
U51: Προσωπικό | W51: Ταξίδια | X51: Λοιπές | Z51: Έμμεσες δαπάνες
U52: =S62 -> Κόστος προσωπικού | V52: =S63 -> Επαγγελματίες | W52: Ταξίδια | X52: Λοιπές δαπάνες | Y52: C Ανακατασκευής - ανακαίνισης ακινήτου / cost of reconstruction or renovation of property | Z52: Έμμεσες δαπάνες | AA52: Personnel Months - A1 | AB52: Personnel Months - A2
U53: =M1 -> A1 | V53: =M2 -> A2 | W53: =M3 -> B1 | X53: =M4 -> B2 | Y53: C | Z53: D
Q54: =SUMIFS($K$19:$K$50, $C$19:$C$50, "A1") -> 0 | R54: A1 | T54: =N1 -> Δ.1 | U54: =ROUND(SUMIFS($K$19:$K$50, $C$19:$C$50,U$53,$A$19:$A$50,$T54),2) -> 0 | V54: =ROUND(SUMIFS($K$19:$K$50, $C$19:$C$50,V$53,$A$19:$A$50,$T54),2) -> 0 | W54: =ROUND(SUMIFS($K$19:$K$50, $C$19:$C$50,W$53,$A$19:$A$50,$T54),2) -> 0 | X54: =ROUND(SUMIFS($K$19:$K$50, $C$19:$C$50,X$53,$A$19:$A$50,$T54),2) -> 0 | Y54: =ROUND(SUMIFS($K$19:$K$50, $C$19:$C$50,Y$53,$A$19:$A$50,$T54),2) -> 0 | Z54: =ROUND(SUM(U54:Y54)*0.07,2) -> 0 | AA54: =SUMIFS($N$19:$N$50, $C$19:$C$50,$R$54,$A$19:$A$50,$T54) -> 0 | AB54: =SUMIFS($N$19:$N$50, $C$19:$C$50,$R$55,$A$19:$A$50,$T54) -> 0 | AC54: =T54 -> Δ.1
Q55: =SUMIFS($K$19:$K$50, $C$19:$C$50, "A2") -> 0 | R55: A2 | T55: =N2 -> Δ.2 | U55: =ROUND(SUMIFS($K$19:$K$50, $C$19:$C$50,U$53,$A$19:$A$50,$T55),2) -> 0 | V55: =ROUND(SUMIFS($K$19:$K$50, $C$19:$C$50,V$53,$A$19:$A$50,$T55),2) -> 0 | W55: =ROUND(SUMIFS($K$19:$K$50, $C$19:$C$50,W$53,$A$19:$A$50,$T55),2) -> 0 | X55: =ROUND(SUMIFS($K$19:$K$50, $C$19:$C$50,X$53,$A$19:$A$50,$T55),2) -> 0 | Y55: =ROUND(SUMIFS($K$19:$K$50, $C$19:$C$50,Y$53,$A$19:$A$50,$T55),2) -> 0 | Z55: =ROUND(SUM(U55:Y55)*0.07,2) -> 0 | AA55: =SUMIFS($N$19:$N$50, $C$19:$C$50,$R$54,$A$19:$A$50,$T55) -> 0 | AB55: =SUMIFS($N$19:$N$50, $C$19:$C$50,$R$55,$A$19:$A$50,$T55) -> 0 | AC55: =T55 -> Δ.2
Q56: =SUMIFS($K$19:$K$50, $C$19:$C$50, "B1") -> 0 | R56: B1 | T56: =N3 -> Δ.3 | U56: =ROUND(SUMIFS($K$19:$K$50, $C$19:$C$50,U$53,$A$19:$A$50,$T56),2) -> 0 | V56: =ROUND(SUMIFS($K$19:$K$50, $C$19:$C$50,V$53,$A$19:$A$50,$T56),2) -> 0 | W56: =ROUND(SUMIFS($K$19:$K$50, $C$19:$C$50,W$53,$A$19:$A$50,$T56),2) -> 0 | X56: =ROUND(SUMIFS($K$19:$K$50, $C$19:$C$50,X$53,$A$19:$A$50,$T56),2) -> 0 | Y56: =ROUND(SUMIFS($K$19:$K$50, $C$19:$C$50,Y$53,$A$19:$A$50,$T56),2) -> 0 | Z56: =ROUND(SUM(U56:Y56)*0.07,2) -> 0 | AA56: =SUMIFS($N$19:$N$50, $C$19:$C$50,$R$54,$A$19:$A$50,$T56) -> 0 | AB56: =SUMIFS($N$19:$N$50, $C$19:$C$50,$R$55,$A$19:$A$50,$T56) -> 0 | AC56: =T56 -> Δ.3
Q57: =SUMIFS($K$19:$K$50, $C$19:$C$50, "B2") -> 0 | R57: B2 | T57: =N4 -> Δ.4 | U57: =ROUND(SUMIFS($K$19:$K$50, $C$19:$C$50,U$53,$A$19:$A$50,$T57),2) -> 0 | V57: =ROUND(SUMIFS($K$19:$K$50, $C$19:$C$50,V$53,$A$19:$A$50,$T57),2) -> 0 | W57: =ROUND(SUMIFS($K$19:$K$50, $C$19:$C$50,W$53,$A$19:$A$50,$T57),2) -> 0 | X57: =ROUND(SUMIFS($K$19:$K$50, $C$19:$C$50,X$53,$A$19:$A$50,$T57),2) -> 0 | Y57: =ROUND(SUMIFS($K$19:$K$50, $C$19:$C$50,Y$53,$A$19:$A$50,$T57),2) -> 0 | Z57: =ROUND(SUM(U57:Y57)*0.07,2) -> 0 | AA57: =SUMIFS($N$19:$N$50, $C$19:$C$50,$R$54,$A$19:$A$50,$T57) -> 0 | AB57: =SUMIFS($N$19:$N$50, $C$19:$C$50,$R$55,$A$19:$A$50,$T57) -> 0 | AC57: =T57 -> Δ.4
Q58: =SUMIFS($K$19:$K$50, $C$19:$C$50, "C") -> 0 | R58: C | T58: =N5 -> Δ.5 | U58: =ROUND(SUMIFS($K$19:$K$50, $C$19:$C$50,U$53,$A$19:$A$50,$T58),2) -> 0 | V58: =ROUND(SUMIFS($K$19:$K$50, $C$19:$C$50,V$53,$A$19:$A$50,$T58),2) -> 0 | W58: =ROUND(SUMIFS($K$19:$K$50, $C$19:$C$50,W$53,$A$19:$A$50,$T58),2) -> 0 | X58: =ROUND(SUMIFS($K$19:$K$50, $C$19:$C$50,X$53,$A$19:$A$50,$T58),2) -> 0 | Y58: =ROUND(SUMIFS($K$19:$K$50, $C$19:$C$50,Y$53,$A$19:$A$50,$T58),2) -> 0 | Z58: =ROUND(SUM(U58:Y58)*0.07,2) -> 0 | AA58: =SUMIFS($N$19:$N$50, $C$19:$C$50,$R$54,$A$19:$A$50,$T58) -> 0 | AB58: =SUMIFS($N$19:$N$50, $C$19:$C$50,$R$55,$A$19:$A$50,$T58) -> 0 | AC58: =T58 -> Δ.5
Q59: =SUM(Q54:Q58)*0.07 -> 0 | R59: D | T59: =N6 -> Δ.6 | U59: =ROUND(SUMIFS($K$19:$K$50, $C$19:$C$50,U$53,$A$19:$A$50,$T59),2) -> 0 | V59: =ROUND(SUMIFS($K$19:$K$50, $C$19:$C$50,V$53,$A$19:$A$50,$T59),2) -> 0 | W59: =ROUND(SUMIFS($K$19:$K$50, $C$19:$C$50,W$53,$A$19:$A$50,$T59),2) -> 0 | X59: =ROUND(SUMIFS($K$19:$K$50, $C$19:$C$50,X$53,$A$19:$A$50,$T59),2) -> 0 | Y59: =ROUND(SUMIFS($K$19:$K$50, $C$19:$C$50,Y$53,$A$19:$A$50,$T59),2) -> 0 | Z59: =ROUND(SUM(U59:Y59)*0.07,2) -> 0 | AA59: =SUMIFS($N$19:$N$50, $C$19:$C$50,$R$54,$A$19:$A$50,$T59) -> 0 | AB59: =SUMIFS($N$19:$N$50, $C$19:$C$50,$R$55,$A$19:$A$50,$T59) -> 0 | AC59: =T59 -> Δ.6
T60: =N7 -> Δ.7 | U60: =ROUND(SUMIFS($K$19:$K$50, $C$19:$C$50,U$53,$A$19:$A$50,$T60),2) -> 0 | V60: =ROUND(SUMIFS($K$19:$K$50, $C$19:$C$50,V$53,$A$19:$A$50,$T60),2) -> 0 | W60: =ROUND(SUMIFS($K$19:$K$50, $C$19:$C$50,W$53,$A$19:$A$50,$T60),2) -> 0 | X60: =ROUND(SUMIFS($K$19:$K$50, $C$19:$C$50,X$53,$A$19:$A$50,$T60),2) -> 0 | Y60: =ROUND(SUMIFS($K$19:$K$50, $C$19:$C$50,Y$53,$A$19:$A$50,$T60),2) -> 0 | Z60: =ROUND(SUM(U60:Y60)*0.07,2) -> 0 | AA60: =SUMIFS($N$19:$N$50, $C$19:$C$50,$R$54,$A$19:$A$50,$T60) -> 0 | AB60: =SUMIFS($N$19:$N$50, $C$19:$C$50,$R$55,$A$19:$A$50,$T60) -> 0 | AC60: =T60 -> Δ.7
T61: =N8 -> Δ.8 | U61: =ROUND(SUMIFS($K$19:$K$50, $C$19:$C$50,U$53,$A$19:$A$50,$T61),2) -> 0 | V61: =ROUND(SUMIFS($K$19:$K$50, $C$19:$C$50,V$53,$A$19:$A$50,$T61),2) -> 0 | W61: =ROUND(SUMIFS($K$19:$K$50, $C$19:$C$50,W$53,$A$19:$A$50,$T61),2) -> 0 | X61: =ROUND(SUMIFS($K$19:$K$50, $C$19:$C$50,X$53,$A$19:$A$50,$T61),2) -> 0 | Y61: =ROUND(SUMIFS($K$19:$K$50, $C$19:$C$50,Y$53,$A$19:$A$50,$T61),2) -> 0 | Z61: =ROUND(SUM(U61:Y61)*0.07,2) -> 0 | AA61: =SUMIFS($N$19:$N$50, $C$19:$C$50,$R$54,$A$19:$A$50,$T61) -> 0 | AB61: =SUMIFS($N$19:$N$50, $C$19:$C$50,$R$55,$A$19:$A$50,$T61) -> 0 | AC61: =T61 -> Δ.8
R62: A1 | S62: Κόστος προσωπικού | T62: =N9 -> Δ.9 | U62: =ROUND(SUMIFS($K$19:$K$50, $C$19:$C$50,U$53,$A$19:$A$50,$T62),2) -> 0 | V62: =ROUND(SUMIFS($K$19:$K$50, $C$19:$C$50,V$53,$A$19:$A$50,$T62),2) -> 0 | W62: =ROUND(SUMIFS($K$19:$K$50, $C$19:$C$50,W$53,$A$19:$A$50,$T62),2) -> 0 | X62: =ROUND(SUMIFS($K$19:$K$50, $C$19:$C$50,X$53,$A$19:$A$50,$T62),2) -> 0 | Y62: =ROUND(SUMIFS($K$19:$K$50, $C$19:$C$50,Y$53,$A$19:$A$50,$T62),2) -> 0 | Z62: =ROUND(SUM(U62:Y62)*0.07,2) -> 0 | AA62: =SUMIFS($N$19:$N$50, $C$19:$C$50,$R$54,$A$19:$A$50,$T62) -> 0 | AB62: =SUMIFS($N$19:$N$50, $C$19:$C$50,$R$55,$A$19:$A$50,$T62) -> 0 | AC62: =T62 -> Δ.9
R63: A2 | S63: Επαγγελματίες | T63: =N10 -> Δ.10 | U63: =ROUND(SUMIFS($K$19:$K$50, $C$19:$C$50,U$53,$A$19:$A$50,$T63),2) -> 0 | V63: =ROUND(SUMIFS($K$19:$K$50, $C$19:$C$50,V$53,$A$19:$A$50,$T63),2) -> 0 | W63: =ROUND(SUMIFS($K$19:$K$50, $C$19:$C$50,W$53,$A$19:$A$50,$T63),2) -> 0 | X63: =ROUND(SUMIFS($K$19:$K$50, $C$19:$C$50,X$53,$A$19:$A$50,$T63),2) -> 0 | Y63: =ROUND(SUMIFS($K$19:$K$50, $C$19:$C$50,Y$53,$A$19:$A$50,$T63),2) -> 0 | Z63: =ROUND(SUM(U63:Y63)*0.07,2) -> 0 | AA63: =SUMIFS($N$19:$N$50, $C$19:$C$50,$R$54,$A$19:$A$50,$T63) -> 0 | AB63: =SUMIFS($N$19:$N$50, $C$19:$C$50,$R$55,$A$19:$A$50,$T63) -> 0 | AC63: =T63 -> Δ.10
R64: B1 | S64: Ταξίδια | T64: =N11 -> 0 | U64: =ROUND(SUMIFS($K$19:$K$50, $C$19:$C$50,U$53,$A$19:$A$50,$T64),2) -> 0 | V64: =ROUND(SUMIFS($K$19:$K$50, $C$19:$C$50,V$53,$A$19:$A$50,$T64),2) -> 0 | W64: =ROUND(SUMIFS($K$19:$K$50, $C$19:$C$50,W$53,$A$19:$A$50,$T64),2) -> 0 | X64: =ROUND(SUMIFS($K$19:$K$50, $C$19:$C$50,X$53,$A$19:$A$50,$T64),2) -> 0 | Y64: =ROUND(SUMIFS($K$19:$K$50, $C$19:$C$50,Y$53,$A$19:$A$50,$T64),2) -> 0 | Z64: =ROUND(SUM(U64:Y64)*0.07,2) -> 0 | AA64: =SUMIFS($N$19:$N$50, $C$19:$C$50,$R$54,$A$19:$A$50,$T64) -> 0 | AB64: =SUMIFS($N$19:$N$50, $C$19:$C$50,$R$55,$A$19:$A$50,$T64) -> 0 | AC64: =T64 -> 0
R65: B2 | S65: Λοιπές δαπάνες | T65: =N12 -> 0 | U65: =ROUND(SUMIFS($K$19:$K$50, $C$19:$C$50,U$53,$A$19:$A$50,$T65),2) -> 0 | V65: =ROUND(SUMIFS($K$19:$K$50, $C$19:$C$50,V$53,$A$19:$A$50,$T65),2) -> 0 | W65: =ROUND(SUMIFS($K$19:$K$50, $C$19:$C$50,W$53,$A$19:$A$50,$T65),2) -> 0 | X65: =ROUND(SUMIFS($K$19:$K$50, $C$19:$C$50,X$53,$A$19:$A$50,$T65),2) -> 0 | Y65: =ROUND(SUMIFS($K$19:$K$50, $C$19:$C$50,Y$53,$A$19:$A$50,$T65),2) -> 0 | Z65: =ROUND(SUM(U65:Y65)*0.07,2) -> 0 | AA65: =SUMIFS($N$19:$N$50, $C$19:$C$50,$R$54,$A$19:$A$50,$T65) -> 0 | AB65: =SUMIFS($N$19:$N$50, $C$19:$C$50,$R$55,$A$19:$A$50,$T65) -> 0 | AC65: =T65 -> 0
R66: C | S66: Ανακατασκευή | T66: =N13 -> 0 | U66: =ROUND(SUMIFS($K$19:$K$50, $C$19:$C$50,U$53,$A$19:$A$50,$T66),2) -> 0 | V66: =ROUND(SUMIFS($K$19:$K$50, $C$19:$C$50,V$53,$A$19:$A$50,$T66),2) -> 0 | W66: =ROUND(SUMIFS($K$19:$K$50, $C$19:$C$50,W$53,$A$19:$A$50,$T66),2) -> 0 | X66: =ROUND(SUMIFS($K$19:$K$50, $C$19:$C$50,X$53,$A$19:$A$50,$T66),2) -> 0 | Y66: =ROUND(SUMIFS($K$19:$K$50, $C$19:$C$50,Y$53,$A$19:$A$50,$T66),2) -> 0 | Z66: =ROUND(SUM(U66:Y66)*0.07,2) -> 0 | AA66: =SUMIFS($N$19:$N$50, $C$19:$C$50,$R$54,$A$19:$A$50,$T66) -> 0 | AB66: =SUMIFS($N$19:$N$50, $C$19:$C$50,$R$55,$A$19:$A$50,$T66) -> 0 | AC66: =T66 -> 0
R67: D | S67: Έμμεσες δαπάνες | T67: =N14 -> 0 | U67: =ROUND(SUMIFS($K$19:$K$50, $C$19:$C$50,U$53,$A$19:$A$50,$T67),2) -> 0 | V67: =ROUND(SUMIFS($K$19:$K$50, $C$19:$C$50,V$53,$A$19:$A$50,$T67),2) -> 0 | W67: =ROUND(SUMIFS($K$19:$K$50, $C$19:$C$50,W$53,$A$19:$A$50,$T67),2) -> 0 | X67: =ROUND(SUMIFS($K$19:$K$50, $C$19:$C$50,X$53,$A$19:$A$50,$T67),2) -> 0 | Y67: =ROUND(SUMIFS($K$19:$K$50, $C$19:$C$50,Y$53,$A$19:$A$50,$T67),2) -> 0 | Z67: =ROUND(SUM(U67:Y67)*0.07,2) -> 0 | AA67: =SUMIFS($N$19:$N$50, $C$19:$C$50,$R$54,$A$19:$A$50,$T67) -> 0 | AB67: =SUMIFS($N$19:$N$50, $C$19:$C$50,$R$55,$A$19:$A$50,$T67) -> 0 | AC67: =T67 -> 0
S69: =O3 -> - Ημέρες διαμονής (ταξίδια)
S70: =O4 -> - Ημέρες διατροφής (ταξίδια)
S71: =O5 -> - Τεμάχια
S72: =O6 -> - Υπηρεσία
AB74: =SUM(U54:Z67) -> 0

Sheet Σύνολα προϋπολογισμών ανά Δράση
A1: Σύνολα προϋπολογισμών ανά Δράση
A2: No Δράσης | B2: Τύπος Δράσης | C2: Δαπάνες
C3: A1. Κόστος προσωπικού | E3: Β1. Ταξίδια | F3: B.2 Λοιπές Δαπάνες, Αγορές και Υπηρεσίες | G3: C. Ανακατασκευής - ανακαίνισης ακινήτου | H3: D. Έμμεσες δαπάνες (7%) | I3: Συνολικές επιλέξιμες δαπάνες ανά δράση | J3: Συνολικές επιλέξιμες δαπάνες ανά πακέτο Εργασίας
C4: Α2. Υπάλληλοι και Ελ. Επαγγελματίες | E4: Ταξίδια
C5: Μήνες | D5: € | E5: € | F5: € | G5: € | H5: € | I5: € | J5: €
A6: =+'Τίτλοι Δράσεων'!B8 -> Δ.1 | B6: =+'Τίτλοι Δράσεων'!C8 -> 0 | C6: =+Δράσεις!AA54+Δράσεις!AB54 -> 0 | D6: =+Δράσεις!U54+Δράσεις!V54 -> 0 | E6: =+Δράσεις!W54 -> 0 | F6: =+Δράσεις!X54 -> 0 | G6: =+Δράσεις!Y54 -> 0 | H6: =+Δράσεις!Z54 -> 0 | I6: =ROUND(SUM(D6:H6),2) -> 0 | J6: =ROUND(SUM(I6:I15),2) -> 0
A7: =+'Τίτλοι Δράσεων'!B9 -> Δ.2 | B7: =+'Τίτλοι Δράσεων'!C9 -> 0 | C7: =+Δράσεις!AA55+Δράσεις!AB55 -> 0 | D7: =+Δράσεις!U55+Δράσεις!V55 -> 0 | E7: =+Δράσεις!W55 -> 0 | F7: =+Δράσεις!X55 -> 0 | G7: =+Δράσεις!Y55 -> 0 | H7: =+Δράσεις!Z55 -> 0 | I7: =ROUND(SUM(D7:H7),2) -> 0
A8: =+'Τίτλοι Δράσεων'!B10 -> Δ.3 | B8: =+'Τίτλοι Δράσεων'!C10 -> 0 | C8: =+Δράσεις!AA56+Δράσεις!AB56 -> 0 | D8: =+Δράσεις!U56+Δράσεις!V56 -> 0 | E8: =+Δράσεις!W56 -> 0 | F8: =+Δράσεις!X56 -> 0 | G8: =+Δράσεις!Y56 -> 0 | H8: =+Δράσεις!Z56 -> 0 | I8: =ROUND(SUM(D8:H8),2) -> 0
A9: =+'Τίτλοι Δράσεων'!B11 -> Δ.4 | B9: =+'Τίτλοι Δράσεων'!C11 -> 0 | C9: =+Δράσεις!AA57+Δράσεις!AB57 -> 0 | D9: =+Δράσεις!U57+Δράσεις!V57 -> 0 | E9: =+Δράσεις!W57 -> 0 | F9: =+Δράσεις!X57 -> 0 | G9: =+Δράσεις!Y57 -> 0 | H9: =+Δράσεις!Z57 -> 0 | I9: =ROUND(SUM(D9:H9),2) -> 0
A10: =+'Τίτλοι Δράσεων'!B12 -> Δ.5 | B10: =+'Τίτλοι Δράσεων'!C12 -> 0 | C10: =+Δράσεις!AA58+Δράσεις!AB58 -> 0 | D10: =+Δράσεις!U58+Δράσεις!V58 -> 0 | E10: =+Δράσεις!W58 -> 0 | F10: =+Δράσεις!X58 -> 0 | G10: =+Δράσεις!Y58 -> 0 | H10: =+Δράσεις!Z58 -> 0 | I10: =ROUND(SUM(D10:H10),2) -> 0
A11: =+'Τίτλοι Δράσεων'!B13 -> Δ.6 | B11: =+'Τίτλοι Δράσεων'!C13 -> 0 | C11: =+Δράσεις!AA59+Δράσεις!AB59 -> 0 | D11: =+Δράσεις!U59+Δράσεις!V59 -> 0 | E11: =+Δράσεις!W59 -> 0 | F11: =+Δράσεις!X59 -> 0 | G11: =+Δράσεις!Y59 -> 0 | H11: =+Δράσεις!Z59 -> 0 | I11: =ROUND(SUM(D11:H11),2) -> 0
A12: =+'Τίτλοι Δράσεων'!B14 -> Δ.7 | B12: =+'Τίτλοι Δράσεων'!C14 -> 0 | C12: =+Δράσεις!AA60+Δράσεις!AB60 -> 0 | D12: =+Δράσεις!U60+Δράσεις!V60 -> 0 | E12: =+Δράσεις!W60 -> 0 | F12: =+Δράσεις!X60 -> 0 | G12: =+Δράσεις!Y60 -> 0 | H12: =+Δράσεις!Z60 -> 0 | I12: =ROUND(SUM(D12:H12),2) -> 0
A13: =+'Τίτλοι Δράσεων'!B15 -> Δ.8 | B13: =+'Τίτλοι Δράσεων'!C15 -> 0 | C13: =+Δράσεις!AA61+Δράσεις!AB61 -> 0 | D13: =+Δράσεις!U61+Δράσεις!V61 -> 0 | E13: =+Δράσεις!W61 -> 0 | F13: =+Δράσεις!X61 -> 0 | G13: =+Δράσεις!Y61 -> 0 | H13: =+Δράσεις!Z61 -> 0 | I13: =ROUND(SUM(D13:H13),2) -> 0
A14: =+'Τίτλοι Δράσεων'!B16 -> Δ.9 | B14: =+'Τίτλοι Δράσεων'!C16 -> 0 | C14: =+Δράσεις!AA62+Δράσεις!AB62 -> 0 | D14: =+Δράσεις!U62+Δράσεις!V62 -> 0 | E14: =+Δράσεις!W62 -> 0 | F14: =+Δράσεις!X62 -> 0 | G14: =+Δράσεις!Y62 -> 0 | H14: =+Δράσεις!Z62 -> 0 | I14: =ROUND(SUM(D14:H14),2) -> 0
A15: =+'Τίτλοι Δράσεων'!B17 -> Δ.10 | B15: =+'Τίτλοι Δράσεων'!C17 -> 0 | C15: =+Δράσεις!AA63+Δράσεις!AB63 -> 0 | D15: =+Δράσεις!U63+Δράσεις!V63 -> 0 | E15: =+Δράσεις!W63 -> 0 | F15: =+Δράσεις!X63 -> 0 | G15: =+Δράσεις!Y63 -> 0 | H15: =+Δράσεις!Z63 -> 0 | I15: =ROUND(SUM(D15:H15),2) -> 0
A16: Σύνολα | C16: =SUM(C6:C15) -> 0 | D16: =SUM(D6:D15) -> 0 | E16: =SUM(E6:E15) -> 0 | F16: =SUM(F6:F15) -> 0 | G16: =SUM(G6:G15) -> 0 | H16: =SUM(H6:H15) -> 0 | I16: =SUM(I6:I15) -> 0 | J16: =SUM(J6:J15) -> 0
